BEGIN:VCALENDAR
VERSION:2.0
PRODID:-//ST PAUL COPTIC - ECPv6.15.12.2//NONSGML v1.0//EN
CALSCALE:GREGORIAN
METHOD:PUBLISH
X-WR-CALNAME:ST PAUL COPTIC
X-ORIGINAL-URL:https://stpaulcoptic.ca
X-WR-CALDESC:Events for ST PAUL COPTIC
REFRESH-INTERVAL;VALUE=DURATION:PT1H
X-Robots-Tag:noindex
X-PUBLISHED-TTL:PT1H
BEGIN:VTIMEZONE
TZID:America/Toronto
BEGIN:DAYLIGHT
TZOFFSETFROM:-0500
TZOFFSETTO:-0400
TZNAME:EDT
DTSTART:20230312T070000
END:DAYLIGHT
BEGIN:STANDARD
TZOFFSETFROM:-0400
TZOFFSETTO:-0500
TZNAME:EST
DTSTART:20231105T060000
END:STANDARD
BEGIN:DAYLIGHT
TZOFFSETFROM:-0500
TZOFFSETTO:-0400
TZNAME:EDT
DTSTART:20240310T070000
END:DAYLIGHT
BEGIN:STANDARD
TZOFFSETFROM:-0400
TZOFFSETTO:-0500
TZNAME:EST
DTSTART:20241103T060000
END:STANDARD
BEGIN:DAYLIGHT
TZOFFSETFROM:-0500
TZOFFSETTO:-0400
TZNAME:EDT
DTSTART:20250309T070000
END:DAYLIGHT
BEGIN:STANDARD
TZOFFSETFROM:-0400
TZOFFSETTO:-0500
TZNAME:EST
DTSTART:20251102T060000
END:STANDARD
END:VTIMEZONE
BEGIN:VEVENT
DTSTART;TZID=America/Toronto:20240106T080000
DTEND;TZID=America/Toronto:20240106T100000
DTSTAMP:20260421T163523
CREATED:20240105T145820Z
LAST-MODIFIED:20240105T150827Z
UID:10002251-1704528000-1704535200@stpaulcoptic.ca
SUMMARY:Liturgy - Paramon of the Feast of Nativity
DESCRIPTION:قداس برامون عيد الميلاد
URL:https://stpaulcoptic.ca/events/liturgy-6/
END:VEVENT
BEGIN:VEVENT
DTSTART;TZID=America/Toronto:20240106T190000
DTEND;TZID=America/Toronto:20240106T235500
DTSTAMP:20260421T163523
CREATED:20240105T150402Z
LAST-MODIFIED:20240105T150403Z
UID:10002253-1704567600-1704585300@stpaulcoptic.ca
SUMMARY:Feast of Nativity - قداس عيد الميلاد
DESCRIPTION:
URL:https://stpaulcoptic.ca/events/feast-of-nativity-%d9%82%d8%af%d8%a7%d8%b3-%d8%b9%d9%8a%d8%af-%d8%a7%d9%84%d9%85%d9%8a%d9%84%d8%a7%d8%af/
END:VEVENT
END:VCALENDAR