BEGIN:VCALENDAR
VERSION:2.0
PRODID:-//ST PAUL COPTIC - ECPv6.15.12.2//NONSGML v1.0//EN
CALSCALE:GREGORIAN
METHOD:PUBLISH
X-ORIGINAL-URL:https://stpaulcoptic.ca
X-WR-CALDESC:Events for ST PAUL COPTIC
REFRESH-INTERVAL;VALUE=DURATION:PT1H
X-Robots-Tag:noindex
X-PUBLISHED-TTL:PT1H
BEGIN:VTIMEZONE
TZID:America/Toronto
BEGIN:DAYLIGHT
TZOFFSETFROM:-0500
TZOFFSETTO:-0400
TZNAME:EDT
DTSTART:20230312T070000
END:DAYLIGHT
BEGIN:STANDARD
TZOFFSETFROM:-0400
TZOFFSETTO:-0500
TZNAME:EST
DTSTART:20231105T060000
END:STANDARD
BEGIN:DAYLIGHT
TZOFFSETFROM:-0500
TZOFFSETTO:-0400
TZNAME:EDT
DTSTART:20240310T070000
END:DAYLIGHT
BEGIN:STANDARD
TZOFFSETFROM:-0400
TZOFFSETTO:-0500
TZNAME:EST
DTSTART:20241103T060000
END:STANDARD
BEGIN:DAYLIGHT
TZOFFSETFROM:-0500
TZOFFSETTO:-0400
TZNAME:EDT
DTSTART:20250309T070000
END:DAYLIGHT
BEGIN:STANDARD
TZOFFSETFROM:-0400
TZOFFSETTO:-0500
TZNAME:EST
DTSTART:20251102T060000
END:STANDARD
END:VTIMEZONE
BEGIN:VEVENT
DTSTART;TZID=America/Toronto:20240211T083000
DTEND;TZID=America/Toronto:20240211T113000
DTSTAMP:20260421T210158
CREATED:20231218T201920Z
LAST-MODIFIED:20231220T045034Z
UID:10000288-1707640200-1707651000@stpaulcoptic.ca
SUMMARY:Liturgy
DESCRIPTION:
URL:https://stpaulcoptic.ca/events/liturgy/2024-02-11/
ATTACH;FMTTYPE=image/jpeg:https://stpaulcoptic.ca/wp-content/uploads/2023/12/liturgy-391x260-1.jpg
END:VEVENT
BEGIN:VEVENT
DTSTART;TZID=America/Toronto:20240211T083000
DTEND;TZID=America/Toronto:20240211T113000
DTSTAMP:20260421T210158
CREATED:20240125T024108Z
LAST-MODIFIED:20240207T045538Z
UID:10002529-1707640200-1707651000@stpaulcoptic.ca
SUMMARY:Liturgy
DESCRIPTION:
URL:https://stpaulcoptic.ca/events/liturgy-10/
ATTACH;FMTTYPE=image/jpeg:https://stpaulcoptic.ca/wp-content/uploads/2023/12/liturgy-391x260-1.jpg
END:VEVENT
BEGIN:VEVENT
DTSTART;TZID=America/Toronto:20240211T120000
DTEND;TZID=America/Toronto:20240211T133000
DTSTAMP:20260421T210158
CREATED:20231218T204223Z
LAST-MODIFIED:20231220T192941Z
UID:10000028-1707652800-1707658200@stpaulcoptic.ca
SUMMARY:Bible Study
DESCRIPTION:
URL:https://stpaulcoptic.ca/events/bible-study/2024-02-11/
ATTACH;FMTTYPE=image/jpeg:https://stpaulcoptic.ca/wp-content/uploads/2023/12/Bible-sudy.jpg
END:VEVENT
END:VCALENDAR