BEGIN:VCALENDAR
VERSION:2.0
PRODID:-//ST PAUL COPTIC - ECPv6.15.12.2//NONSGML v1.0//EN
CALSCALE:GREGORIAN
METHOD:PUBLISH
X-ORIGINAL-URL:https://stpaulcoptic.ca
X-WR-CALDESC:Events for ST PAUL COPTIC
REFRESH-INTERVAL;VALUE=DURATION:PT1H
X-Robots-Tag:noindex
X-PUBLISHED-TTL:PT1H
BEGIN:VTIMEZONE
TZID:America/Toronto
BEGIN:DAYLIGHT
TZOFFSETFROM:-0500
TZOFFSETTO:-0400
TZNAME:EDT
DTSTART:20230312T070000
END:DAYLIGHT
BEGIN:STANDARD
TZOFFSETFROM:-0400
TZOFFSETTO:-0500
TZNAME:EST
DTSTART:20231105T060000
END:STANDARD
BEGIN:DAYLIGHT
TZOFFSETFROM:-0500
TZOFFSETTO:-0400
TZNAME:EDT
DTSTART:20240310T070000
END:DAYLIGHT
BEGIN:STANDARD
TZOFFSETFROM:-0400
TZOFFSETTO:-0500
TZNAME:EST
DTSTART:20241103T060000
END:STANDARD
BEGIN:DAYLIGHT
TZOFFSETFROM:-0500
TZOFFSETTO:-0400
TZNAME:EDT
DTSTART:20250309T070000
END:DAYLIGHT
BEGIN:STANDARD
TZOFFSETFROM:-0400
TZOFFSETTO:-0500
TZNAME:EST
DTSTART:20251102T060000
END:STANDARD
END:VTIMEZONE
BEGIN:VEVENT
DTSTART;TZID=America/Toronto:20240301T053000
DTEND;TZID=America/Toronto:20240301T073000
DTSTAMP:20260424T083925
CREATED:20240227T031755Z
LAST-MODIFIED:20240227T031758Z
UID:10001071-1709271000-1709278200@stpaulcoptic.ca
SUMMARY:Liturgy (Canceled)
DESCRIPTION:
URL:https://stpaulcoptic.ca/events/liturgy-20/
ATTACH;FMTTYPE=image/jpeg:https://stpaulcoptic.ca/wp-content/uploads/2023/12/liturgy-391x260-1.jpg
END:VEVENT
BEGIN:VEVENT
DTSTART;TZID=America/Toronto:20240301T190000
DTEND;TZID=America/Toronto:20240301T203000
DTSTAMP:20260424T083925
CREATED:20231218T204117Z
LAST-MODIFIED:20240815T023605Z
UID:10000811-1709319600-1709325000@stpaulcoptic.ca
SUMMARY:Sunday School
DESCRIPTION:
URL:https://stpaulcoptic.ca/events/sunday-school/2024-03-01/
ATTACH;FMTTYPE=image/png:https://stpaulcoptic.ca/wp-content/uploads/2020/04/Sunday-School.png
END:VEVENT
END:VCALENDAR