BEGIN:VCALENDAR
VERSION:2.0
PRODID:-//ST PAUL COPTIC - ECPv6.15.12.2//NONSGML v1.0//EN
CALSCALE:GREGORIAN
METHOD:PUBLISH
X-WR-CALNAME:ST PAUL COPTIC
X-ORIGINAL-URL:https://stpaulcoptic.ca
X-WR-CALDESC:Events for ST PAUL COPTIC
REFRESH-INTERVAL;VALUE=DURATION:PT1H
X-Robots-Tag:noindex
X-PUBLISHED-TTL:PT1H
BEGIN:VTIMEZONE
TZID:America/Toronto
BEGIN:DAYLIGHT
TZOFFSETFROM:-0500
TZOFFSETTO:-0400
TZNAME:EDT
DTSTART:20230312T070000
END:DAYLIGHT
BEGIN:STANDARD
TZOFFSETFROM:-0400
TZOFFSETTO:-0500
TZNAME:EST
DTSTART:20231105T060000
END:STANDARD
BEGIN:DAYLIGHT
TZOFFSETFROM:-0500
TZOFFSETTO:-0400
TZNAME:EDT
DTSTART:20240310T070000
END:DAYLIGHT
BEGIN:STANDARD
TZOFFSETFROM:-0400
TZOFFSETTO:-0500
TZNAME:EST
DTSTART:20241103T060000
END:STANDARD
BEGIN:DAYLIGHT
TZOFFSETFROM:-0500
TZOFFSETTO:-0400
TZNAME:EDT
DTSTART:20250309T070000
END:DAYLIGHT
BEGIN:STANDARD
TZOFFSETFROM:-0400
TZOFFSETTO:-0500
TZNAME:EST
DTSTART:20251102T060000
END:STANDARD
END:VTIMEZONE
BEGIN:VEVENT
DTSTART;TZID=America/Toronto:20240428T083000
DTEND;TZID=America/Toronto:20240428T130000
DTSTAMP:20260424T133909
CREATED:20240423T221726Z
LAST-MODIFIED:20240423T221734Z
UID:10000299-1714293000-1714309200@stpaulcoptic.ca
SUMMARY:Palm Sunday - أحد الشعانين
DESCRIPTION:دورة السعف \n\n\n\nالقداس الإلهي \n\n\n\nصلاة الجناز
URL:https://stpaulcoptic.ca/events/liturgy-28/
ATTACH;FMTTYPE=image/jpeg:https://stpaulcoptic.ca/wp-content/uploads/2023/12/liturgy-391x260-1.jpg
END:VEVENT
BEGIN:VEVENT
DTSTART;TZID=America/Toronto:20240428T183000
DTEND;TZID=America/Toronto:20240428T210000
DTSTAMP:20260424T133909
CREATED:20240423T221914Z
LAST-MODIFIED:20240428T234857Z
UID:10003563-1714329000-1714338000@stpaulcoptic.ca
SUMMARY:Holy Pascha - البصخة المقدسة
DESCRIPTION:
URL:https://stpaulcoptic.ca/events/monday-of-the-holy-pascha-%d8%a7%d9%84%d8%a8%d8%b5%d8%ae%d8%a9-%d8%a7%d9%84%d9%85%d9%82%d8%af%d8%b3%d8%a9/
END:VEVENT
END:VCALENDAR