BEGIN:VCALENDAR
VERSION:2.0
PRODID:-//ST PAUL COPTIC - ECPv6.15.12.2//NONSGML v1.0//EN
CALSCALE:GREGORIAN
METHOD:PUBLISH
X-ORIGINAL-URL:https://stpaulcoptic.ca
X-WR-CALDESC:Events for ST PAUL COPTIC
REFRESH-INTERVAL;VALUE=DURATION:PT1H
X-Robots-Tag:noindex
X-PUBLISHED-TTL:PT1H
BEGIN:VTIMEZONE
TZID:America/Toronto
BEGIN:DAYLIGHT
TZOFFSETFROM:-0500
TZOFFSETTO:-0400
TZNAME:EDT
DTSTART:20230312T070000
END:DAYLIGHT
BEGIN:STANDARD
TZOFFSETFROM:-0400
TZOFFSETTO:-0500
TZNAME:EST
DTSTART:20231105T060000
END:STANDARD
BEGIN:DAYLIGHT
TZOFFSETFROM:-0500
TZOFFSETTO:-0400
TZNAME:EDT
DTSTART:20240310T070000
END:DAYLIGHT
BEGIN:STANDARD
TZOFFSETFROM:-0400
TZOFFSETTO:-0500
TZNAME:EST
DTSTART:20241103T060000
END:STANDARD
BEGIN:DAYLIGHT
TZOFFSETFROM:-0500
TZOFFSETTO:-0400
TZNAME:EDT
DTSTART:20250309T070000
END:DAYLIGHT
BEGIN:STANDARD
TZOFFSETFROM:-0400
TZOFFSETTO:-0500
TZNAME:EST
DTSTART:20251102T060000
END:STANDARD
END:VTIMEZONE
BEGIN:VEVENT
DTSTART;TZID=America/Toronto:20240102T190000
DTEND;TZID=America/Toronto:20240102T210000
DTSTAMP:20260421T151234
CREATED:20231218T210306Z
LAST-MODIFIED:20231220T193457Z
UID:10001583-1704222000-1704229200@stpaulcoptic.ca
SUMMARY:COCA
DESCRIPTION:Christian Orthodox Campus-Ministry Association
URL:https://stpaulcoptic.ca/events/coca/2024-01-02/
ATTACH;FMTTYPE=image/jpeg:https://stpaulcoptic.ca/wp-content/uploads/2023/12/coca.jpg
END:VEVENT
BEGIN:VEVENT
DTSTART;TZID=America/Toronto:20240103T083000
DTEND;TZID=America/Toronto:20240103T110000
DTSTAMP:20260421T151234
CREATED:20231220T051303Z
LAST-MODIFIED:20240227T022910Z
UID:10001976-1704270600-1704279600@stpaulcoptic.ca
SUMMARY:Liturgy
DESCRIPTION:
URL:https://stpaulcoptic.ca/events/liturgy-3/2024-01-03/
CATEGORIES:Holy Liturgy
ATTACH;FMTTYPE=image/jpeg:https://stpaulcoptic.ca/wp-content/uploads/2023/12/liturgy-391x260-1.jpg
END:VEVENT
BEGIN:VEVENT
DTSTART;TZID=America/Toronto:20240103T083000
DTEND;TZID=America/Toronto:20240103T110000
DTSTAMP:20260421T151234
CREATED:20240227T022930Z
LAST-MODIFIED:20240227T022932Z
UID:10002546-1704270600-1704279600@stpaulcoptic.ca
SUMMARY:Liturgy
DESCRIPTION:
URL:https://stpaulcoptic.ca/events/liturgy-15/2024-01-03/
CATEGORIES:Holy Liturgy
ATTACH;FMTTYPE=image/jpeg:https://stpaulcoptic.ca/wp-content/uploads/2023/12/liturgy-391x260-1.jpg
END:VEVENT
BEGIN:VEVENT
DTSTART;TZID=America/Toronto:20240104T193000
DTEND;TZID=America/Toronto:20240104T210000
DTSTAMP:20260421T151234
CREATED:20231218T210456Z
LAST-MODIFIED:20240227T040650Z
UID:10002971-1704396600-1704402000@stpaulcoptic.ca
SUMMARY:Choir
DESCRIPTION:High School\, University\, Adult
URL:https://stpaulcoptic.ca/events/choir/2024-01-04/
ATTACH;FMTTYPE=image/png:https://stpaulcoptic.ca/wp-content/uploads/2023/12/Choir.png
END:VEVENT
BEGIN:VEVENT
DTSTART;TZID=America/Toronto:20240104T193000
DTEND;TZID=America/Toronto:20240104T210000
DTSTAMP:20260421T151234
CREATED:20231230T230040Z
LAST-MODIFIED:20231230T230041Z
UID:10001323-1704396600-1704402000@stpaulcoptic.ca
SUMMARY:Choir (Canceled)
DESCRIPTION:High School\, University\, Adult
URL:https://stpaulcoptic.ca/events/choir-3/
END:VEVENT
BEGIN:VEVENT
DTSTART;TZID=America/Toronto:20240105T190000
DTEND;TZID=America/Toronto:20240105T203000
DTSTAMP:20260421T151234
CREATED:20231218T204117Z
LAST-MODIFIED:20240815T023605Z
UID:10000803-1704481200-1704486600@stpaulcoptic.ca
SUMMARY:Sunday School
DESCRIPTION:
URL:https://stpaulcoptic.ca/events/sunday-school/2024-01-05/
ATTACH;FMTTYPE=image/png:https://stpaulcoptic.ca/wp-content/uploads/2020/04/Sunday-School.png
END:VEVENT
BEGIN:VEVENT
DTSTART;TZID=America/Toronto:20240106T080000
DTEND;TZID=America/Toronto:20240106T100000
DTSTAMP:20260421T151234
CREATED:20240105T145820Z
LAST-MODIFIED:20240105T150827Z
UID:10002251-1704528000-1704535200@stpaulcoptic.ca
SUMMARY:Liturgy - Paramon of the Feast of Nativity
DESCRIPTION:قداس برامون عيد الميلاد
URL:https://stpaulcoptic.ca/events/liturgy-6/
END:VEVENT
BEGIN:VEVENT
DTSTART;TZID=America/Toronto:20240106T190000
DTEND;TZID=America/Toronto:20240106T235500
DTSTAMP:20260421T151234
CREATED:20240105T150402Z
LAST-MODIFIED:20240105T150403Z
UID:10002253-1704567600-1704585300@stpaulcoptic.ca
SUMMARY:Feast of Nativity - قداس عيد الميلاد
DESCRIPTION:
URL:https://stpaulcoptic.ca/events/feast-of-nativity-%d9%82%d8%af%d8%a7%d8%b3-%d8%b9%d9%8a%d8%af-%d8%a7%d9%84%d9%85%d9%8a%d9%84%d8%a7%d8%af/
END:VEVENT
BEGIN:VEVENT
DTSTART;TZID=America/Toronto:20240107T120000
DTEND;TZID=America/Toronto:20240107T140000
DTSTAMP:20260421T151234
CREATED:20240105T151545Z
LAST-MODIFIED:20240105T151546Z
UID:10002258-1704628800-1704636000@stpaulcoptic.ca
SUMMARY:Sunday School's Feast of Nativity Celebration
DESCRIPTION:
URL:https://stpaulcoptic.ca/events/sunday-schools-feast-of-nativity-celebration/
END:VEVENT
BEGIN:VEVENT
DTSTART;TZID=America/Toronto:20240109T190000
DTEND;TZID=America/Toronto:20240109T210000
DTSTAMP:20260421T151234
CREATED:20231218T210306Z
LAST-MODIFIED:20231220T193457Z
UID:10001584-1704826800-1704834000@stpaulcoptic.ca
SUMMARY:COCA
DESCRIPTION:Christian Orthodox Campus-Ministry Association
URL:https://stpaulcoptic.ca/events/coca/2024-01-09/
ATTACH;FMTTYPE=image/jpeg:https://stpaulcoptic.ca/wp-content/uploads/2023/12/coca.jpg
END:VEVENT
BEGIN:VEVENT
DTSTART;TZID=America/Toronto:20240110T083000
DTEND;TZID=America/Toronto:20240110T110000
DTSTAMP:20260421T151234
CREATED:20231220T051303Z
LAST-MODIFIED:20240227T022910Z
UID:10001977-1704875400-1704884400@stpaulcoptic.ca
SUMMARY:Liturgy
DESCRIPTION:
URL:https://stpaulcoptic.ca/events/liturgy-3/2024-01-10/
CATEGORIES:Holy Liturgy
ATTACH;FMTTYPE=image/jpeg:https://stpaulcoptic.ca/wp-content/uploads/2023/12/liturgy-391x260-1.jpg
END:VEVENT
BEGIN:VEVENT
DTSTART;TZID=America/Toronto:20240110T083000
DTEND;TZID=America/Toronto:20240110T110000
DTSTAMP:20260421T151234
CREATED:20240227T022930Z
LAST-MODIFIED:20240227T022932Z
UID:10002547-1704875400-1704884400@stpaulcoptic.ca
SUMMARY:Liturgy
DESCRIPTION:
URL:https://stpaulcoptic.ca/events/liturgy-15/2024-01-10/
CATEGORIES:Holy Liturgy
ATTACH;FMTTYPE=image/jpeg:https://stpaulcoptic.ca/wp-content/uploads/2023/12/liturgy-391x260-1.jpg
END:VEVENT
BEGIN:VEVENT
DTSTART;TZID=America/Toronto:20240111T193000
DTEND;TZID=America/Toronto:20240111T210000
DTSTAMP:20260421T151234
CREATED:20231218T210456Z
LAST-MODIFIED:20240227T040650Z
UID:10002972-1705001400-1705006800@stpaulcoptic.ca
SUMMARY:Choir
DESCRIPTION:High School\, University\, Adult
URL:https://stpaulcoptic.ca/events/choir/2024-01-11/
ATTACH;FMTTYPE=image/png:https://stpaulcoptic.ca/wp-content/uploads/2023/12/Choir.png
END:VEVENT
BEGIN:VEVENT
DTSTART;TZID=America/Toronto:20240112T190000
DTEND;TZID=America/Toronto:20240112T203000
DTSTAMP:20260421T151234
CREATED:20231218T204117Z
LAST-MODIFIED:20240815T023605Z
UID:10000804-1705086000-1705091400@stpaulcoptic.ca
SUMMARY:Sunday School
DESCRIPTION:
URL:https://stpaulcoptic.ca/events/sunday-school/2024-01-12/
ATTACH;FMTTYPE=image/png:https://stpaulcoptic.ca/wp-content/uploads/2020/04/Sunday-School.png
END:VEVENT
BEGIN:VEVENT
DTSTART;TZID=America/Toronto:20240113T090000
DTEND;TZID=America/Toronto:20240113T110000
DTSTAMP:20260421T151234
CREATED:20240113T172052Z
LAST-MODIFIED:20240113T172053Z
UID:10001845-1705136400-1705143600@stpaulcoptic.ca
SUMMARY:Liturgy
DESCRIPTION:
URL:https://stpaulcoptic.ca/events/liturgy-8/
END:VEVENT
BEGIN:VEVENT
DTSTART;TZID=America/Toronto:20240114T080000
DTEND;TZID=America/Toronto:20240114T110000
DTSTAMP:20260421T151234
CREATED:20240113T171726Z
LAST-MODIFIED:20240113T171727Z
UID:10000284-1705219200-1705230000@stpaulcoptic.ca
SUMMARY:Liturgy
DESCRIPTION:
URL:https://stpaulcoptic.ca/events/liturgy-7/
ATTACH;FMTTYPE=image/jpeg:https://stpaulcoptic.ca/wp-content/uploads/2023/12/liturgy-391x260-1.jpg
END:VEVENT
BEGIN:VEVENT
DTSTART;TZID=America/Toronto:20240114T120000
DTEND;TZID=America/Toronto:20240114T133000
DTSTAMP:20260421T151234
CREATED:20231218T204223Z
LAST-MODIFIED:20231220T192941Z
UID:10000024-1705233600-1705239000@stpaulcoptic.ca
SUMMARY:Bible Study
DESCRIPTION:
URL:https://stpaulcoptic.ca/events/bible-study/2024-01-14/
ATTACH;FMTTYPE=image/jpeg:https://stpaulcoptic.ca/wp-content/uploads/2023/12/Bible-sudy.jpg
END:VEVENT
BEGIN:VEVENT
DTSTART;TZID=America/Toronto:20240116T190000
DTEND;TZID=America/Toronto:20240116T210000
DTSTAMP:20260421T151234
CREATED:20231218T210306Z
LAST-MODIFIED:20231220T193457Z
UID:10001585-1705431600-1705438800@stpaulcoptic.ca
SUMMARY:COCA
DESCRIPTION:Christian Orthodox Campus-Ministry Association
URL:https://stpaulcoptic.ca/events/coca/2024-01-16/
ATTACH;FMTTYPE=image/jpeg:https://stpaulcoptic.ca/wp-content/uploads/2023/12/coca.jpg
END:VEVENT
BEGIN:VEVENT
DTSTART;TZID=America/Toronto:20240118T193000
DTEND;TZID=America/Toronto:20240118T210000
DTSTAMP:20260421T151234
CREATED:20231218T210456Z
LAST-MODIFIED:20240227T040650Z
UID:10002973-1705606200-1705611600@stpaulcoptic.ca
SUMMARY:Choir
DESCRIPTION:High School\, University\, Adult
URL:https://stpaulcoptic.ca/events/choir/2024-01-18/
ATTACH;FMTTYPE=image/png:https://stpaulcoptic.ca/wp-content/uploads/2023/12/Choir.png
END:VEVENT
BEGIN:VEVENT
DTSTART;TZID=America/Toronto:20240119T190000
DTEND;TZID=America/Toronto:20240119T203000
DTSTAMP:20260421T151234
CREATED:20231218T204117Z
LAST-MODIFIED:20240815T023605Z
UID:10003616-1705690800-1705696200@stpaulcoptic.ca
SUMMARY:Sunday School
DESCRIPTION:
URL:https://stpaulcoptic.ca/events/sunday-school/2024-01-19/
ATTACH;FMTTYPE=image/png:https://stpaulcoptic.ca/wp-content/uploads/2020/04/Sunday-School.png
END:VEVENT
BEGIN:VEVENT
DTSTART;TZID=America/Toronto:20240119T193000
DTEND;TZID=America/Toronto:20240119T233000
DTSTAMP:20260421T151234
CREATED:20240117T003400Z
LAST-MODIFIED:20240119T155605Z
UID:10002526-1705692600-1705707000@stpaulcoptic.ca
SUMMARY:Lakan & Epiphany Feast Liturgy - لقان & قداس عيد الغطاس
DESCRIPTION:Followed by Aghaby at the Gathering Hall
URL:https://stpaulcoptic.ca/events/24727/
ATTACH;FMTTYPE=image/jpeg:https://stpaulcoptic.ca/wp-content/uploads/2024/01/efa7bc39-6192-447c-abf0-e9effba88d29.jpg
END:VEVENT
BEGIN:VEVENT
DTSTART;TZID=America/Toronto:20240120T193000
DTEND;TZID=America/Toronto:20240120T200000
DTSTAMP:20260421T151234
CREATED:20240117T002300Z
LAST-MODIFIED:20240117T002301Z
UID:10000545-1705779000-1705780800@stpaulcoptic.ca
SUMMARY:Vespers Prayers
DESCRIPTION:
URL:https://stpaulcoptic.ca/events/vespers-prayers-3/2024-01-20/
END:VEVENT
BEGIN:VEVENT
DTSTART;TZID=America/Toronto:20240121T083000
DTEND;TZID=America/Toronto:20240121T113000
DTSTAMP:20260421T151234
CREATED:20231218T201920Z
LAST-MODIFIED:20231220T045034Z
UID:10000285-1705825800-1705836600@stpaulcoptic.ca
SUMMARY:Liturgy
DESCRIPTION:
URL:https://stpaulcoptic.ca/events/liturgy/2024-01-21/
ATTACH;FMTTYPE=image/jpeg:https://stpaulcoptic.ca/wp-content/uploads/2023/12/liturgy-391x260-1.jpg
END:VEVENT
BEGIN:VEVENT
DTSTART;TZID=America/Toronto:20240121T083000
DTEND;TZID=America/Toronto:20240121T113000
DTSTAMP:20260421T151234
CREATED:20240125T024404Z
LAST-MODIFIED:20240125T024404Z
UID:10002530-1705825800-1705836600@stpaulcoptic.ca
SUMMARY:Liturgy
DESCRIPTION:
URL:https://stpaulcoptic.ca/events/liturgy-11/
ATTACH;FMTTYPE=image/jpeg:https://stpaulcoptic.ca/wp-content/uploads/2023/12/liturgy-391x260-1.jpg
END:VEVENT
BEGIN:VEVENT
DTSTART;TZID=America/Toronto:20240121T120000
DTEND;TZID=America/Toronto:20240121T133000
DTSTAMP:20260421T151234
CREATED:20231218T204223Z
LAST-MODIFIED:20231220T192941Z
UID:10000025-1705838400-1705843800@stpaulcoptic.ca
SUMMARY:Bible Study
DESCRIPTION:
URL:https://stpaulcoptic.ca/events/bible-study/2024-01-21/
ATTACH;FMTTYPE=image/jpeg:https://stpaulcoptic.ca/wp-content/uploads/2023/12/Bible-sudy.jpg
END:VEVENT
BEGIN:VEVENT
DTSTART;TZID=America/Toronto:20240123T190000
DTEND;TZID=America/Toronto:20240123T210000
DTSTAMP:20260421T151234
CREATED:20231218T210306Z
LAST-MODIFIED:20231220T193457Z
UID:10001586-1706036400-1706043600@stpaulcoptic.ca
SUMMARY:COCA
DESCRIPTION:Christian Orthodox Campus-Ministry Association
URL:https://stpaulcoptic.ca/events/coca/2024-01-23/
ATTACH;FMTTYPE=image/jpeg:https://stpaulcoptic.ca/wp-content/uploads/2023/12/coca.jpg
END:VEVENT
BEGIN:VEVENT
DTSTART;TZID=America/Toronto:20240124T083000
DTEND;TZID=America/Toronto:20240124T110000
DTSTAMP:20260421T151234
CREATED:20231220T051303Z
LAST-MODIFIED:20240227T022910Z
UID:10001979-1706085000-1706094000@stpaulcoptic.ca
SUMMARY:Liturgy
DESCRIPTION:
URL:https://stpaulcoptic.ca/events/liturgy-3/2024-01-24/
CATEGORIES:Holy Liturgy
ATTACH;FMTTYPE=image/jpeg:https://stpaulcoptic.ca/wp-content/uploads/2023/12/liturgy-391x260-1.jpg
END:VEVENT
BEGIN:VEVENT
DTSTART;TZID=America/Toronto:20240124T083000
DTEND;TZID=America/Toronto:20240124T110000
DTSTAMP:20260421T151234
CREATED:20240227T022930Z
LAST-MODIFIED:20240227T022932Z
UID:10002548-1706085000-1706094000@stpaulcoptic.ca
SUMMARY:Liturgy
DESCRIPTION:
URL:https://stpaulcoptic.ca/events/liturgy-15/2024-01-24/
CATEGORIES:Holy Liturgy
ATTACH;FMTTYPE=image/jpeg:https://stpaulcoptic.ca/wp-content/uploads/2023/12/liturgy-391x260-1.jpg
END:VEVENT
BEGIN:VEVENT
DTSTART;TZID=America/Toronto:20240125T193000
DTEND;TZID=America/Toronto:20240125T210000
DTSTAMP:20260421T151234
CREATED:20231218T210456Z
LAST-MODIFIED:20240227T040650Z
UID:10002974-1706211000-1706216400@stpaulcoptic.ca
SUMMARY:Choir
DESCRIPTION:High School\, University\, Adult
URL:https://stpaulcoptic.ca/events/choir/2024-01-25/
ATTACH;FMTTYPE=image/png:https://stpaulcoptic.ca/wp-content/uploads/2023/12/Choir.png
END:VEVENT
BEGIN:VEVENT
DTSTART;TZID=America/Toronto:20240125T193000
DTEND;TZID=America/Toronto:20240125T210000
DTSTAMP:20260421T151234
CREATED:20240227T032538Z
LAST-MODIFIED:20240227T032540Z
UID:10001326-1706211000-1706216400@stpaulcoptic.ca
SUMMARY:Choir (Canceled)
DESCRIPTION:High School\, University\, Adult
URL:https://stpaulcoptic.ca/events/choir-5/
END:VEVENT
END:VCALENDAR