BEGIN:VCALENDAR
VERSION:2.0
PRODID:-//ST PAUL COPTIC - ECPv6.15.12.2//NONSGML v1.0//EN
CALSCALE:GREGORIAN
METHOD:PUBLISH
X-WR-CALNAME:ST PAUL COPTIC
X-ORIGINAL-URL:https://stpaulcoptic.ca
X-WR-CALDESC:Events for ST PAUL COPTIC
REFRESH-INTERVAL;VALUE=DURATION:PT1H
X-Robots-Tag:noindex
X-PUBLISHED-TTL:PT1H
BEGIN:VTIMEZONE
TZID:America/Toronto
BEGIN:DAYLIGHT
TZOFFSETFROM:-0500
TZOFFSETTO:-0400
TZNAME:EDT
DTSTART:20230312T070000
END:DAYLIGHT
BEGIN:STANDARD
TZOFFSETFROM:-0400
TZOFFSETTO:-0500
TZNAME:EST
DTSTART:20231105T060000
END:STANDARD
BEGIN:DAYLIGHT
TZOFFSETFROM:-0500
TZOFFSETTO:-0400
TZNAME:EDT
DTSTART:20240310T070000
END:DAYLIGHT
BEGIN:STANDARD
TZOFFSETFROM:-0400
TZOFFSETTO:-0500
TZNAME:EST
DTSTART:20241103T060000
END:STANDARD
BEGIN:DAYLIGHT
TZOFFSETFROM:-0500
TZOFFSETTO:-0400
TZNAME:EDT
DTSTART:20250309T070000
END:DAYLIGHT
BEGIN:STANDARD
TZOFFSETFROM:-0400
TZOFFSETTO:-0500
TZNAME:EST
DTSTART:20251102T060000
END:STANDARD
END:VTIMEZONE
BEGIN:VEVENT
DTSTART;TZID=America/Toronto:20240301T053000
DTEND;TZID=America/Toronto:20240301T073000
DTSTAMP:20260424T101924
CREATED:20240227T031755Z
LAST-MODIFIED:20240227T031758Z
UID:10001071-1709271000-1709278200@stpaulcoptic.ca
SUMMARY:Liturgy (Canceled)
DESCRIPTION:
URL:https://stpaulcoptic.ca/events/liturgy-20/
ATTACH;FMTTYPE=image/jpeg:https://stpaulcoptic.ca/wp-content/uploads/2023/12/liturgy-391x260-1.jpg
END:VEVENT
BEGIN:VEVENT
DTSTART;TZID=America/Toronto:20240301T190000
DTEND;TZID=America/Toronto:20240301T203000
DTSTAMP:20260424T101924
CREATED:20231218T204117Z
LAST-MODIFIED:20240815T023605Z
UID:10000811-1709319600-1709325000@stpaulcoptic.ca
SUMMARY:Sunday School
DESCRIPTION:
URL:https://stpaulcoptic.ca/events/sunday-school/2024-03-01/
ATTACH;FMTTYPE=image/png:https://stpaulcoptic.ca/wp-content/uploads/2020/04/Sunday-School.png
END:VEVENT
BEGIN:VEVENT
DTSTART;TZID=America/Toronto:20240302T160000
DTEND;TZID=America/Toronto:20240302T193000
DTSTAMP:20260424T101924
CREATED:20240227T033857Z
LAST-MODIFIED:20240227T041618Z
UID:10002954-1709395200-1709407800@stpaulcoptic.ca
SUMMARY:Fun Family Day
DESCRIPTION:Hello everyone! With the blessing of the fathers\, we would like to have a family fun day filled with different activities! The day is for the whole family; the kids must have their parents present!We will have a Christian movie\, ping pong\, and board games that families can bring!There will be shawarma beef and chicken to buy\, drinks\, dessert\, and snacks throughout the day that can be purchased. \n\n\n\nPlease fill in the form so we can get numbers of who will attend by Thursday last day to register \n\n\n\nhttps://docs.google.com/forms/d/e/1FAIpQLSdb_GU7dkUWA-sz0uif2Tcew9Eotgpnc2fiRgWHGk8m1CtE-g/viewform
URL:https://stpaulcoptic.ca/events/fun-family-day/
ATTACH;FMTTYPE=image/jpeg:https://stpaulcoptic.ca/wp-content/uploads/2024/02/8b54d945-d37a-4e97-8c44-5b60c8de6df5.jpg
END:VEVENT
BEGIN:VEVENT
DTSTART;TZID=America/Toronto:20240302T193000
DTEND;TZID=America/Toronto:20240302T200000
DTSTAMP:20260424T101924
CREATED:20240117T002300Z
LAST-MODIFIED:20240117T002301Z
UID:10002271-1709407800-1709409600@stpaulcoptic.ca
SUMMARY:Vespers Prayers
DESCRIPTION:
URL:https://stpaulcoptic.ca/events/vespers-prayers-3/2024-03-02/
END:VEVENT
BEGIN:VEVENT
DTSTART;TZID=America/Toronto:20240303T083000
DTEND;TZID=America/Toronto:20240303T113000
DTSTAMP:20260424T101924
CREATED:20231218T201920Z
LAST-MODIFIED:20231220T045034Z
UID:10000291-1709454600-1709465400@stpaulcoptic.ca
SUMMARY:Liturgy
DESCRIPTION:
URL:https://stpaulcoptic.ca/events/liturgy/2024-03-03/
ATTACH;FMTTYPE=image/jpeg:https://stpaulcoptic.ca/wp-content/uploads/2023/12/liturgy-391x260-1.jpg
END:VEVENT
BEGIN:VEVENT
DTSTART;TZID=America/Toronto:20240303T120000
DTEND;TZID=America/Toronto:20240303T133000
DTSTAMP:20260424T101924
CREATED:20231218T204223Z
LAST-MODIFIED:20231220T192941Z
UID:10000031-1709467200-1709472600@stpaulcoptic.ca
SUMMARY:Bible Study
DESCRIPTION:
URL:https://stpaulcoptic.ca/events/bible-study/2024-03-03/
ATTACH;FMTTYPE=image/jpeg:https://stpaulcoptic.ca/wp-content/uploads/2023/12/Bible-sudy.jpg
END:VEVENT
BEGIN:VEVENT
DTSTART;TZID=America/Toronto:20240305T190000
DTEND;TZID=America/Toronto:20240305T210000
DTSTAMP:20260424T101924
CREATED:20231218T210306Z
LAST-MODIFIED:20231220T193457Z
UID:10001592-1709665200-1709672400@stpaulcoptic.ca
SUMMARY:COCA
DESCRIPTION:Christian Orthodox Campus-Ministry Association
URL:https://stpaulcoptic.ca/events/coca/2024-03-05/
ATTACH;FMTTYPE=image/jpeg:https://stpaulcoptic.ca/wp-content/uploads/2023/12/coca.jpg
END:VEVENT
BEGIN:VEVENT
DTSTART;TZID=America/Toronto:20240306T083000
DTEND;TZID=America/Toronto:20240306T110000
DTSTAMP:20260424T101924
CREATED:20240227T022930Z
LAST-MODIFIED:20240227T022932Z
UID:10001985-1709713800-1709722800@stpaulcoptic.ca
SUMMARY:Liturgy
DESCRIPTION:
URL:https://stpaulcoptic.ca/events/liturgy-15/2024-03-06/
CATEGORIES:Holy Liturgy
ATTACH;FMTTYPE=image/jpeg:https://stpaulcoptic.ca/wp-content/uploads/2023/12/liturgy-391x260-1.jpg
END:VEVENT
BEGIN:VEVENT
DTSTART;TZID=America/Toronto:20240307T193000
DTEND;TZID=America/Toronto:20240307T210000
DTSTAMP:20260424T101924
CREATED:20231218T210456Z
LAST-MODIFIED:20240227T040650Z
UID:10001332-1709839800-1709845200@stpaulcoptic.ca
SUMMARY:Choir
DESCRIPTION:High School\, University\, Adult
URL:https://stpaulcoptic.ca/events/choir/2024-03-07/
ATTACH;FMTTYPE=image/png:https://stpaulcoptic.ca/wp-content/uploads/2023/12/Choir.png
END:VEVENT
BEGIN:VEVENT
DTSTART;TZID=America/Toronto:20240308T190000
DTEND;TZID=America/Toronto:20240308T203000
DTSTAMP:20260424T101924
CREATED:20231218T204117Z
LAST-MODIFIED:20240815T023605Z
UID:10000812-1709924400-1709929800@stpaulcoptic.ca
SUMMARY:Sunday School
DESCRIPTION:
URL:https://stpaulcoptic.ca/events/sunday-school/2024-03-08/
ATTACH;FMTTYPE=image/png:https://stpaulcoptic.ca/wp-content/uploads/2020/04/Sunday-School.png
END:VEVENT
BEGIN:VEVENT
DTSTART;TZID=America/Toronto:20240309T090000
DTEND;TZID=America/Toronto:20240309T110000
DTSTAMP:20260424T101924
CREATED:20240227T032235Z
LAST-MODIFIED:20240227T032237Z
UID:10001849-1709974800-1709982000@stpaulcoptic.ca
SUMMARY:Liturgy
DESCRIPTION:
URL:https://stpaulcoptic.ca/events/liturgy-22/2024-03-09/
ATTACH;FMTTYPE=image/jpeg:https://stpaulcoptic.ca/wp-content/uploads/2023/12/liturgy-391x260-1.jpg
END:VEVENT
BEGIN:VEVENT
DTSTART;TZID=America/Toronto:20240309T193000
DTEND;TZID=America/Toronto:20240309T200000
DTSTAMP:20260424T101924
CREATED:20240117T002300Z
LAST-MODIFIED:20240117T002301Z
UID:10002272-1710012600-1710014400@stpaulcoptic.ca
SUMMARY:Vespers Prayers
DESCRIPTION:
URL:https://stpaulcoptic.ca/events/vespers-prayers-3/2024-03-09/
END:VEVENT
BEGIN:VEVENT
DTSTART;TZID=America/Toronto:20240310T083000
DTEND;TZID=America/Toronto:20240310T113000
DTSTAMP:20260424T101924
CREATED:20231218T201920Z
LAST-MODIFIED:20231220T045034Z
UID:10000292-1710059400-1710070200@stpaulcoptic.ca
SUMMARY:Liturgy
DESCRIPTION:
URL:https://stpaulcoptic.ca/events/liturgy/2024-03-10/
ATTACH;FMTTYPE=image/jpeg:https://stpaulcoptic.ca/wp-content/uploads/2023/12/liturgy-391x260-1.jpg
END:VEVENT
BEGIN:VEVENT
DTSTART;TZID=America/Toronto:20240310T120000
DTEND;TZID=America/Toronto:20240310T133000
DTSTAMP:20260424T101924
CREATED:20231218T204223Z
LAST-MODIFIED:20231220T192941Z
UID:10000032-1710072000-1710077400@stpaulcoptic.ca
SUMMARY:Bible Study
DESCRIPTION:
URL:https://stpaulcoptic.ca/events/bible-study/2024-03-10/
ATTACH;FMTTYPE=image/jpeg:https://stpaulcoptic.ca/wp-content/uploads/2023/12/Bible-sudy.jpg
END:VEVENT
BEGIN:VEVENT
DTSTART;TZID=America/Toronto:20240312T190000
DTEND;TZID=America/Toronto:20240312T210000
DTSTAMP:20260424T101924
CREATED:20231218T210306Z
LAST-MODIFIED:20231220T193457Z
UID:10001593-1710270000-1710277200@stpaulcoptic.ca
SUMMARY:COCA
DESCRIPTION:Christian Orthodox Campus-Ministry Association
URL:https://stpaulcoptic.ca/events/coca/2024-03-12/
ATTACH;FMTTYPE=image/jpeg:https://stpaulcoptic.ca/wp-content/uploads/2023/12/coca.jpg
END:VEVENT
BEGIN:VEVENT
DTSTART;TZID=America/Toronto:20240313T083000
DTEND;TZID=America/Toronto:20240313T110000
DTSTAMP:20260424T101924
CREATED:20240227T022930Z
LAST-MODIFIED:20240227T022932Z
UID:10001986-1710318600-1710327600@stpaulcoptic.ca
SUMMARY:Liturgy
DESCRIPTION:
URL:https://stpaulcoptic.ca/events/liturgy-15/2024-03-13/
CATEGORIES:Holy Liturgy
ATTACH;FMTTYPE=image/jpeg:https://stpaulcoptic.ca/wp-content/uploads/2023/12/liturgy-391x260-1.jpg
END:VEVENT
BEGIN:VEVENT
DTSTART;TZID=America/Toronto:20240313T193000
DTEND;TZID=America/Toronto:20240313T210000
DTSTAMP:20260424T101924
CREATED:20240312T022133Z
LAST-MODIFIED:20240320T222815Z
UID:10001333-1710358200-1710363600@stpaulcoptic.ca
SUMMARY:Choir
DESCRIPTION:High School\, University\, Adult
URL:https://stpaulcoptic.ca/events/choir-9/2024-03-13/
ATTACH;FMTTYPE=image/png:https://stpaulcoptic.ca/wp-content/uploads/2023/12/Choir.png
END:VEVENT
BEGIN:VEVENT
DTSTART;TZID=America/Toronto:20240315T190000
DTEND;TZID=America/Toronto:20240315T203000
DTSTAMP:20260424T101924
CREATED:20231218T204117Z
LAST-MODIFIED:20240815T023605Z
UID:10000813-1710529200-1710534600@stpaulcoptic.ca
SUMMARY:Sunday School
DESCRIPTION:
URL:https://stpaulcoptic.ca/events/sunday-school/2024-03-15/
ATTACH;FMTTYPE=image/png:https://stpaulcoptic.ca/wp-content/uploads/2020/04/Sunday-School.png
END:VEVENT
BEGIN:VEVENT
DTSTART;TZID=America/Toronto:20240316T193000
DTEND;TZID=America/Toronto:20240316T200000
DTSTAMP:20260424T101924
CREATED:20240117T002300Z
LAST-MODIFIED:20240117T002301Z
UID:10002273-1710617400-1710619200@stpaulcoptic.ca
SUMMARY:Vespers Prayers
DESCRIPTION:
URL:https://stpaulcoptic.ca/events/vespers-prayers-3/2024-03-16/
END:VEVENT
BEGIN:VEVENT
DTSTART;TZID=America/Toronto:20240317T083000
DTEND;TZID=America/Toronto:20240317T113000
DTSTAMP:20260424T101924
CREATED:20231218T201920Z
LAST-MODIFIED:20231220T045034Z
UID:10000293-1710664200-1710675000@stpaulcoptic.ca
SUMMARY:Liturgy
DESCRIPTION:
URL:https://stpaulcoptic.ca/events/liturgy/2024-03-17/
ATTACH;FMTTYPE=image/jpeg:https://stpaulcoptic.ca/wp-content/uploads/2023/12/liturgy-391x260-1.jpg
END:VEVENT
BEGIN:VEVENT
DTSTART;TZID=America/Toronto:20240317T120000
DTEND;TZID=America/Toronto:20240317T133000
DTSTAMP:20260424T101924
CREATED:20231218T204223Z
LAST-MODIFIED:20231220T192941Z
UID:10000033-1710676800-1710682200@stpaulcoptic.ca
SUMMARY:Bible Study
DESCRIPTION:
URL:https://stpaulcoptic.ca/events/bible-study/2024-03-17/
ATTACH;FMTTYPE=image/jpeg:https://stpaulcoptic.ca/wp-content/uploads/2023/12/Bible-sudy.jpg
END:VEVENT
BEGIN:VEVENT
DTSTART;TZID=America/Toronto:20240318T193000
DTEND;TZID=America/Toronto:20240318T203000
DTSTAMP:20260424T101924
CREATED:20240318T213904Z
LAST-MODIFIED:20240318T213905Z
UID:10003250-1710790200-1710793800@stpaulcoptic.ca
SUMMARY:Feast of the Cross Vespers Prayers
DESCRIPTION:
URL:https://stpaulcoptic.ca/events/feast-of-the-cross-vespers-prayers/
END:VEVENT
BEGIN:VEVENT
DTSTART;TZID=America/Toronto:20240319T083000
DTEND;TZID=America/Toronto:20240319T110000
DTSTAMP:20260424T101924
CREATED:20240318T214154Z
LAST-MODIFIED:20240318T214309Z
UID:10003251-1710837000-1710846000@stpaulcoptic.ca
SUMMARY:Liturgy - Feast of the Cross
DESCRIPTION:
URL:https://stpaulcoptic.ca/events/liturgy-feast-of-the-cross/
CATEGORIES:Holy Liturgy
ATTACH;FMTTYPE=image/png:https://stpaulcoptic.ca/wp-content/uploads/2023/12/image.png
END:VEVENT
BEGIN:VEVENT
DTSTART;TZID=America/Toronto:20240319T190000
DTEND;TZID=America/Toronto:20240319T210000
DTSTAMP:20260424T101924
CREATED:20231218T210306Z
LAST-MODIFIED:20231220T193457Z
UID:10001594-1710874800-1710882000@stpaulcoptic.ca
SUMMARY:COCA
DESCRIPTION:Christian Orthodox Campus-Ministry Association
URL:https://stpaulcoptic.ca/events/coca/2024-03-19/
ATTACH;FMTTYPE=image/jpeg:https://stpaulcoptic.ca/wp-content/uploads/2023/12/coca.jpg
END:VEVENT
BEGIN:VEVENT
DTSTART;TZID=America/Toronto:20240320T103000
DTEND;TZID=America/Toronto:20240320T130000
DTSTAMP:20260424T101924
CREATED:20240318T214450Z
LAST-MODIFIED:20240318T214503Z
UID:10001987-1710930600-1710939600@stpaulcoptic.ca
SUMMARY:Liturgy
DESCRIPTION:
URL:https://stpaulcoptic.ca/events/liturgy-23/
CATEGORIES:Holy Liturgy
ATTACH;FMTTYPE=image/jpeg:https://stpaulcoptic.ca/wp-content/uploads/2023/12/liturgy-391x260-1.jpg
END:VEVENT
BEGIN:VEVENT
DTSTART;TZID=America/Toronto:20240320T193000
DTEND;TZID=America/Toronto:20240320T210000
DTSTAMP:20260424T101924
CREATED:20240320T222651Z
LAST-MODIFIED:20240320T222652Z
UID:10002989-1710963000-1710968400@stpaulcoptic.ca
SUMMARY:Choir (Canceled)
DESCRIPTION:High School\, University\, Adult
URL:https://stpaulcoptic.ca/events/choir-10/
ATTACH;FMTTYPE=image/png:https://stpaulcoptic.ca/wp-content/uploads/2023/12/Choir.png
END:VEVENT
BEGIN:VEVENT
DTSTART;TZID=America/Toronto:20240322T160000
DTEND;TZID=America/Toronto:20240322T183000
DTSTAMP:20260424T101924
CREATED:20240318T214834Z
LAST-MODIFIED:20240318T214852Z
UID:10003255-1711123200-1711132200@stpaulcoptic.ca
SUMMARY:Liturgy
DESCRIPTION:
URL:https://stpaulcoptic.ca/events/liturgy-24/
CATEGORIES:Holy Liturgy
ATTACH;FMTTYPE=image/png:https://stpaulcoptic.ca/wp-content/uploads/2023/12/image.png
END:VEVENT
BEGIN:VEVENT
DTSTART;TZID=America/Toronto:20240322T190000
DTEND;TZID=America/Toronto:20240322T203000
DTSTAMP:20260424T101924
CREATED:20231218T204117Z
LAST-MODIFIED:20240815T023605Z
UID:10000814-1711134000-1711139400@stpaulcoptic.ca
SUMMARY:Sunday School
DESCRIPTION:
URL:https://stpaulcoptic.ca/events/sunday-school/2024-03-22/
ATTACH;FMTTYPE=image/png:https://stpaulcoptic.ca/wp-content/uploads/2020/04/Sunday-School.png
END:VEVENT
BEGIN:VEVENT
DTSTART;TZID=America/Toronto:20240323T090000
DTEND;TZID=America/Toronto:20240323T110000
DTSTAMP:20260424T101924
CREATED:20240227T032235Z
LAST-MODIFIED:20240227T032237Z
UID:10002825-1711184400-1711191600@stpaulcoptic.ca
SUMMARY:Liturgy
DESCRIPTION:
URL:https://stpaulcoptic.ca/events/liturgy-22/2024-03-23/
ATTACH;FMTTYPE=image/jpeg:https://stpaulcoptic.ca/wp-content/uploads/2023/12/liturgy-391x260-1.jpg
END:VEVENT
BEGIN:VEVENT
DTSTART;TZID=America/Toronto:20240323T193000
DTEND;TZID=America/Toronto:20240323T200000
DTSTAMP:20260424T101924
CREATED:20240117T002300Z
LAST-MODIFIED:20240117T002301Z
UID:10002274-1711222200-1711224000@stpaulcoptic.ca
SUMMARY:Vespers Prayers
DESCRIPTION:
URL:https://stpaulcoptic.ca/events/vespers-prayers-3/2024-03-23/
END:VEVENT
END:VCALENDAR