BEGIN:VCALENDAR
VERSION:2.0
PRODID:-//ST PAUL COPTIC - ECPv6.15.12.2//NONSGML v1.0//EN
CALSCALE:GREGORIAN
METHOD:PUBLISH
X-ORIGINAL-URL:https://stpaulcoptic.ca
X-WR-CALDESC:Events for ST PAUL COPTIC
REFRESH-INTERVAL;VALUE=DURATION:PT1H
X-Robots-Tag:noindex
X-PUBLISHED-TTL:PT1H
BEGIN:VTIMEZONE
TZID:America/Toronto
BEGIN:DAYLIGHT
TZOFFSETFROM:-0500
TZOFFSETTO:-0400
TZNAME:EDT
DTSTART:20230312T070000
END:DAYLIGHT
BEGIN:STANDARD
TZOFFSETFROM:-0400
TZOFFSETTO:-0500
TZNAME:EST
DTSTART:20231105T060000
END:STANDARD
BEGIN:DAYLIGHT
TZOFFSETFROM:-0500
TZOFFSETTO:-0400
TZNAME:EDT
DTSTART:20240310T070000
END:DAYLIGHT
BEGIN:STANDARD
TZOFFSETFROM:-0400
TZOFFSETTO:-0500
TZNAME:EST
DTSTART:20241103T060000
END:STANDARD
BEGIN:DAYLIGHT
TZOFFSETFROM:-0500
TZOFFSETTO:-0400
TZNAME:EDT
DTSTART:20250309T070000
END:DAYLIGHT
BEGIN:STANDARD
TZOFFSETFROM:-0400
TZOFFSETTO:-0500
TZNAME:EST
DTSTART:20251102T060000
END:STANDARD
END:VTIMEZONE
BEGIN:VEVENT
DTSTART;TZID=America/Toronto:20240402T190000
DTEND;TZID=America/Toronto:20240402T210000
DTSTAMP:20260424T120822
CREATED:20231218T210306Z
LAST-MODIFIED:20231220T193457Z
UID:10001596-1712084400-1712091600@stpaulcoptic.ca
SUMMARY:COCA
DESCRIPTION:Christian Orthodox Campus-Ministry Association
URL:https://stpaulcoptic.ca/events/coca/2024-04-02/
ATTACH;FMTTYPE=image/jpeg:https://stpaulcoptic.ca/wp-content/uploads/2023/12/coca.jpg
END:VEVENT
BEGIN:VEVENT
DTSTART;TZID=America/Toronto:20240403T083000
DTEND;TZID=America/Toronto:20240403T110000
DTSTAMP:20260424T120822
CREATED:20240227T022930Z
LAST-MODIFIED:20240227T022932Z
UID:10001989-1712133000-1712142000@stpaulcoptic.ca
SUMMARY:Liturgy
DESCRIPTION:
URL:https://stpaulcoptic.ca/events/liturgy-15/2024-04-03/
CATEGORIES:Holy Liturgy
ATTACH;FMTTYPE=image/jpeg:https://stpaulcoptic.ca/wp-content/uploads/2023/12/liturgy-391x260-1.jpg
END:VEVENT
BEGIN:VEVENT
DTSTART;TZID=America/Toronto:20240403T193000
DTEND;TZID=America/Toronto:20240403T210000
DTSTAMP:20260424T120822
CREATED:20240312T022133Z
LAST-MODIFIED:20240320T222815Z
UID:10002991-1712172600-1712178000@stpaulcoptic.ca
SUMMARY:Choir
DESCRIPTION:High School\, University\, Adult
URL:https://stpaulcoptic.ca/events/choir-9/2024-04-03/
ATTACH;FMTTYPE=image/png:https://stpaulcoptic.ca/wp-content/uploads/2023/12/Choir.png
END:VEVENT
BEGIN:VEVENT
DTSTART;TZID=America/Toronto:20240405T190000
DTEND;TZID=America/Toronto:20240405T203000
DTSTAMP:20260424T120822
CREATED:20231218T204117Z
LAST-MODIFIED:20240815T023605Z
UID:10000816-1712343600-1712349000@stpaulcoptic.ca
SUMMARY:Sunday School
DESCRIPTION:
URL:https://stpaulcoptic.ca/events/sunday-school/2024-04-05/
ATTACH;FMTTYPE=image/png:https://stpaulcoptic.ca/wp-content/uploads/2020/04/Sunday-School.png
END:VEVENT
BEGIN:VEVENT
DTSTART;TZID=America/Toronto:20240406T090000
DTEND;TZID=America/Toronto:20240406T110000
DTSTAMP:20260424T120822
CREATED:20240227T032235Z
LAST-MODIFIED:20240227T032237Z
UID:10002826-1712394000-1712401200@stpaulcoptic.ca
SUMMARY:Liturgy
DESCRIPTION:
URL:https://stpaulcoptic.ca/events/liturgy-22/2024-04-06/
ATTACH;FMTTYPE=image/jpeg:https://stpaulcoptic.ca/wp-content/uploads/2023/12/liturgy-391x260-1.jpg
END:VEVENT
BEGIN:VEVENT
DTSTART;TZID=America/Toronto:20240406T193000
DTEND;TZID=America/Toronto:20240406T200000
DTSTAMP:20260424T120822
CREATED:20240117T002300Z
LAST-MODIFIED:20240117T002301Z
UID:10002276-1712431800-1712433600@stpaulcoptic.ca
SUMMARY:Vespers Prayers
DESCRIPTION:
URL:https://stpaulcoptic.ca/events/vespers-prayers-3/2024-04-06/
END:VEVENT
BEGIN:VEVENT
DTSTART;TZID=America/Toronto:20240407T083000
DTEND;TZID=America/Toronto:20240407T113000
DTSTAMP:20260424T120822
CREATED:20231218T201920Z
LAST-MODIFIED:20231220T045034Z
UID:10000296-1712478600-1712489400@stpaulcoptic.ca
SUMMARY:Liturgy
DESCRIPTION:
URL:https://stpaulcoptic.ca/events/liturgy/2024-04-07/
ATTACH;FMTTYPE=image/jpeg:https://stpaulcoptic.ca/wp-content/uploads/2023/12/liturgy-391x260-1.jpg
END:VEVENT
BEGIN:VEVENT
DTSTART;TZID=America/Toronto:20240407T120000
DTEND;TZID=America/Toronto:20240407T133000
DTSTAMP:20260424T120822
CREATED:20231218T204223Z
LAST-MODIFIED:20231220T192941Z
UID:10000036-1712491200-1712496600@stpaulcoptic.ca
SUMMARY:Bible Study
DESCRIPTION:
URL:https://stpaulcoptic.ca/events/bible-study/2024-04-07/
ATTACH;FMTTYPE=image/jpeg:https://stpaulcoptic.ca/wp-content/uploads/2023/12/Bible-sudy.jpg
END:VEVENT
BEGIN:VEVENT
DTSTART;TZID=America/Toronto:20240409T190000
DTEND;TZID=America/Toronto:20240409T210000
DTSTAMP:20260424T120822
CREATED:20231218T210306Z
LAST-MODIFIED:20231220T193457Z
UID:10001597-1712689200-1712696400@stpaulcoptic.ca
SUMMARY:COCA
DESCRIPTION:Christian Orthodox Campus-Ministry Association
URL:https://stpaulcoptic.ca/events/coca/2024-04-09/
ATTACH;FMTTYPE=image/jpeg:https://stpaulcoptic.ca/wp-content/uploads/2023/12/coca.jpg
END:VEVENT
BEGIN:VEVENT
DTSTART;TZID=America/Toronto:20240410T083000
DTEND;TZID=America/Toronto:20240410T110000
DTSTAMP:20260424T120822
CREATED:20240227T022930Z
LAST-MODIFIED:20240227T022932Z
UID:10001990-1712737800-1712746800@stpaulcoptic.ca
SUMMARY:Liturgy
DESCRIPTION:
URL:https://stpaulcoptic.ca/events/liturgy-15/2024-04-10/
CATEGORIES:Holy Liturgy
ATTACH;FMTTYPE=image/jpeg:https://stpaulcoptic.ca/wp-content/uploads/2023/12/liturgy-391x260-1.jpg
END:VEVENT
BEGIN:VEVENT
DTSTART;TZID=America/Toronto:20240410T193000
DTEND;TZID=America/Toronto:20240410T210000
DTSTAMP:20260424T120822
CREATED:20240312T022133Z
LAST-MODIFIED:20240320T222815Z
UID:10002992-1712777400-1712782800@stpaulcoptic.ca
SUMMARY:Choir
DESCRIPTION:High School\, University\, Adult
URL:https://stpaulcoptic.ca/events/choir-9/2024-04-10/
ATTACH;FMTTYPE=image/png:https://stpaulcoptic.ca/wp-content/uploads/2023/12/Choir.png
END:VEVENT
BEGIN:VEVENT
DTSTART;TZID=America/Toronto:20240412T190000
DTEND;TZID=America/Toronto:20240412T203000
DTSTAMP:20260424T120822
CREATED:20231218T204117Z
LAST-MODIFIED:20240815T023605Z
UID:10000817-1712948400-1712953800@stpaulcoptic.ca
SUMMARY:Sunday School
DESCRIPTION:
URL:https://stpaulcoptic.ca/events/sunday-school/2024-04-12/
ATTACH;FMTTYPE=image/png:https://stpaulcoptic.ca/wp-content/uploads/2020/04/Sunday-School.png
END:VEVENT
BEGIN:VEVENT
DTSTART;TZID=America/Toronto:20240413T193000
DTEND;TZID=America/Toronto:20240413T200000
DTSTAMP:20260424T120822
CREATED:20240117T002300Z
LAST-MODIFIED:20240117T002301Z
UID:10002277-1713036600-1713038400@stpaulcoptic.ca
SUMMARY:Vespers Prayers
DESCRIPTION:
URL:https://stpaulcoptic.ca/events/vespers-prayers-3/2024-04-13/
END:VEVENT
BEGIN:VEVENT
DTSTART;TZID=America/Toronto:20240414T083000
DTEND;TZID=America/Toronto:20240414T113000
DTSTAMP:20260424T120822
CREATED:20231218T201920Z
LAST-MODIFIED:20231220T045034Z
UID:10000297-1713083400-1713094200@stpaulcoptic.ca
SUMMARY:Liturgy
DESCRIPTION:
URL:https://stpaulcoptic.ca/events/liturgy/2024-04-14/
ATTACH;FMTTYPE=image/jpeg:https://stpaulcoptic.ca/wp-content/uploads/2023/12/liturgy-391x260-1.jpg
END:VEVENT
BEGIN:VEVENT
DTSTART;TZID=America/Toronto:20240414T120000
DTEND;TZID=America/Toronto:20240414T133000
DTSTAMP:20260424T120822
CREATED:20231218T204223Z
LAST-MODIFIED:20231220T192941Z
UID:10000037-1713096000-1713101400@stpaulcoptic.ca
SUMMARY:Bible Study
DESCRIPTION:
URL:https://stpaulcoptic.ca/events/bible-study/2024-04-14/
ATTACH;FMTTYPE=image/jpeg:https://stpaulcoptic.ca/wp-content/uploads/2023/12/Bible-sudy.jpg
END:VEVENT
BEGIN:VEVENT
DTSTART;TZID=America/Toronto:20240416T190000
DTEND;TZID=America/Toronto:20240416T210000
DTSTAMP:20260424T120822
CREATED:20231218T210306Z
LAST-MODIFIED:20231220T193457Z
UID:10001598-1713294000-1713301200@stpaulcoptic.ca
SUMMARY:COCA
DESCRIPTION:Christian Orthodox Campus-Ministry Association
URL:https://stpaulcoptic.ca/events/coca/2024-04-16/
ATTACH;FMTTYPE=image/jpeg:https://stpaulcoptic.ca/wp-content/uploads/2023/12/coca.jpg
END:VEVENT
BEGIN:VEVENT
DTSTART;TZID=America/Toronto:20240417T083000
DTEND;TZID=America/Toronto:20240417T110000
DTSTAMP:20260424T120822
CREATED:20240227T022930Z
LAST-MODIFIED:20240227T022932Z
UID:10001991-1713342600-1713351600@stpaulcoptic.ca
SUMMARY:Liturgy
DESCRIPTION:
URL:https://stpaulcoptic.ca/events/liturgy-15/2024-04-17/
CATEGORIES:Holy Liturgy
ATTACH;FMTTYPE=image/jpeg:https://stpaulcoptic.ca/wp-content/uploads/2023/12/liturgy-391x260-1.jpg
END:VEVENT
BEGIN:VEVENT
DTSTART;TZID=America/Toronto:20240417T193000
DTEND;TZID=America/Toronto:20240417T210000
DTSTAMP:20260424T120822
CREATED:20240312T022133Z
LAST-MODIFIED:20240320T222815Z
UID:10002993-1713382200-1713387600@stpaulcoptic.ca
SUMMARY:Choir
DESCRIPTION:High School\, University\, Adult
URL:https://stpaulcoptic.ca/events/choir-9/2024-04-17/
ATTACH;FMTTYPE=image/png:https://stpaulcoptic.ca/wp-content/uploads/2023/12/Choir.png
END:VEVENT
BEGIN:VEVENT
DTSTART;TZID=America/Toronto:20240419T190000
DTEND;TZID=America/Toronto:20240419T203000
DTSTAMP:20260424T120822
CREATED:20231218T204117Z
LAST-MODIFIED:20240815T023605Z
UID:10000818-1713553200-1713558600@stpaulcoptic.ca
SUMMARY:Sunday School
DESCRIPTION:
URL:https://stpaulcoptic.ca/events/sunday-school/2024-04-19/
ATTACH;FMTTYPE=image/png:https://stpaulcoptic.ca/wp-content/uploads/2020/04/Sunday-School.png
END:VEVENT
BEGIN:VEVENT
DTSTART;TZID=America/Toronto:20240420T090000
DTEND;TZID=America/Toronto:20240420T110000
DTSTAMP:20260424T120822
CREATED:20240227T032235Z
LAST-MODIFIED:20240227T032237Z
UID:10002827-1713603600-1713610800@stpaulcoptic.ca
SUMMARY:Liturgy
DESCRIPTION:
URL:https://stpaulcoptic.ca/events/liturgy-22/2024-04-20/
ATTACH;FMTTYPE=image/jpeg:https://stpaulcoptic.ca/wp-content/uploads/2023/12/liturgy-391x260-1.jpg
END:VEVENT
BEGIN:VEVENT
DTSTART;TZID=America/Toronto:20240420T193000
DTEND;TZID=America/Toronto:20240420T200000
DTSTAMP:20260424T120822
CREATED:20240117T002300Z
LAST-MODIFIED:20240117T002301Z
UID:10002278-1713641400-1713643200@stpaulcoptic.ca
SUMMARY:Vespers Prayers
DESCRIPTION:
URL:https://stpaulcoptic.ca/events/vespers-prayers-3/2024-04-20/
END:VEVENT
BEGIN:VEVENT
DTSTART;TZID=America/Toronto:20240421T083000
DTEND;TZID=America/Toronto:20240421T113000
DTSTAMP:20260424T120822
CREATED:20231218T201920Z
LAST-MODIFIED:20231220T045034Z
UID:10000298-1713688200-1713699000@stpaulcoptic.ca
SUMMARY:Liturgy
DESCRIPTION:
URL:https://stpaulcoptic.ca/events/liturgy/2024-04-21/
ATTACH;FMTTYPE=image/jpeg:https://stpaulcoptic.ca/wp-content/uploads/2023/12/liturgy-391x260-1.jpg
END:VEVENT
BEGIN:VEVENT
DTSTART;TZID=America/Toronto:20240421T120000
DTEND;TZID=America/Toronto:20240421T133000
DTSTAMP:20260424T120822
CREATED:20231218T204223Z
LAST-MODIFIED:20231220T192941Z
UID:10000038-1713700800-1713706200@stpaulcoptic.ca
SUMMARY:Bible Study
DESCRIPTION:
URL:https://stpaulcoptic.ca/events/bible-study/2024-04-21/
ATTACH;FMTTYPE=image/jpeg:https://stpaulcoptic.ca/wp-content/uploads/2023/12/Bible-sudy.jpg
END:VEVENT
BEGIN:VEVENT
DTSTART;TZID=America/Toronto:20240423T190000
DTEND;TZID=America/Toronto:20240423T210000
DTSTAMP:20260424T120822
CREATED:20231218T210306Z
LAST-MODIFIED:20231220T193457Z
UID:10001599-1713898800-1713906000@stpaulcoptic.ca
SUMMARY:COCA
DESCRIPTION:Christian Orthodox Campus-Ministry Association
URL:https://stpaulcoptic.ca/events/coca/2024-04-23/
ATTACH;FMTTYPE=image/jpeg:https://stpaulcoptic.ca/wp-content/uploads/2023/12/coca.jpg
END:VEVENT
BEGIN:VEVENT
DTSTART;TZID=America/Toronto:20240424T103000
DTEND;TZID=America/Toronto:20240424T130000
DTSTAMP:20260424T120822
CREATED:20240423T220318Z
LAST-MODIFIED:20240423T220320Z
UID:10001992-1713954600-1713963600@stpaulcoptic.ca
SUMMARY:Liturgy
DESCRIPTION:
URL:https://stpaulcoptic.ca/events/liturgy-25/
CATEGORIES:Holy Liturgy
ATTACH;FMTTYPE=image/jpeg:https://stpaulcoptic.ca/wp-content/uploads/2023/12/liturgy-391x260-1.jpg
END:VEVENT
BEGIN:VEVENT
DTSTART;TZID=America/Toronto:20240424T193000
DTEND;TZID=America/Toronto:20240424T210000
DTSTAMP:20260424T120822
CREATED:20240312T022133Z
LAST-MODIFIED:20240320T222815Z
UID:10002994-1713987000-1713992400@stpaulcoptic.ca
SUMMARY:Choir
DESCRIPTION:High School\, University\, Adult
URL:https://stpaulcoptic.ca/events/choir-9/2024-04-24/
ATTACH;FMTTYPE=image/png:https://stpaulcoptic.ca/wp-content/uploads/2023/12/Choir.png
END:VEVENT
BEGIN:VEVENT
DTSTART;TZID=America/Toronto:20240426T113000
DTEND;TZID=America/Toronto:20240426T150000
DTSTAMP:20260424T120822
CREATED:20240423T220448Z
LAST-MODIFIED:20240423T220612Z
UID:10001079-1714131000-1714143600@stpaulcoptic.ca
SUMMARY:Liturgy
DESCRIPTION:Last Friday of the Holy Lent – جمعة ختام الصوم، سر مسحة المرضى
URL:https://stpaulcoptic.ca/events/liturgy-26/
ATTACH;FMTTYPE=image/jpeg:https://stpaulcoptic.ca/wp-content/uploads/2023/12/liturgy-391x260-1.jpg
END:VEVENT
BEGIN:VEVENT
DTSTART;TZID=America/Toronto:20240426T190000
DTEND;TZID=America/Toronto:20240426T203000
DTSTAMP:20260424T120822
CREATED:20231218T204117Z
LAST-MODIFIED:20240815T023605Z
UID:10000819-1714158000-1714163400@stpaulcoptic.ca
SUMMARY:Sunday School
DESCRIPTION:
URL:https://stpaulcoptic.ca/events/sunday-school/2024-04-26/
ATTACH;FMTTYPE=image/png:https://stpaulcoptic.ca/wp-content/uploads/2020/04/Sunday-School.png
END:VEVENT
BEGIN:VEVENT
DTSTART;TZID=America/Toronto:20240427T083000
DTEND;TZID=America/Toronto:20240427T110000
DTSTAMP:20260424T120822
CREATED:20240423T220929Z
LAST-MODIFIED:20240423T221159Z
UID:10003533-1714206600-1714215600@stpaulcoptic.ca
SUMMARY:Liturgy
DESCRIPTION:Lazarus Saturday – سبت لعازر
URL:https://stpaulcoptic.ca/events/liturgy-27/
CATEGORIES:Holy Liturgy
ATTACH;FMTTYPE=image/png:https://stpaulcoptic.ca/wp-content/uploads/2023/12/image.png
END:VEVENT
BEGIN:VEVENT
DTSTART;TZID=America/Toronto:20240427T193000
DTEND;TZID=America/Toronto:20240427T210000
DTSTAMP:20260424T120822
CREATED:20240423T221343Z
LAST-MODIFIED:20240423T221356Z
UID:10002279-1714246200-1714251600@stpaulcoptic.ca
SUMMARY:Palm SundayVespers Prayers - عشية أحد الشعانين
DESCRIPTION:
URL:https://stpaulcoptic.ca/events/vespers-prayers-5/
END:VEVENT
END:VCALENDAR