BEGIN:VCALENDAR
VERSION:2.0
PRODID:-//ST PAUL COPTIC - ECPv6.15.12.2//NONSGML v1.0//EN
CALSCALE:GREGORIAN
METHOD:PUBLISH
X-ORIGINAL-URL:https://stpaulcoptic.ca
X-WR-CALDESC:Events for ST PAUL COPTIC
REFRESH-INTERVAL;VALUE=DURATION:PT1H
X-Robots-Tag:noindex
X-PUBLISHED-TTL:PT1H
BEGIN:VTIMEZONE
TZID:America/Toronto
BEGIN:DAYLIGHT
TZOFFSETFROM:-0500
TZOFFSETTO:-0400
TZNAME:EDT
DTSTART:20230312T070000
END:DAYLIGHT
BEGIN:STANDARD
TZOFFSETFROM:-0400
TZOFFSETTO:-0500
TZNAME:EST
DTSTART:20231105T060000
END:STANDARD
BEGIN:DAYLIGHT
TZOFFSETFROM:-0500
TZOFFSETTO:-0400
TZNAME:EDT
DTSTART:20240310T070000
END:DAYLIGHT
BEGIN:STANDARD
TZOFFSETFROM:-0400
TZOFFSETTO:-0500
TZNAME:EST
DTSTART:20241103T060000
END:STANDARD
BEGIN:DAYLIGHT
TZOFFSETFROM:-0500
TZOFFSETTO:-0400
TZNAME:EDT
DTSTART:20250309T070000
END:DAYLIGHT
BEGIN:STANDARD
TZOFFSETFROM:-0400
TZOFFSETTO:-0500
TZNAME:EST
DTSTART:20251102T060000
END:STANDARD
END:VTIMEZONE
BEGIN:VEVENT
DTSTART;TZID=America/Toronto:20240601T193000
DTEND;TZID=America/Toronto:20240601T200000
DTSTAMP:20260424T152653
CREATED:20240117T002300Z
LAST-MODIFIED:20240117T002301Z
UID:10002284-1717270200-1717272000@stpaulcoptic.ca
SUMMARY:Vespers Prayers
DESCRIPTION:
URL:https://stpaulcoptic.ca/events/vespers-prayers-3/2024-06-01/
END:VEVENT
BEGIN:VEVENT
DTSTART;TZID=America/Toronto:20240602T083000
DTEND;TZID=America/Toronto:20240602T113000
DTSTAMP:20260424T152653
CREATED:20231218T201920Z
LAST-MODIFIED:20231220T045034Z
UID:10000304-1717317000-1717327800@stpaulcoptic.ca
SUMMARY:Liturgy
DESCRIPTION:
URL:https://stpaulcoptic.ca/events/liturgy/2024-06-02/
ATTACH;FMTTYPE=image/jpeg:https://stpaulcoptic.ca/wp-content/uploads/2023/12/liturgy-391x260-1.jpg
END:VEVENT
BEGIN:VEVENT
DTSTART;TZID=America/Toronto:20240602T120000
DTEND;TZID=America/Toronto:20240602T133000
DTSTAMP:20260424T152653
CREATED:20231218T204223Z
LAST-MODIFIED:20231220T192941Z
UID:10000044-1717329600-1717335000@stpaulcoptic.ca
SUMMARY:Bible Study
DESCRIPTION:
URL:https://stpaulcoptic.ca/events/bible-study/2024-06-02/
ATTACH;FMTTYPE=image/jpeg:https://stpaulcoptic.ca/wp-content/uploads/2023/12/Bible-sudy.jpg
END:VEVENT
BEGIN:VEVENT
DTSTART;TZID=America/Toronto:20240604T190000
DTEND;TZID=America/Toronto:20240604T210000
DTSTAMP:20260424T152653
CREATED:20231218T210306Z
LAST-MODIFIED:20231220T193457Z
UID:10001605-1717527600-1717534800@stpaulcoptic.ca
SUMMARY:COCA
DESCRIPTION:Christian Orthodox Campus-Ministry Association
URL:https://stpaulcoptic.ca/events/coca/2024-06-04/
ATTACH;FMTTYPE=image/jpeg:https://stpaulcoptic.ca/wp-content/uploads/2023/12/coca.jpg
END:VEVENT
BEGIN:VEVENT
DTSTART;TZID=America/Toronto:20240605T083000
DTEND;TZID=America/Toronto:20240605T110000
DTSTAMP:20260424T152653
CREATED:20240227T022930Z
LAST-MODIFIED:20240227T022932Z
UID:10001998-1717576200-1717585200@stpaulcoptic.ca
SUMMARY:Liturgy
DESCRIPTION:
URL:https://stpaulcoptic.ca/events/liturgy-15/2024-06-05/
CATEGORIES:Holy Liturgy
ATTACH;FMTTYPE=image/jpeg:https://stpaulcoptic.ca/wp-content/uploads/2023/12/liturgy-391x260-1.jpg
END:VEVENT
BEGIN:VEVENT
DTSTART;TZID=America/Toronto:20240607T053000
DTEND;TZID=America/Toronto:20240607T073000
DTSTAMP:20260424T152653
CREATED:20240621T013031Z
LAST-MODIFIED:20240621T013039Z
UID:10001085-1717738200-1717745400@stpaulcoptic.ca
SUMMARY:Liturgy (CANCELED)
DESCRIPTION:
URL:https://stpaulcoptic.ca/events/liturgy-38/
ATTACH;FMTTYPE=image/jpeg:https://stpaulcoptic.ca/wp-content/uploads/2023/12/liturgy-391x260-1.jpg
END:VEVENT
BEGIN:VEVENT
DTSTART;TZID=America/Toronto:20240607T190000
DTEND;TZID=America/Toronto:20240607T203000
DTSTAMP:20260424T152653
CREATED:20231218T204117Z
LAST-MODIFIED:20240815T023605Z
UID:10000825-1717786800-1717792200@stpaulcoptic.ca
SUMMARY:Sunday School
DESCRIPTION:
URL:https://stpaulcoptic.ca/events/sunday-school/2024-06-07/
ATTACH;FMTTYPE=image/png:https://stpaulcoptic.ca/wp-content/uploads/2020/04/Sunday-School.png
END:VEVENT
BEGIN:VEVENT
DTSTART;TZID=America/Toronto:20240608T090000
DTEND;TZID=America/Toronto:20240608T110000
DTSTAMP:20260424T152653
CREATED:20240510T195932Z
LAST-MODIFIED:20240510T195944Z
UID:10003652-1717837200-1717844400@stpaulcoptic.ca
SUMMARY:Liturgy
DESCRIPTION:
URL:https://stpaulcoptic.ca/events/liturgy-37/2024-06-08/
ATTACH;FMTTYPE=image/jpeg:https://stpaulcoptic.ca/wp-content/uploads/2023/12/liturgy-391x260-1.jpg
END:VEVENT
BEGIN:VEVENT
DTSTART;TZID=America/Toronto:20240608T193000
DTEND;TZID=America/Toronto:20240608T200000
DTSTAMP:20260424T152653
CREATED:20240117T002300Z
LAST-MODIFIED:20240117T002301Z
UID:10002285-1717875000-1717876800@stpaulcoptic.ca
SUMMARY:Vespers Prayers
DESCRIPTION:
URL:https://stpaulcoptic.ca/events/vespers-prayers-3/2024-06-08/
END:VEVENT
BEGIN:VEVENT
DTSTART;TZID=America/Toronto:20240608T200000
DTEND;TZID=America/Toronto:20240608T210000
DTSTAMP:20260424T152653
CREATED:20240621T013438Z
LAST-MODIFIED:20240621T013439Z
UID:10003803-1717876800-1717880400@stpaulcoptic.ca
SUMMARY:Coptic Hymns & Songs Concert
DESCRIPTION:
URL:https://stpaulcoptic.ca/events/coptic-hymns-songs-concert/
ATTACH;FMTTYPE=image/jpeg:https://stpaulcoptic.ca/wp-content/uploads/2024/06/PHOTO-2024-06-04-16-19-35.jpg
END:VEVENT
BEGIN:VEVENT
DTSTART;TZID=America/Toronto:20240609T083000
DTEND;TZID=America/Toronto:20240609T113000
DTSTAMP:20260424T152653
CREATED:20231218T201920Z
LAST-MODIFIED:20231220T045034Z
UID:10000305-1717921800-1717932600@stpaulcoptic.ca
SUMMARY:Liturgy
DESCRIPTION:
URL:https://stpaulcoptic.ca/events/liturgy/2024-06-09/
ATTACH;FMTTYPE=image/jpeg:https://stpaulcoptic.ca/wp-content/uploads/2023/12/liturgy-391x260-1.jpg
END:VEVENT
BEGIN:VEVENT
DTSTART;TZID=America/Toronto:20240609T120000
DTEND;TZID=America/Toronto:20240609T133000
DTSTAMP:20260424T152653
CREATED:20231218T204223Z
LAST-MODIFIED:20231220T192941Z
UID:10000045-1717934400-1717939800@stpaulcoptic.ca
SUMMARY:Bible Study
DESCRIPTION:
URL:https://stpaulcoptic.ca/events/bible-study/2024-06-09/
ATTACH;FMTTYPE=image/jpeg:https://stpaulcoptic.ca/wp-content/uploads/2023/12/Bible-sudy.jpg
END:VEVENT
BEGIN:VEVENT
DTSTART;TZID=America/Toronto:20240611T190000
DTEND;TZID=America/Toronto:20240611T210000
DTSTAMP:20260424T152653
CREATED:20231218T210306Z
LAST-MODIFIED:20231220T193457Z
UID:10001606-1718132400-1718139600@stpaulcoptic.ca
SUMMARY:COCA
DESCRIPTION:Christian Orthodox Campus-Ministry Association
URL:https://stpaulcoptic.ca/events/coca/2024-06-11/
ATTACH;FMTTYPE=image/jpeg:https://stpaulcoptic.ca/wp-content/uploads/2023/12/coca.jpg
END:VEVENT
BEGIN:VEVENT
DTSTART;TZID=America/Toronto:20240612T083000
DTEND;TZID=America/Toronto:20240612T110000
DTSTAMP:20260424T152653
CREATED:20240621T015033Z
LAST-MODIFIED:20240621T015049Z
UID:10001999-1718181000-1718190000@stpaulcoptic.ca
SUMMARY:Liturgy (CANCELED)
DESCRIPTION:
URL:https://stpaulcoptic.ca/events/liturgy-40/
CATEGORIES:Holy Liturgy
ATTACH;FMTTYPE=image/jpeg:https://stpaulcoptic.ca/wp-content/uploads/2023/12/liturgy-391x260-1.jpg
END:VEVENT
BEGIN:VEVENT
DTSTART;TZID=America/Toronto:20240612T193000
DTEND;TZID=America/Toronto:20240612T200000
DTSTAMP:20260424T152653
CREATED:20240621T014246Z
LAST-MODIFIED:20240621T014247Z
UID:10003810-1718220600-1718222400@stpaulcoptic.ca
SUMMARY:Vespers prayers of the Feast of the Ascension - عشية عيد الصعود
DESCRIPTION:
URL:https://stpaulcoptic.ca/events/vespers-prayers-of-the-feast-of-the-ascension-%d8%b9%d8%b4%d9%8a%d8%a9-%d8%b9%d9%8a%d8%af-%d8%a7%d9%84%d8%b5%d8%b9%d9%88%d8%af/
END:VEVENT
BEGIN:VEVENT
DTSTART;TZID=America/Toronto:20240613T083000
DTEND;TZID=America/Toronto:20240613T113000
DTSTAMP:20260424T152653
CREATED:20240621T014838Z
LAST-MODIFIED:20240621T014839Z
UID:10003811-1718267400-1718278200@stpaulcoptic.ca
SUMMARY:Liturgy - Feast of the Ascension - قداس عيد الصعود
DESCRIPTION:
URL:https://stpaulcoptic.ca/events/liturgy-feast-of-the-ascension-%d9%82%d8%af%d8%a7%d8%b3-%d8%b9%d9%8a%d8%af-%d8%a7%d9%84%d8%b5%d8%b9%d9%88%d8%af/
CATEGORIES:Holy Liturgy
ATTACH;FMTTYPE=image/png:https://stpaulcoptic.ca/wp-content/uploads/2023/12/image.png
END:VEVENT
BEGIN:VEVENT
DTSTART;TZID=America/Toronto:20240614T190000
DTEND;TZID=America/Toronto:20240614T203000
DTSTAMP:20260424T152653
CREATED:20231218T204117Z
LAST-MODIFIED:20240815T023605Z
UID:10000826-1718391600-1718397000@stpaulcoptic.ca
SUMMARY:Sunday School
DESCRIPTION:
URL:https://stpaulcoptic.ca/events/sunday-school/2024-06-14/
ATTACH;FMTTYPE=image/png:https://stpaulcoptic.ca/wp-content/uploads/2020/04/Sunday-School.png
END:VEVENT
BEGIN:VEVENT
DTSTART;TZID=America/Toronto:20240615T193000
DTEND;TZID=America/Toronto:20240615T200000
DTSTAMP:20260424T152653
CREATED:20240117T002300Z
LAST-MODIFIED:20240117T002301Z
UID:10002286-1718479800-1718481600@stpaulcoptic.ca
SUMMARY:Vespers Prayers
DESCRIPTION:
URL:https://stpaulcoptic.ca/events/vespers-prayers-3/2024-06-15/
END:VEVENT
BEGIN:VEVENT
DTSTART;TZID=America/Toronto:20240616T083000
DTEND;TZID=America/Toronto:20240616T113000
DTSTAMP:20260424T152653
CREATED:20231218T201920Z
LAST-MODIFIED:20231220T045034Z
UID:10000306-1718526600-1718537400@stpaulcoptic.ca
SUMMARY:Liturgy
DESCRIPTION:
URL:https://stpaulcoptic.ca/events/liturgy/2024-06-16/
ATTACH;FMTTYPE=image/jpeg:https://stpaulcoptic.ca/wp-content/uploads/2023/12/liturgy-391x260-1.jpg
END:VEVENT
BEGIN:VEVENT
DTSTART;TZID=America/Toronto:20240616T120000
DTEND;TZID=America/Toronto:20240616T133000
DTSTAMP:20260424T152653
CREATED:20240621T012721Z
LAST-MODIFIED:20240621T012723Z
UID:10000046-1718539200-1718544600@stpaulcoptic.ca
SUMMARY:Bible Study (CANCELED)
DESCRIPTION:
URL:https://stpaulcoptic.ca/events/bible-study-3/
ATTACH;FMTTYPE=image/jpeg:https://stpaulcoptic.ca/wp-content/uploads/2023/12/Bible-sudy.jpg
END:VEVENT
BEGIN:VEVENT
DTSTART;TZID=America/Toronto:20240618T190000
DTEND;TZID=America/Toronto:20240618T210000
DTSTAMP:20260424T152653
CREATED:20231218T210306Z
LAST-MODIFIED:20231220T193457Z
UID:10001607-1718737200-1718744400@stpaulcoptic.ca
SUMMARY:COCA
DESCRIPTION:Christian Orthodox Campus-Ministry Association
URL:https://stpaulcoptic.ca/events/coca/2024-06-18/
ATTACH;FMTTYPE=image/jpeg:https://stpaulcoptic.ca/wp-content/uploads/2023/12/coca.jpg
END:VEVENT
BEGIN:VEVENT
DTSTART;TZID=America/Toronto:20240619T083000
DTEND;TZID=America/Toronto:20240619T110000
DTSTAMP:20260424T152653
CREATED:20240621T013656Z
LAST-MODIFIED:20240621T013924Z
UID:10002000-1718785800-1718794800@stpaulcoptic.ca
SUMMARY:Liturgy
DESCRIPTION:
URL:https://stpaulcoptic.ca/events/liturgy-39/
CATEGORIES:Holy Liturgy
ATTACH;FMTTYPE=image/jpeg:https://stpaulcoptic.ca/wp-content/uploads/2023/12/liturgy-391x260-1.jpg
END:VEVENT
BEGIN:VEVENT
DTSTART;TZID=America/Toronto:20240621T190000
DTEND;TZID=America/Toronto:20240621T203000
DTSTAMP:20260424T152653
CREATED:20231218T204117Z
LAST-MODIFIED:20240815T023605Z
UID:10000827-1718996400-1719001800@stpaulcoptic.ca
SUMMARY:Sunday School
DESCRIPTION:
URL:https://stpaulcoptic.ca/events/sunday-school/2024-06-21/
ATTACH;FMTTYPE=image/png:https://stpaulcoptic.ca/wp-content/uploads/2020/04/Sunday-School.png
END:VEVENT
BEGIN:VEVENT
DTSTART;TZID=America/Toronto:20240622T090000
DTEND;TZID=America/Toronto:20240622T110000
DTSTAMP:20260424T152653
CREATED:20240510T195932Z
LAST-MODIFIED:20240510T195944Z
UID:10003653-1719046800-1719054000@stpaulcoptic.ca
SUMMARY:Liturgy
DESCRIPTION:
URL:https://stpaulcoptic.ca/events/liturgy-37/2024-06-22/
ATTACH;FMTTYPE=image/jpeg:https://stpaulcoptic.ca/wp-content/uploads/2023/12/liturgy-391x260-1.jpg
END:VEVENT
BEGIN:VEVENT
DTSTART;TZID=America/Toronto:20240622T193000
DTEND;TZID=America/Toronto:20240622T200000
DTSTAMP:20260424T152653
CREATED:20240621T015356Z
LAST-MODIFIED:20240621T015406Z
UID:10002287-1719084600-1719086400@stpaulcoptic.ca
SUMMARY:Vespers Prayers for the Holy Pentecost Feast - عشية عيد حلول الروح القدس
DESCRIPTION:
URL:https://stpaulcoptic.ca/events/vespers-prayers-6/
END:VEVENT
BEGIN:VEVENT
DTSTART;TZID=America/Toronto:20240623T083000
DTEND;TZID=America/Toronto:20240623T113000
DTSTAMP:20260424T152653
CREATED:20240621T015746Z
LAST-MODIFIED:20240621T015802Z
UID:10000307-1719131400-1719142200@stpaulcoptic.ca
SUMMARY:Liturgy - The Holy Pentecost Feast - عيد حلول الروح القدس
DESCRIPTION:Followed by Worship Prayers – صلاة السجدة
URL:https://stpaulcoptic.ca/events/liturgy-41/
ATTACH;FMTTYPE=image/jpeg:https://stpaulcoptic.ca/wp-content/uploads/2023/12/liturgy-391x260-1.jpg
END:VEVENT
BEGIN:VEVENT
DTSTART;TZID=America/Toronto:20240623T120000
DTEND;TZID=America/Toronto:20240623T133000
DTSTAMP:20260424T152653
CREATED:20231218T204223Z
LAST-MODIFIED:20231220T192941Z
UID:10000047-1719144000-1719149400@stpaulcoptic.ca
SUMMARY:Bible Study
DESCRIPTION:
URL:https://stpaulcoptic.ca/events/bible-study/2024-06-23/
ATTACH;FMTTYPE=image/jpeg:https://stpaulcoptic.ca/wp-content/uploads/2023/12/Bible-sudy.jpg
END:VEVENT
BEGIN:VEVENT
DTSTART;TZID=America/Toronto:20240625T190000
DTEND;TZID=America/Toronto:20240625T210000
DTSTAMP:20260424T152653
CREATED:20231218T210306Z
LAST-MODIFIED:20231220T193457Z
UID:10001608-1719342000-1719349200@stpaulcoptic.ca
SUMMARY:COCA
DESCRIPTION:Christian Orthodox Campus-Ministry Association
URL:https://stpaulcoptic.ca/events/coca/2024-06-25/
ATTACH;FMTTYPE=image/jpeg:https://stpaulcoptic.ca/wp-content/uploads/2023/12/coca.jpg
END:VEVENT
BEGIN:VEVENT
DTSTART;TZID=America/Toronto:20240626T083000
DTEND;TZID=America/Toronto:20240626T110000
DTSTAMP:20260424T152653
CREATED:20240227T022930Z
LAST-MODIFIED:20240227T022932Z
UID:10002001-1719390600-1719399600@stpaulcoptic.ca
SUMMARY:Liturgy
DESCRIPTION:
URL:https://stpaulcoptic.ca/events/liturgy-15/2024-06-26/
CATEGORIES:Holy Liturgy
ATTACH;FMTTYPE=image/jpeg:https://stpaulcoptic.ca/wp-content/uploads/2023/12/liturgy-391x260-1.jpg
END:VEVENT
BEGIN:VEVENT
DTSTART;TZID=America/Toronto:20240628T190000
DTEND;TZID=America/Toronto:20240628T203000
DTSTAMP:20260424T152653
CREATED:20231218T204117Z
LAST-MODIFIED:20240815T023605Z
UID:10000828-1719601200-1719606600@stpaulcoptic.ca
SUMMARY:Sunday School
DESCRIPTION:
URL:https://stpaulcoptic.ca/events/sunday-school/2024-06-28/
ATTACH;FMTTYPE=image/png:https://stpaulcoptic.ca/wp-content/uploads/2020/04/Sunday-School.png
END:VEVENT
END:VCALENDAR