BEGIN:VCALENDAR
VERSION:2.0
PRODID:-//ST PAUL COPTIC - ECPv6.15.12.2//NONSGML v1.0//EN
CALSCALE:GREGORIAN
METHOD:PUBLISH
X-ORIGINAL-URL:https://stpaulcoptic.ca
X-WR-CALDESC:Events for ST PAUL COPTIC
REFRESH-INTERVAL;VALUE=DURATION:PT1H
X-Robots-Tag:noindex
X-PUBLISHED-TTL:PT1H
BEGIN:VTIMEZONE
TZID:America/Toronto
BEGIN:DAYLIGHT
TZOFFSETFROM:-0500
TZOFFSETTO:-0400
TZNAME:EDT
DTSTART:20230312T070000
END:DAYLIGHT
BEGIN:STANDARD
TZOFFSETFROM:-0400
TZOFFSETTO:-0500
TZNAME:EST
DTSTART:20231105T060000
END:STANDARD
BEGIN:DAYLIGHT
TZOFFSETFROM:-0500
TZOFFSETTO:-0400
TZNAME:EDT
DTSTART:20240310T070000
END:DAYLIGHT
BEGIN:STANDARD
TZOFFSETFROM:-0400
TZOFFSETTO:-0500
TZNAME:EST
DTSTART:20241103T060000
END:STANDARD
BEGIN:DAYLIGHT
TZOFFSETFROM:-0500
TZOFFSETTO:-0400
TZNAME:EDT
DTSTART:20250309T070000
END:DAYLIGHT
BEGIN:STANDARD
TZOFFSETFROM:-0400
TZOFFSETTO:-0500
TZNAME:EST
DTSTART:20251102T060000
END:STANDARD
END:VTIMEZONE
BEGIN:VEVENT
DTSTART;TZID=America/Toronto:20240702T190000
DTEND;TZID=America/Toronto:20240702T210000
DTSTAMP:20260424T190332
CREATED:20231218T210306Z
LAST-MODIFIED:20231220T193457Z
UID:10001609-1719946800-1719954000@stpaulcoptic.ca
SUMMARY:COCA
DESCRIPTION:Christian Orthodox Campus-Ministry Association
URL:https://stpaulcoptic.ca/events/coca/2024-07-02/
ATTACH;FMTTYPE=image/jpeg:https://stpaulcoptic.ca/wp-content/uploads/2023/12/coca.jpg
END:VEVENT
BEGIN:VEVENT
DTSTART;TZID=America/Toronto:20240703T083000
DTEND;TZID=America/Toronto:20240703T110000
DTSTAMP:20260424T190332
CREATED:20240227T022930Z
LAST-MODIFIED:20240227T022932Z
UID:10002002-1719995400-1720004400@stpaulcoptic.ca
SUMMARY:Liturgy
DESCRIPTION:
URL:https://stpaulcoptic.ca/events/liturgy-15/2024-07-03/
CATEGORIES:Holy Liturgy
ATTACH;FMTTYPE=image/jpeg:https://stpaulcoptic.ca/wp-content/uploads/2023/12/liturgy-391x260-1.jpg
END:VEVENT
BEGIN:VEVENT
DTSTART;TZID=America/Toronto:20240705T190000
DTEND;TZID=America/Toronto:20240705T203000
DTSTAMP:20260424T190332
CREATED:20231218T204117Z
LAST-MODIFIED:20240815T023605Z
UID:10000829-1720206000-1720211400@stpaulcoptic.ca
SUMMARY:Sunday School
DESCRIPTION:
URL:https://stpaulcoptic.ca/events/sunday-school/2024-07-05/
ATTACH;FMTTYPE=image/png:https://stpaulcoptic.ca/wp-content/uploads/2020/04/Sunday-School.png
END:VEVENT
BEGIN:VEVENT
DTSTART;TZID=America/Toronto:20240706T090000
DTEND;TZID=America/Toronto:20240706T110000
DTSTAMP:20260424T190332
CREATED:20240510T195932Z
LAST-MODIFIED:20240510T195944Z
UID:10003654-1720256400-1720263600@stpaulcoptic.ca
SUMMARY:Liturgy
DESCRIPTION:
URL:https://stpaulcoptic.ca/events/liturgy-37/2024-07-06/
ATTACH;FMTTYPE=image/jpeg:https://stpaulcoptic.ca/wp-content/uploads/2023/12/liturgy-391x260-1.jpg
END:VEVENT
BEGIN:VEVENT
DTSTART;TZID=America/Toronto:20240706T193000
DTEND;TZID=America/Toronto:20240706T200000
DTSTAMP:20260424T190332
CREATED:20240117T002300Z
LAST-MODIFIED:20240117T002301Z
UID:10002289-1720294200-1720296000@stpaulcoptic.ca
SUMMARY:Vespers Prayers
DESCRIPTION:
URL:https://stpaulcoptic.ca/events/vespers-prayers-3/2024-07-06/
END:VEVENT
BEGIN:VEVENT
DTSTART;TZID=America/Toronto:20240707T083000
DTEND;TZID=America/Toronto:20240707T113000
DTSTAMP:20260424T190332
CREATED:20231218T201920Z
LAST-MODIFIED:20231220T045034Z
UID:10000309-1720341000-1720351800@stpaulcoptic.ca
SUMMARY:Liturgy
DESCRIPTION:
URL:https://stpaulcoptic.ca/events/liturgy/2024-07-07/
ATTACH;FMTTYPE=image/jpeg:https://stpaulcoptic.ca/wp-content/uploads/2023/12/liturgy-391x260-1.jpg
END:VEVENT
BEGIN:VEVENT
DTSTART;TZID=America/Toronto:20240707T120000
DTEND;TZID=America/Toronto:20240707T133000
DTSTAMP:20260424T190332
CREATED:20231218T204223Z
LAST-MODIFIED:20231220T192941Z
UID:10000049-1720353600-1720359000@stpaulcoptic.ca
SUMMARY:Bible Study
DESCRIPTION:
URL:https://stpaulcoptic.ca/events/bible-study/2024-07-07/
ATTACH;FMTTYPE=image/jpeg:https://stpaulcoptic.ca/wp-content/uploads/2023/12/Bible-sudy.jpg
END:VEVENT
BEGIN:VEVENT
DTSTART;TZID=America/Toronto:20240709T190000
DTEND;TZID=America/Toronto:20240709T210000
DTSTAMP:20260424T190332
CREATED:20231218T210306Z
LAST-MODIFIED:20231220T193457Z
UID:10001610-1720551600-1720558800@stpaulcoptic.ca
SUMMARY:COCA
DESCRIPTION:Christian Orthodox Campus-Ministry Association
URL:https://stpaulcoptic.ca/events/coca/2024-07-09/
ATTACH;FMTTYPE=image/jpeg:https://stpaulcoptic.ca/wp-content/uploads/2023/12/coca.jpg
END:VEVENT
BEGIN:VEVENT
DTSTART;TZID=America/Toronto:20240710T083000
DTEND;TZID=America/Toronto:20240710T110000
DTSTAMP:20260424T190332
CREATED:20240227T022930Z
LAST-MODIFIED:20240227T022932Z
UID:10002003-1720600200-1720609200@stpaulcoptic.ca
SUMMARY:Liturgy
DESCRIPTION:
URL:https://stpaulcoptic.ca/events/liturgy-15/2024-07-10/
CATEGORIES:Holy Liturgy
ATTACH;FMTTYPE=image/jpeg:https://stpaulcoptic.ca/wp-content/uploads/2023/12/liturgy-391x260-1.jpg
END:VEVENT
BEGIN:VEVENT
DTSTART;TZID=America/Toronto:20240712T190000
DTEND;TZID=America/Toronto:20240712T203000
DTSTAMP:20260424T190332
CREATED:20231218T204117Z
LAST-MODIFIED:20240815T023605Z
UID:10000830-1720810800-1720816200@stpaulcoptic.ca
SUMMARY:Sunday School
DESCRIPTION:
URL:https://stpaulcoptic.ca/events/sunday-school/2024-07-12/
ATTACH;FMTTYPE=image/png:https://stpaulcoptic.ca/wp-content/uploads/2020/04/Sunday-School.png
END:VEVENT
BEGIN:VEVENT
DTSTART;TZID=America/Toronto:20240713T193000
DTEND;TZID=America/Toronto:20240713T200000
DTSTAMP:20260424T190332
CREATED:20240117T002300Z
LAST-MODIFIED:20240117T002301Z
UID:10002290-1720899000-1720900800@stpaulcoptic.ca
SUMMARY:Vespers Prayers
DESCRIPTION:
URL:https://stpaulcoptic.ca/events/vespers-prayers-3/2024-07-13/
END:VEVENT
BEGIN:VEVENT
DTSTART;TZID=America/Toronto:20240714T083000
DTEND;TZID=America/Toronto:20240714T113000
DTSTAMP:20260424T190332
CREATED:20231218T201920Z
LAST-MODIFIED:20231220T045034Z
UID:10000310-1720945800-1720956600@stpaulcoptic.ca
SUMMARY:Liturgy
DESCRIPTION:
URL:https://stpaulcoptic.ca/events/liturgy/2024-07-14/
ATTACH;FMTTYPE=image/jpeg:https://stpaulcoptic.ca/wp-content/uploads/2023/12/liturgy-391x260-1.jpg
END:VEVENT
BEGIN:VEVENT
DTSTART;TZID=America/Toronto:20240714T120000
DTEND;TZID=America/Toronto:20240714T133000
DTSTAMP:20260424T190332
CREATED:20231218T204223Z
LAST-MODIFIED:20231220T192941Z
UID:10000050-1720958400-1720963800@stpaulcoptic.ca
SUMMARY:Bible Study
DESCRIPTION:
URL:https://stpaulcoptic.ca/events/bible-study/2024-07-14/
ATTACH;FMTTYPE=image/jpeg:https://stpaulcoptic.ca/wp-content/uploads/2023/12/Bible-sudy.jpg
END:VEVENT
BEGIN:VEVENT
DTSTART;TZID=America/Toronto:20240715T083000
DTEND;TZID=America/Toronto:20240715T163000
DTSTAMP:20260424T190332
CREATED:20240227T035042Z
LAST-MODIFIED:20240227T035919Z
UID:10002957-1721032200-1721061000@stpaulcoptic.ca
SUMMARY:Kids Summer Camp
DESCRIPTION:
URL:https://stpaulcoptic.ca/events/kids-summer-camp/2024-07-15/
ATTACH;FMTTYPE=image/jpeg:https://stpaulcoptic.ca/wp-content/uploads/2024/02/PHOTO-2024-02-17-16-35-24.jpg
END:VEVENT
BEGIN:VEVENT
DTSTART;TZID=America/Toronto:20240715T083000
DTEND;TZID=America/Toronto:20240715T163000
DTSTAMP:20260424T190332
CREATED:20240227T035540Z
LAST-MODIFIED:20240227T035540Z
UID:10002955-1721032200-1721061000@stpaulcoptic.ca
SUMMARY:Kids Summer Camp
DESCRIPTION:
URL:https://stpaulcoptic.ca/events/kids-summer-camp-2/
ATTACH;FMTTYPE=image/jpeg:https://stpaulcoptic.ca/wp-content/uploads/2024/02/PHOTO-2024-02-17-16-35-24.jpg
END:VEVENT
BEGIN:VEVENT
DTSTART;TZID=America/Toronto:20240716T083000
DTEND;TZID=America/Toronto:20240716T163000
DTSTAMP:20260424T190332
CREATED:20240227T035042Z
LAST-MODIFIED:20240227T035919Z
UID:10002958-1721118600-1721147400@stpaulcoptic.ca
SUMMARY:Kids Summer Camp
DESCRIPTION:
URL:https://stpaulcoptic.ca/events/kids-summer-camp/2024-07-16/
ATTACH;FMTTYPE=image/jpeg:https://stpaulcoptic.ca/wp-content/uploads/2024/02/PHOTO-2024-02-17-16-35-24.jpg
END:VEVENT
BEGIN:VEVENT
DTSTART;TZID=America/Toronto:20240716T190000
DTEND;TZID=America/Toronto:20240716T210000
DTSTAMP:20260424T190332
CREATED:20231218T210306Z
LAST-MODIFIED:20231220T193457Z
UID:10001611-1721156400-1721163600@stpaulcoptic.ca
SUMMARY:COCA
DESCRIPTION:Christian Orthodox Campus-Ministry Association
URL:https://stpaulcoptic.ca/events/coca/2024-07-16/
ATTACH;FMTTYPE=image/jpeg:https://stpaulcoptic.ca/wp-content/uploads/2023/12/coca.jpg
END:VEVENT
BEGIN:VEVENT
DTSTART;TZID=America/Toronto:20240717T083000
DTEND;TZID=America/Toronto:20240717T110000
DTSTAMP:20260424T190332
CREATED:20240227T022930Z
LAST-MODIFIED:20240227T022932Z
UID:10002004-1721205000-1721214000@stpaulcoptic.ca
SUMMARY:Liturgy
DESCRIPTION:
URL:https://stpaulcoptic.ca/events/liturgy-15/2024-07-17/
CATEGORIES:Holy Liturgy
ATTACH;FMTTYPE=image/jpeg:https://stpaulcoptic.ca/wp-content/uploads/2023/12/liturgy-391x260-1.jpg
END:VEVENT
BEGIN:VEVENT
DTSTART;TZID=America/Toronto:20240717T083000
DTEND;TZID=America/Toronto:20240717T163000
DTSTAMP:20260424T190332
CREATED:20240227T035042Z
LAST-MODIFIED:20240227T035919Z
UID:10002959-1721205000-1721233800@stpaulcoptic.ca
SUMMARY:Kids Summer Camp
DESCRIPTION:
URL:https://stpaulcoptic.ca/events/kids-summer-camp/2024-07-17/
ATTACH;FMTTYPE=image/jpeg:https://stpaulcoptic.ca/wp-content/uploads/2024/02/PHOTO-2024-02-17-16-35-24.jpg
END:VEVENT
BEGIN:VEVENT
DTSTART;TZID=America/Toronto:20240718T083000
DTEND;TZID=America/Toronto:20240718T163000
DTSTAMP:20260424T190332
CREATED:20240227T035042Z
LAST-MODIFIED:20240227T035919Z
UID:10002960-1721291400-1721320200@stpaulcoptic.ca
SUMMARY:Kids Summer Camp
DESCRIPTION:
URL:https://stpaulcoptic.ca/events/kids-summer-camp/2024-07-18/
ATTACH;FMTTYPE=image/jpeg:https://stpaulcoptic.ca/wp-content/uploads/2024/02/PHOTO-2024-02-17-16-35-24.jpg
END:VEVENT
BEGIN:VEVENT
DTSTART;TZID=America/Toronto:20240719T083000
DTEND;TZID=America/Toronto:20240719T163000
DTSTAMP:20260424T190332
CREATED:20240227T035042Z
LAST-MODIFIED:20240227T035919Z
UID:10002961-1721377800-1721406600@stpaulcoptic.ca
SUMMARY:Kids Summer Camp
DESCRIPTION:
URL:https://stpaulcoptic.ca/events/kids-summer-camp/2024-07-19/
ATTACH;FMTTYPE=image/jpeg:https://stpaulcoptic.ca/wp-content/uploads/2024/02/PHOTO-2024-02-17-16-35-24.jpg
END:VEVENT
BEGIN:VEVENT
DTSTART;TZID=America/Toronto:20240719T190000
DTEND;TZID=America/Toronto:20240719T203000
DTSTAMP:20260424T190332
CREATED:20231218T204117Z
LAST-MODIFIED:20240815T023605Z
UID:10000831-1721415600-1721421000@stpaulcoptic.ca
SUMMARY:Sunday School
DESCRIPTION:
URL:https://stpaulcoptic.ca/events/sunday-school/2024-07-19/
ATTACH;FMTTYPE=image/png:https://stpaulcoptic.ca/wp-content/uploads/2020/04/Sunday-School.png
END:VEVENT
BEGIN:VEVENT
DTSTART;TZID=America/Toronto:20240720T090000
DTEND;TZID=America/Toronto:20240720T110000
DTSTAMP:20260424T190332
CREATED:20240510T195932Z
LAST-MODIFIED:20240510T195944Z
UID:10003655-1721466000-1721473200@stpaulcoptic.ca
SUMMARY:Liturgy
DESCRIPTION:
URL:https://stpaulcoptic.ca/events/liturgy-37/2024-07-20/
ATTACH;FMTTYPE=image/jpeg:https://stpaulcoptic.ca/wp-content/uploads/2023/12/liturgy-391x260-1.jpg
END:VEVENT
BEGIN:VEVENT
DTSTART;TZID=America/Toronto:20240720T193000
DTEND;TZID=America/Toronto:20240720T200000
DTSTAMP:20260424T190332
CREATED:20240117T002300Z
LAST-MODIFIED:20240117T002301Z
UID:10002291-1721503800-1721505600@stpaulcoptic.ca
SUMMARY:Vespers Prayers
DESCRIPTION:
URL:https://stpaulcoptic.ca/events/vespers-prayers-3/2024-07-20/
END:VEVENT
BEGIN:VEVENT
DTSTART;TZID=America/Toronto:20240721T083000
DTEND;TZID=America/Toronto:20240721T113000
DTSTAMP:20260424T190332
CREATED:20231218T201920Z
LAST-MODIFIED:20231220T045034Z
UID:10000311-1721550600-1721561400@stpaulcoptic.ca
SUMMARY:Liturgy
DESCRIPTION:
URL:https://stpaulcoptic.ca/events/liturgy/2024-07-21/
ATTACH;FMTTYPE=image/jpeg:https://stpaulcoptic.ca/wp-content/uploads/2023/12/liturgy-391x260-1.jpg
END:VEVENT
BEGIN:VEVENT
DTSTART;TZID=America/Toronto:20240721T120000
DTEND;TZID=America/Toronto:20240721T133000
DTSTAMP:20260424T190332
CREATED:20231218T204223Z
LAST-MODIFIED:20231220T192941Z
UID:10000051-1721563200-1721568600@stpaulcoptic.ca
SUMMARY:Bible Study
DESCRIPTION:
URL:https://stpaulcoptic.ca/events/bible-study/2024-07-21/
ATTACH;FMTTYPE=image/jpeg:https://stpaulcoptic.ca/wp-content/uploads/2023/12/Bible-sudy.jpg
END:VEVENT
BEGIN:VEVENT
DTSTART;TZID=America/Toronto:20240722T083000
DTEND;TZID=America/Toronto:20240722T163000
DTSTAMP:20260424T190332
CREATED:20240227T035042Z
LAST-MODIFIED:20240227T035919Z
UID:10002962-1721637000-1721665800@stpaulcoptic.ca
SUMMARY:Kids Summer Camp
DESCRIPTION:
URL:https://stpaulcoptic.ca/events/kids-summer-camp/2024-07-22/
ATTACH;FMTTYPE=image/jpeg:https://stpaulcoptic.ca/wp-content/uploads/2024/02/PHOTO-2024-02-17-16-35-24.jpg
END:VEVENT
BEGIN:VEVENT
DTSTART;TZID=America/Toronto:20240723T083000
DTEND;TZID=America/Toronto:20240723T163000
DTSTAMP:20260424T190332
CREATED:20240227T035042Z
LAST-MODIFIED:20240227T035919Z
UID:10002963-1721723400-1721752200@stpaulcoptic.ca
SUMMARY:Kids Summer Camp
DESCRIPTION:
URL:https://stpaulcoptic.ca/events/kids-summer-camp/2024-07-23/
ATTACH;FMTTYPE=image/jpeg:https://stpaulcoptic.ca/wp-content/uploads/2024/02/PHOTO-2024-02-17-16-35-24.jpg
END:VEVENT
BEGIN:VEVENT
DTSTART;TZID=America/Toronto:20240723T190000
DTEND;TZID=America/Toronto:20240723T210000
DTSTAMP:20260424T190332
CREATED:20231218T210306Z
LAST-MODIFIED:20231220T193457Z
UID:10001612-1721761200-1721768400@stpaulcoptic.ca
SUMMARY:COCA
DESCRIPTION:Christian Orthodox Campus-Ministry Association
URL:https://stpaulcoptic.ca/events/coca/2024-07-23/
ATTACH;FMTTYPE=image/jpeg:https://stpaulcoptic.ca/wp-content/uploads/2023/12/coca.jpg
END:VEVENT
BEGIN:VEVENT
DTSTART;TZID=America/Toronto:20240724T083000
DTEND;TZID=America/Toronto:20240724T110000
DTSTAMP:20260424T190332
CREATED:20240227T022930Z
LAST-MODIFIED:20240227T022932Z
UID:10002005-1721809800-1721818800@stpaulcoptic.ca
SUMMARY:Liturgy
DESCRIPTION:
URL:https://stpaulcoptic.ca/events/liturgy-15/2024-07-24/
CATEGORIES:Holy Liturgy
ATTACH;FMTTYPE=image/jpeg:https://stpaulcoptic.ca/wp-content/uploads/2023/12/liturgy-391x260-1.jpg
END:VEVENT
END:VCALENDAR