BEGIN:VCALENDAR
VERSION:2.0
PRODID:-//ST PAUL COPTIC - ECPv6.15.12.2//NONSGML v1.0//EN
CALSCALE:GREGORIAN
METHOD:PUBLISH
X-WR-CALNAME:ST PAUL COPTIC
X-ORIGINAL-URL:https://stpaulcoptic.ca
X-WR-CALDESC:Events for ST PAUL COPTIC
REFRESH-INTERVAL;VALUE=DURATION:PT1H
X-Robots-Tag:noindex
X-PUBLISHED-TTL:PT1H
BEGIN:VTIMEZONE
TZID:America/Toronto
BEGIN:DAYLIGHT
TZOFFSETFROM:-0500
TZOFFSETTO:-0400
TZNAME:EDT
DTSTART:20250309T070000
END:DAYLIGHT
BEGIN:STANDARD
TZOFFSETFROM:-0400
TZOFFSETTO:-0500
TZNAME:EST
DTSTART:20251102T060000
END:STANDARD
BEGIN:DAYLIGHT
TZOFFSETFROM:-0500
TZOFFSETTO:-0400
TZNAME:EDT
DTSTART:20260308T070000
END:DAYLIGHT
BEGIN:STANDARD
TZOFFSETFROM:-0400
TZOFFSETTO:-0500
TZNAME:EST
DTSTART:20261101T060000
END:STANDARD
BEGIN:DAYLIGHT
TZOFFSETFROM:-0500
TZOFFSETTO:-0400
TZNAME:EDT
DTSTART:20270314T070000
END:DAYLIGHT
BEGIN:STANDARD
TZOFFSETFROM:-0400
TZOFFSETTO:-0500
TZNAME:EST
DTSTART:20271107T060000
END:STANDARD
END:VTIMEZONE
BEGIN:VEVENT
DTSTART;TZID=America/Toronto:20260102T053000
DTEND;TZID=America/Toronto:20260102T073000
DTSTAMP:20260421T124332
CREATED:20250212T214123Z
LAST-MODIFIED:20250212T214123Z
UID:10005965-1767331800-1767339000@stpaulcoptic.ca
SUMMARY:Liturgy
DESCRIPTION:
URL:https://stpaulcoptic.ca/events/liturgy-148/2026-01-02/
ATTACH;FMTTYPE=image/png:https://stpaulcoptic.ca/wp-content/uploads/2023/12/image.png
END:VEVENT
BEGIN:VEVENT
DTSTART;TZID=America/Toronto:20260102T190000
DTEND;TZID=America/Toronto:20260102T203000
DTSTAMP:20260421T124332
CREATED:20231218T204117Z
LAST-MODIFIED:20240815T023605Z
UID:10004181-1767380400-1767385800@stpaulcoptic.ca
SUMMARY:Sunday School
DESCRIPTION:
URL:https://stpaulcoptic.ca/events/sunday-school/2026-01-02/
ATTACH;FMTTYPE=image/png:https://stpaulcoptic.ca/wp-content/uploads/2020/04/Sunday-School.png
END:VEVENT
BEGIN:VEVENT
DTSTART;TZID=America/Toronto:20260103T090000
DTEND;TZID=America/Toronto:20260103T110000
DTSTAMP:20260421T124332
CREATED:20240510T195932Z
LAST-MODIFIED:20240510T195944Z
UID:10003693-1767430800-1767438000@stpaulcoptic.ca
SUMMARY:Liturgy
DESCRIPTION:
URL:https://stpaulcoptic.ca/events/liturgy-37/2026-01-03/
ATTACH;FMTTYPE=image/jpeg:https://stpaulcoptic.ca/wp-content/uploads/2023/12/liturgy-391x260-1.jpg
END:VEVENT
BEGIN:VEVENT
DTSTART;TZID=America/Toronto:20260103T193000
DTEND;TZID=America/Toronto:20260103T200000
DTSTAMP:20260421T124332
CREATED:20240117T002300Z
LAST-MODIFIED:20240117T002301Z
UID:10002367-1767468600-1767470400@stpaulcoptic.ca
SUMMARY:Vespers Prayers
DESCRIPTION:
URL:https://stpaulcoptic.ca/events/vespers-prayers-3/2026-01-03/
END:VEVENT
BEGIN:VEVENT
DTSTART;TZID=America/Toronto:20260104T083000
DTEND;TZID=America/Toronto:20260104T113000
DTSTAMP:20260421T124332
CREATED:20231218T201920Z
LAST-MODIFIED:20231220T045034Z
UID:10000387-1767515400-1767526200@stpaulcoptic.ca
SUMMARY:Liturgy
DESCRIPTION:
URL:https://stpaulcoptic.ca/events/liturgy/2026-01-04/
ATTACH;FMTTYPE=image/jpeg:https://stpaulcoptic.ca/wp-content/uploads/2023/12/liturgy-391x260-1.jpg
END:VEVENT
BEGIN:VEVENT
DTSTART;TZID=America/Toronto:20260104T120000
DTEND;TZID=America/Toronto:20260104T133000
DTSTAMP:20260421T124332
CREATED:20231218T204223Z
LAST-MODIFIED:20231220T192941Z
UID:10000127-1767528000-1767533400@stpaulcoptic.ca
SUMMARY:Bible Study
DESCRIPTION:
URL:https://stpaulcoptic.ca/events/bible-study/2026-01-04/
ATTACH;FMTTYPE=image/jpeg:https://stpaulcoptic.ca/wp-content/uploads/2023/12/Bible-sudy.jpg
END:VEVENT
BEGIN:VEVENT
DTSTART;TZID=America/Toronto:20260106T190000
DTEND;TZID=America/Toronto:20260106T210000
DTSTAMP:20260421T124332
CREATED:20231218T210306Z
LAST-MODIFIED:20231220T193457Z
UID:10001688-1767726000-1767733200@stpaulcoptic.ca
SUMMARY:COCA
DESCRIPTION:Christian Orthodox Campus-Ministry Association
URL:https://stpaulcoptic.ca/events/coca/2026-01-06/
ATTACH;FMTTYPE=image/jpeg:https://stpaulcoptic.ca/wp-content/uploads/2023/12/coca.jpg
END:VEVENT
BEGIN:VEVENT
DTSTART;TZID=America/Toronto:20260107T083000
DTEND;TZID=America/Toronto:20260107T110000
DTSTAMP:20260421T124332
CREATED:20240227T022930Z
LAST-MODIFIED:20240227T022932Z
UID:10002081-1767774600-1767783600@stpaulcoptic.ca
SUMMARY:Liturgy
DESCRIPTION:
URL:https://stpaulcoptic.ca/events/liturgy-15/2026-01-07/
CATEGORIES:Holy Liturgy
ATTACH;FMTTYPE=image/jpeg:https://stpaulcoptic.ca/wp-content/uploads/2023/12/liturgy-391x260-1.jpg
END:VEVENT
BEGIN:VEVENT
DTSTART;TZID=America/Toronto:20260107T193000
DTEND;TZID=America/Toronto:20260107T213000
DTSTAMP:20260421T124332
CREATED:20250224T172506Z
LAST-MODIFIED:20251219T202445Z
UID:10006235-1767814200-1767821400@stpaulcoptic.ca
SUMMARY:Choir Practice
DESCRIPTION:High School\, University\, Adult
URL:https://stpaulcoptic.ca/events/choir-11/2026-01-07/
ATTACH;FMTTYPE=image/png:https://stpaulcoptic.ca/wp-content/uploads/2023/12/Choir.png
END:VEVENT
BEGIN:VEVENT
DTSTART;TZID=America/Toronto:20260109T053000
DTEND;TZID=America/Toronto:20260109T073000
DTSTAMP:20260421T124332
CREATED:20250212T214123Z
LAST-MODIFIED:20250212T214123Z
UID:10005966-1767936600-1767943800@stpaulcoptic.ca
SUMMARY:Liturgy
DESCRIPTION:
URL:https://stpaulcoptic.ca/events/liturgy-148/2026-01-09/
ATTACH;FMTTYPE=image/png:https://stpaulcoptic.ca/wp-content/uploads/2023/12/image.png
END:VEVENT
BEGIN:VEVENT
DTSTART;TZID=America/Toronto:20260109T190000
DTEND;TZID=America/Toronto:20260109T203000
DTSTAMP:20260421T124332
CREATED:20231218T204117Z
LAST-MODIFIED:20240815T023605Z
UID:10004182-1767985200-1767990600@stpaulcoptic.ca
SUMMARY:Sunday School
DESCRIPTION:
URL:https://stpaulcoptic.ca/events/sunday-school/2026-01-09/
ATTACH;FMTTYPE=image/png:https://stpaulcoptic.ca/wp-content/uploads/2020/04/Sunday-School.png
END:VEVENT
BEGIN:VEVENT
DTSTART;TZID=America/Toronto:20260110T193000
DTEND;TZID=America/Toronto:20260110T200000
DTSTAMP:20260421T124332
CREATED:20240117T002300Z
LAST-MODIFIED:20240117T002301Z
UID:10002368-1768073400-1768075200@stpaulcoptic.ca
SUMMARY:Vespers Prayers
DESCRIPTION:
URL:https://stpaulcoptic.ca/events/vespers-prayers-3/2026-01-10/
END:VEVENT
BEGIN:VEVENT
DTSTART;TZID=America/Toronto:20260111T083000
DTEND;TZID=America/Toronto:20260111T113000
DTSTAMP:20260421T124332
CREATED:20231218T201920Z
LAST-MODIFIED:20231220T045034Z
UID:10000388-1768120200-1768131000@stpaulcoptic.ca
SUMMARY:Liturgy
DESCRIPTION:
URL:https://stpaulcoptic.ca/events/liturgy/2026-01-11/
ATTACH;FMTTYPE=image/jpeg:https://stpaulcoptic.ca/wp-content/uploads/2023/12/liturgy-391x260-1.jpg
END:VEVENT
BEGIN:VEVENT
DTSTART;TZID=America/Toronto:20260111T120000
DTEND;TZID=America/Toronto:20260111T133000
DTSTAMP:20260421T124332
CREATED:20231218T204223Z
LAST-MODIFIED:20231220T192941Z
UID:10000128-1768132800-1768138200@stpaulcoptic.ca
SUMMARY:Bible Study
DESCRIPTION:
URL:https://stpaulcoptic.ca/events/bible-study/2026-01-11/
ATTACH;FMTTYPE=image/jpeg:https://stpaulcoptic.ca/wp-content/uploads/2023/12/Bible-sudy.jpg
END:VEVENT
BEGIN:VEVENT
DTSTART;TZID=America/Toronto:20260113T190000
DTEND;TZID=America/Toronto:20260113T210000
DTSTAMP:20260421T124332
CREATED:20231218T210306Z
LAST-MODIFIED:20231220T193457Z
UID:10001689-1768330800-1768338000@stpaulcoptic.ca
SUMMARY:COCA
DESCRIPTION:Christian Orthodox Campus-Ministry Association
URL:https://stpaulcoptic.ca/events/coca/2026-01-13/
ATTACH;FMTTYPE=image/jpeg:https://stpaulcoptic.ca/wp-content/uploads/2023/12/coca.jpg
END:VEVENT
BEGIN:VEVENT
DTSTART;TZID=America/Toronto:20260114T083000
DTEND;TZID=America/Toronto:20260114T110000
DTSTAMP:20260421T124332
CREATED:20240227T022930Z
LAST-MODIFIED:20240227T022932Z
UID:10002082-1768379400-1768388400@stpaulcoptic.ca
SUMMARY:Liturgy
DESCRIPTION:
URL:https://stpaulcoptic.ca/events/liturgy-15/2026-01-14/
CATEGORIES:Holy Liturgy
ATTACH;FMTTYPE=image/jpeg:https://stpaulcoptic.ca/wp-content/uploads/2023/12/liturgy-391x260-1.jpg
END:VEVENT
BEGIN:VEVENT
DTSTART;TZID=America/Toronto:20260114T193000
DTEND;TZID=America/Toronto:20260114T213000
DTSTAMP:20260421T124332
CREATED:20250224T172506Z
LAST-MODIFIED:20251219T202445Z
UID:10006236-1768419000-1768426200@stpaulcoptic.ca
SUMMARY:Choir Practice
DESCRIPTION:High School\, University\, Adult
URL:https://stpaulcoptic.ca/events/choir-11/2026-01-14/
ATTACH;FMTTYPE=image/png:https://stpaulcoptic.ca/wp-content/uploads/2023/12/Choir.png
END:VEVENT
BEGIN:VEVENT
DTSTART;TZID=America/Toronto:20260116T053000
DTEND;TZID=America/Toronto:20260116T073000
DTSTAMP:20260421T124332
CREATED:20250212T214123Z
LAST-MODIFIED:20250212T214123Z
UID:10005967-1768541400-1768548600@stpaulcoptic.ca
SUMMARY:Liturgy
DESCRIPTION:
URL:https://stpaulcoptic.ca/events/liturgy-148/2026-01-16/
ATTACH;FMTTYPE=image/png:https://stpaulcoptic.ca/wp-content/uploads/2023/12/image.png
END:VEVENT
BEGIN:VEVENT
DTSTART;TZID=America/Toronto:20260116T190000
DTEND;TZID=America/Toronto:20260116T203000
DTSTAMP:20260421T124332
CREATED:20231218T204117Z
LAST-MODIFIED:20240815T023605Z
UID:10004183-1768590000-1768595400@stpaulcoptic.ca
SUMMARY:Sunday School
DESCRIPTION:
URL:https://stpaulcoptic.ca/events/sunday-school/2026-01-16/
ATTACH;FMTTYPE=image/png:https://stpaulcoptic.ca/wp-content/uploads/2020/04/Sunday-School.png
END:VEVENT
BEGIN:VEVENT
DTSTART;TZID=America/Toronto:20260117T090000
DTEND;TZID=America/Toronto:20260117T110000
DTSTAMP:20260421T124332
CREATED:20240510T195932Z
LAST-MODIFIED:20240510T195944Z
UID:10003694-1768640400-1768647600@stpaulcoptic.ca
SUMMARY:Liturgy
DESCRIPTION:
URL:https://stpaulcoptic.ca/events/liturgy-37/2026-01-17/
ATTACH;FMTTYPE=image/jpeg:https://stpaulcoptic.ca/wp-content/uploads/2023/12/liturgy-391x260-1.jpg
END:VEVENT
BEGIN:VEVENT
DTSTART;TZID=America/Toronto:20260117T193000
DTEND;TZID=America/Toronto:20260117T200000
DTSTAMP:20260421T124332
CREATED:20240117T002300Z
LAST-MODIFIED:20240117T002301Z
UID:10002369-1768678200-1768680000@stpaulcoptic.ca
SUMMARY:Vespers Prayers
DESCRIPTION:
URL:https://stpaulcoptic.ca/events/vespers-prayers-3/2026-01-17/
END:VEVENT
BEGIN:VEVENT
DTSTART;TZID=America/Toronto:20260118T083000
DTEND;TZID=America/Toronto:20260118T113000
DTSTAMP:20260421T124332
CREATED:20231218T201920Z
LAST-MODIFIED:20231220T045034Z
UID:10000389-1768725000-1768735800@stpaulcoptic.ca
SUMMARY:Liturgy
DESCRIPTION:
URL:https://stpaulcoptic.ca/events/liturgy/2026-01-18/
ATTACH;FMTTYPE=image/jpeg:https://stpaulcoptic.ca/wp-content/uploads/2023/12/liturgy-391x260-1.jpg
END:VEVENT
BEGIN:VEVENT
DTSTART;TZID=America/Toronto:20260118T120000
DTEND;TZID=America/Toronto:20260118T133000
DTSTAMP:20260421T124332
CREATED:20231218T204223Z
LAST-MODIFIED:20231220T192941Z
UID:10000129-1768737600-1768743000@stpaulcoptic.ca
SUMMARY:Bible Study
DESCRIPTION:
URL:https://stpaulcoptic.ca/events/bible-study/2026-01-18/
ATTACH;FMTTYPE=image/jpeg:https://stpaulcoptic.ca/wp-content/uploads/2023/12/Bible-sudy.jpg
END:VEVENT
BEGIN:VEVENT
DTSTART;TZID=America/Toronto:20260120T190000
DTEND;TZID=America/Toronto:20260120T210000
DTSTAMP:20260421T124332
CREATED:20231218T210306Z
LAST-MODIFIED:20231220T193457Z
UID:10001690-1768935600-1768942800@stpaulcoptic.ca
SUMMARY:COCA
DESCRIPTION:Christian Orthodox Campus-Ministry Association
URL:https://stpaulcoptic.ca/events/coca/2026-01-20/
ATTACH;FMTTYPE=image/jpeg:https://stpaulcoptic.ca/wp-content/uploads/2023/12/coca.jpg
END:VEVENT
BEGIN:VEVENT
DTSTART;TZID=America/Toronto:20260121T083000
DTEND;TZID=America/Toronto:20260121T110000
DTSTAMP:20260421T124332
CREATED:20240227T022930Z
LAST-MODIFIED:20240227T022932Z
UID:10002083-1768984200-1768993200@stpaulcoptic.ca
SUMMARY:Liturgy
DESCRIPTION:
URL:https://stpaulcoptic.ca/events/liturgy-15/2026-01-21/
CATEGORIES:Holy Liturgy
ATTACH;FMTTYPE=image/jpeg:https://stpaulcoptic.ca/wp-content/uploads/2023/12/liturgy-391x260-1.jpg
END:VEVENT
BEGIN:VEVENT
DTSTART;TZID=America/Toronto:20260121T193000
DTEND;TZID=America/Toronto:20260121T213000
DTSTAMP:20260421T124332
CREATED:20250224T172506Z
LAST-MODIFIED:20251219T202445Z
UID:10006237-1769023800-1769031000@stpaulcoptic.ca
SUMMARY:Choir Practice
DESCRIPTION:High School\, University\, Adult
URL:https://stpaulcoptic.ca/events/choir-11/2026-01-21/
ATTACH;FMTTYPE=image/png:https://stpaulcoptic.ca/wp-content/uploads/2023/12/Choir.png
END:VEVENT
BEGIN:VEVENT
DTSTART;TZID=America/Toronto:20260123T053000
DTEND;TZID=America/Toronto:20260123T073000
DTSTAMP:20260421T124332
CREATED:20250212T214123Z
LAST-MODIFIED:20250212T214123Z
UID:10005968-1769146200-1769153400@stpaulcoptic.ca
SUMMARY:Liturgy
DESCRIPTION:
URL:https://stpaulcoptic.ca/events/liturgy-148/2026-01-23/
ATTACH;FMTTYPE=image/png:https://stpaulcoptic.ca/wp-content/uploads/2023/12/image.png
END:VEVENT
BEGIN:VEVENT
DTSTART;TZID=America/Toronto:20260123T190000
DTEND;TZID=America/Toronto:20260123T203000
DTSTAMP:20260421T124332
CREATED:20231218T204117Z
LAST-MODIFIED:20240815T023605Z
UID:10004184-1769194800-1769200200@stpaulcoptic.ca
SUMMARY:Sunday School
DESCRIPTION:
URL:https://stpaulcoptic.ca/events/sunday-school/2026-01-23/
ATTACH;FMTTYPE=image/png:https://stpaulcoptic.ca/wp-content/uploads/2020/04/Sunday-School.png
END:VEVENT
BEGIN:VEVENT
DTSTART;TZID=America/Toronto:20260124T193000
DTEND;TZID=America/Toronto:20260124T200000
DTSTAMP:20260421T124332
CREATED:20240117T002300Z
LAST-MODIFIED:20240117T002301Z
UID:10002370-1769283000-1769284800@stpaulcoptic.ca
SUMMARY:Vespers Prayers
DESCRIPTION:
URL:https://stpaulcoptic.ca/events/vespers-prayers-3/2026-01-24/
END:VEVENT
BEGIN:VEVENT
DTSTART;TZID=America/Toronto:20260125T083000
DTEND;TZID=America/Toronto:20260125T113000
DTSTAMP:20260421T124332
CREATED:20231218T201920Z
LAST-MODIFIED:20231220T045034Z
UID:10000390-1769329800-1769340600@stpaulcoptic.ca
SUMMARY:Liturgy
DESCRIPTION:
URL:https://stpaulcoptic.ca/events/liturgy/2026-01-25/
ATTACH;FMTTYPE=image/jpeg:https://stpaulcoptic.ca/wp-content/uploads/2023/12/liturgy-391x260-1.jpg
END:VEVENT
END:VCALENDAR