BEGIN:VCALENDAR
VERSION:2.0
PRODID:-//ST PAUL COPTIC - ECPv6.15.12.2//NONSGML v1.0//EN
CALSCALE:GREGORIAN
METHOD:PUBLISH
X-ORIGINAL-URL:https://stpaulcoptic.ca
X-WR-CALDESC:Events for ST PAUL COPTIC
REFRESH-INTERVAL;VALUE=DURATION:PT1H
X-Robots-Tag:noindex
X-PUBLISHED-TTL:PT1H
BEGIN:VTIMEZONE
TZID:America/Toronto
BEGIN:DAYLIGHT
TZOFFSETFROM:-0500
TZOFFSETTO:-0400
TZNAME:EDT
DTSTART:20250309T070000
END:DAYLIGHT
BEGIN:STANDARD
TZOFFSETFROM:-0400
TZOFFSETTO:-0500
TZNAME:EST
DTSTART:20251102T060000
END:STANDARD
BEGIN:DAYLIGHT
TZOFFSETFROM:-0500
TZOFFSETTO:-0400
TZNAME:EDT
DTSTART:20260308T070000
END:DAYLIGHT
BEGIN:STANDARD
TZOFFSETFROM:-0400
TZOFFSETTO:-0500
TZNAME:EST
DTSTART:20261101T060000
END:STANDARD
BEGIN:DAYLIGHT
TZOFFSETFROM:-0500
TZOFFSETTO:-0400
TZNAME:EDT
DTSTART:20270314T070000
END:DAYLIGHT
BEGIN:STANDARD
TZOFFSETFROM:-0400
TZOFFSETTO:-0500
TZNAME:EST
DTSTART:20271107T060000
END:STANDARD
END:VTIMEZONE
BEGIN:VEVENT
DTSTART;TZID=America/Toronto:20260301T083000
DTEND;TZID=America/Toronto:20260301T113000
DTSTAMP:20260425T114415
CREATED:20231218T201920Z
LAST-MODIFIED:20231220T045034Z
UID:10000395-1772353800-1772364600@stpaulcoptic.ca
SUMMARY:Liturgy
DESCRIPTION:
URL:https://stpaulcoptic.ca/events/liturgy/2026-03-01/
ATTACH;FMTTYPE=image/jpeg:https://stpaulcoptic.ca/wp-content/uploads/2023/12/liturgy-391x260-1.jpg
END:VEVENT
BEGIN:VEVENT
DTSTART;TZID=America/Toronto:20260301T120000
DTEND;TZID=America/Toronto:20260301T133000
DTSTAMP:20260425T114415
CREATED:20231218T204223Z
LAST-MODIFIED:20231220T192941Z
UID:10000135-1772366400-1772371800@stpaulcoptic.ca
SUMMARY:Bible Study
DESCRIPTION:
URL:https://stpaulcoptic.ca/events/bible-study/2026-03-01/
ATTACH;FMTTYPE=image/jpeg:https://stpaulcoptic.ca/wp-content/uploads/2023/12/Bible-sudy.jpg
END:VEVENT
BEGIN:VEVENT
DTSTART;TZID=America/Toronto:20260303T190000
DTEND;TZID=America/Toronto:20260303T210000
DTSTAMP:20260425T114415
CREATED:20231218T210306Z
LAST-MODIFIED:20231220T193457Z
UID:10001696-1772564400-1772571600@stpaulcoptic.ca
SUMMARY:COCA
DESCRIPTION:Christian Orthodox Campus-Ministry Association
URL:https://stpaulcoptic.ca/events/coca/2026-03-03/
ATTACH;FMTTYPE=image/jpeg:https://stpaulcoptic.ca/wp-content/uploads/2023/12/coca.jpg
END:VEVENT
BEGIN:VEVENT
DTSTART;TZID=America/Toronto:20260304T083000
DTEND;TZID=America/Toronto:20260304T110000
DTSTAMP:20260425T114415
CREATED:20240227T022930Z
LAST-MODIFIED:20240227T022932Z
UID:10002089-1772613000-1772622000@stpaulcoptic.ca
SUMMARY:Liturgy
DESCRIPTION:
URL:https://stpaulcoptic.ca/events/liturgy-15/2026-03-04/
CATEGORIES:Holy Liturgy
ATTACH;FMTTYPE=image/jpeg:https://stpaulcoptic.ca/wp-content/uploads/2023/12/liturgy-391x260-1.jpg
END:VEVENT
BEGIN:VEVENT
DTSTART;TZID=America/Toronto:20260304T193000
DTEND;TZID=America/Toronto:20260304T213000
DTSTAMP:20260425T114415
CREATED:20250224T172506Z
LAST-MODIFIED:20251219T202445Z
UID:10006243-1772652600-1772659800@stpaulcoptic.ca
SUMMARY:Choir Practice
DESCRIPTION:High School\, University\, Adult
URL:https://stpaulcoptic.ca/events/choir-11/2026-03-04/
ATTACH;FMTTYPE=image/png:https://stpaulcoptic.ca/wp-content/uploads/2023/12/Choir.png
END:VEVENT
BEGIN:VEVENT
DTSTART;TZID=America/Toronto:20260306T053000
DTEND;TZID=America/Toronto:20260306T073000
DTSTAMP:20260425T114415
CREATED:20250212T214123Z
LAST-MODIFIED:20250212T214123Z
UID:10005974-1772775000-1772782200@stpaulcoptic.ca
SUMMARY:Liturgy
DESCRIPTION:
URL:https://stpaulcoptic.ca/events/liturgy-148/2026-03-06/
ATTACH;FMTTYPE=image/png:https://stpaulcoptic.ca/wp-content/uploads/2023/12/image.png
END:VEVENT
BEGIN:VEVENT
DTSTART;TZID=America/Toronto:20260306T190000
DTEND;TZID=America/Toronto:20260306T203000
DTSTAMP:20260425T114415
CREATED:20231218T204117Z
LAST-MODIFIED:20240815T023605Z
UID:10004190-1772823600-1772829000@stpaulcoptic.ca
SUMMARY:Sunday School
DESCRIPTION:
URL:https://stpaulcoptic.ca/events/sunday-school/2026-03-06/
ATTACH;FMTTYPE=image/png:https://stpaulcoptic.ca/wp-content/uploads/2020/04/Sunday-School.png
END:VEVENT
BEGIN:VEVENT
DTSTART;TZID=America/Toronto:20260307T193000
DTEND;TZID=America/Toronto:20260307T200000
DTSTAMP:20260425T114415
CREATED:20240117T002300Z
LAST-MODIFIED:20240117T002301Z
UID:10002376-1772911800-1772913600@stpaulcoptic.ca
SUMMARY:Vespers Prayers
DESCRIPTION:
URL:https://stpaulcoptic.ca/events/vespers-prayers-3/2026-03-07/
END:VEVENT
BEGIN:VEVENT
DTSTART;TZID=America/Toronto:20260308T083000
DTEND;TZID=America/Toronto:20260308T113000
DTSTAMP:20260425T114415
CREATED:20231218T201920Z
LAST-MODIFIED:20231220T045034Z
UID:10000396-1772958600-1772969400@stpaulcoptic.ca
SUMMARY:Liturgy
DESCRIPTION:
URL:https://stpaulcoptic.ca/events/liturgy/2026-03-08/
ATTACH;FMTTYPE=image/jpeg:https://stpaulcoptic.ca/wp-content/uploads/2023/12/liturgy-391x260-1.jpg
END:VEVENT
BEGIN:VEVENT
DTSTART;TZID=America/Toronto:20260308T120000
DTEND;TZID=America/Toronto:20260308T133000
DTSTAMP:20260425T114415
CREATED:20231218T204223Z
LAST-MODIFIED:20231220T192941Z
UID:10000136-1772971200-1772976600@stpaulcoptic.ca
SUMMARY:Bible Study
DESCRIPTION:
URL:https://stpaulcoptic.ca/events/bible-study/2026-03-08/
ATTACH;FMTTYPE=image/jpeg:https://stpaulcoptic.ca/wp-content/uploads/2023/12/Bible-sudy.jpg
END:VEVENT
BEGIN:VEVENT
DTSTART;TZID=America/Toronto:20260310T190000
DTEND;TZID=America/Toronto:20260310T210000
DTSTAMP:20260425T114415
CREATED:20231218T210306Z
LAST-MODIFIED:20231220T193457Z
UID:10001697-1773169200-1773176400@stpaulcoptic.ca
SUMMARY:COCA
DESCRIPTION:Christian Orthodox Campus-Ministry Association
URL:https://stpaulcoptic.ca/events/coca/2026-03-10/
ATTACH;FMTTYPE=image/jpeg:https://stpaulcoptic.ca/wp-content/uploads/2023/12/coca.jpg
END:VEVENT
BEGIN:VEVENT
DTSTART;TZID=America/Toronto:20260311T083000
DTEND;TZID=America/Toronto:20260311T110000
DTSTAMP:20260425T114415
CREATED:20240227T022930Z
LAST-MODIFIED:20240227T022932Z
UID:10002090-1773217800-1773226800@stpaulcoptic.ca
SUMMARY:Liturgy
DESCRIPTION:
URL:https://stpaulcoptic.ca/events/liturgy-15/2026-03-11/
CATEGORIES:Holy Liturgy
ATTACH;FMTTYPE=image/jpeg:https://stpaulcoptic.ca/wp-content/uploads/2023/12/liturgy-391x260-1.jpg
END:VEVENT
BEGIN:VEVENT
DTSTART;TZID=America/Toronto:20260311T193000
DTEND;TZID=America/Toronto:20260311T213000
DTSTAMP:20260425T114415
CREATED:20250224T172506Z
LAST-MODIFIED:20251219T202445Z
UID:10006244-1773257400-1773264600@stpaulcoptic.ca
SUMMARY:Choir Practice
DESCRIPTION:High School\, University\, Adult
URL:https://stpaulcoptic.ca/events/choir-11/2026-03-11/
ATTACH;FMTTYPE=image/png:https://stpaulcoptic.ca/wp-content/uploads/2023/12/Choir.png
END:VEVENT
BEGIN:VEVENT
DTSTART;TZID=America/Toronto:20260313T053000
DTEND;TZID=America/Toronto:20260313T073000
DTSTAMP:20260425T114415
CREATED:20250212T214123Z
LAST-MODIFIED:20250212T214123Z
UID:10005975-1773379800-1773387000@stpaulcoptic.ca
SUMMARY:Liturgy
DESCRIPTION:
URL:https://stpaulcoptic.ca/events/liturgy-148/2026-03-13/
ATTACH;FMTTYPE=image/png:https://stpaulcoptic.ca/wp-content/uploads/2023/12/image.png
END:VEVENT
BEGIN:VEVENT
DTSTART;TZID=America/Toronto:20260313T190000
DTEND;TZID=America/Toronto:20260313T203000
DTSTAMP:20260425T114415
CREATED:20231218T204117Z
LAST-MODIFIED:20240815T023605Z
UID:10004191-1773428400-1773433800@stpaulcoptic.ca
SUMMARY:Sunday School
DESCRIPTION:
URL:https://stpaulcoptic.ca/events/sunday-school/2026-03-13/
ATTACH;FMTTYPE=image/png:https://stpaulcoptic.ca/wp-content/uploads/2020/04/Sunday-School.png
END:VEVENT
BEGIN:VEVENT
DTSTART;TZID=America/Toronto:20260314T090000
DTEND;TZID=America/Toronto:20260314T110000
DTSTAMP:20260425T114415
CREATED:20240510T195932Z
LAST-MODIFIED:20240510T195944Z
UID:10003698-1773478800-1773486000@stpaulcoptic.ca
SUMMARY:Liturgy
DESCRIPTION:
URL:https://stpaulcoptic.ca/events/liturgy-37/2026-03-14/
ATTACH;FMTTYPE=image/jpeg:https://stpaulcoptic.ca/wp-content/uploads/2023/12/liturgy-391x260-1.jpg
END:VEVENT
BEGIN:VEVENT
DTSTART;TZID=America/Toronto:20260314T193000
DTEND;TZID=America/Toronto:20260314T200000
DTSTAMP:20260425T114415
CREATED:20240117T002300Z
LAST-MODIFIED:20240117T002301Z
UID:10002377-1773516600-1773518400@stpaulcoptic.ca
SUMMARY:Vespers Prayers
DESCRIPTION:
URL:https://stpaulcoptic.ca/events/vespers-prayers-3/2026-03-14/
END:VEVENT
BEGIN:VEVENT
DTSTART;TZID=America/Toronto:20260315T083000
DTEND;TZID=America/Toronto:20260315T113000
DTSTAMP:20260425T114415
CREATED:20231218T201920Z
LAST-MODIFIED:20231220T045034Z
UID:10000397-1773563400-1773574200@stpaulcoptic.ca
SUMMARY:Liturgy
DESCRIPTION:
URL:https://stpaulcoptic.ca/events/liturgy/2026-03-15/
ATTACH;FMTTYPE=image/jpeg:https://stpaulcoptic.ca/wp-content/uploads/2023/12/liturgy-391x260-1.jpg
END:VEVENT
BEGIN:VEVENT
DTSTART;TZID=America/Toronto:20260315T120000
DTEND;TZID=America/Toronto:20260315T133000
DTSTAMP:20260425T114415
CREATED:20231218T204223Z
LAST-MODIFIED:20231220T192941Z
UID:10000137-1773576000-1773581400@stpaulcoptic.ca
SUMMARY:Bible Study
DESCRIPTION:
URL:https://stpaulcoptic.ca/events/bible-study/2026-03-15/
ATTACH;FMTTYPE=image/jpeg:https://stpaulcoptic.ca/wp-content/uploads/2023/12/Bible-sudy.jpg
END:VEVENT
BEGIN:VEVENT
DTSTART;TZID=America/Toronto:20260317T190000
DTEND;TZID=America/Toronto:20260317T210000
DTSTAMP:20260425T114415
CREATED:20231218T210306Z
LAST-MODIFIED:20231220T193457Z
UID:10001698-1773774000-1773781200@stpaulcoptic.ca
SUMMARY:COCA
DESCRIPTION:Christian Orthodox Campus-Ministry Association
URL:https://stpaulcoptic.ca/events/coca/2026-03-17/
ATTACH;FMTTYPE=image/jpeg:https://stpaulcoptic.ca/wp-content/uploads/2023/12/coca.jpg
END:VEVENT
BEGIN:VEVENT
DTSTART;TZID=America/Toronto:20260318T083000
DTEND;TZID=America/Toronto:20260318T110000
DTSTAMP:20260425T114415
CREATED:20240227T022930Z
LAST-MODIFIED:20240227T022932Z
UID:10002091-1773822600-1773831600@stpaulcoptic.ca
SUMMARY:Liturgy
DESCRIPTION:
URL:https://stpaulcoptic.ca/events/liturgy-15/2026-03-18/
CATEGORIES:Holy Liturgy
ATTACH;FMTTYPE=image/jpeg:https://stpaulcoptic.ca/wp-content/uploads/2023/12/liturgy-391x260-1.jpg
END:VEVENT
BEGIN:VEVENT
DTSTART;TZID=America/Toronto:20260318T193000
DTEND;TZID=America/Toronto:20260318T213000
DTSTAMP:20260425T114415
CREATED:20250224T172506Z
LAST-MODIFIED:20251219T202445Z
UID:10006245-1773862200-1773869400@stpaulcoptic.ca
SUMMARY:Choir Practice
DESCRIPTION:High School\, University\, Adult
URL:https://stpaulcoptic.ca/events/choir-11/2026-03-18/
ATTACH;FMTTYPE=image/png:https://stpaulcoptic.ca/wp-content/uploads/2023/12/Choir.png
END:VEVENT
BEGIN:VEVENT
DTSTART;TZID=America/Toronto:20260320T053000
DTEND;TZID=America/Toronto:20260320T073000
DTSTAMP:20260425T114415
CREATED:20250212T214123Z
LAST-MODIFIED:20250212T214123Z
UID:10005976-1773984600-1773991800@stpaulcoptic.ca
SUMMARY:Liturgy
DESCRIPTION:
URL:https://stpaulcoptic.ca/events/liturgy-148/2026-03-20/
ATTACH;FMTTYPE=image/png:https://stpaulcoptic.ca/wp-content/uploads/2023/12/image.png
END:VEVENT
BEGIN:VEVENT
DTSTART;TZID=America/Toronto:20260320T190000
DTEND;TZID=America/Toronto:20260320T203000
DTSTAMP:20260425T114415
CREATED:20231218T204117Z
LAST-MODIFIED:20240815T023605Z
UID:10004192-1774033200-1774038600@stpaulcoptic.ca
SUMMARY:Sunday School
DESCRIPTION:
URL:https://stpaulcoptic.ca/events/sunday-school/2026-03-20/
ATTACH;FMTTYPE=image/png:https://stpaulcoptic.ca/wp-content/uploads/2020/04/Sunday-School.png
END:VEVENT
BEGIN:VEVENT
DTSTART;TZID=America/Toronto:20260321T193000
DTEND;TZID=America/Toronto:20260321T200000
DTSTAMP:20260425T114415
CREATED:20240117T002300Z
LAST-MODIFIED:20240117T002301Z
UID:10002378-1774121400-1774123200@stpaulcoptic.ca
SUMMARY:Vespers Prayers
DESCRIPTION:
URL:https://stpaulcoptic.ca/events/vespers-prayers-3/2026-03-21/
END:VEVENT
BEGIN:VEVENT
DTSTART;TZID=America/Toronto:20260322T083000
DTEND;TZID=America/Toronto:20260322T113000
DTSTAMP:20260425T114415
CREATED:20231218T201920Z
LAST-MODIFIED:20231220T045034Z
UID:10000398-1774168200-1774179000@stpaulcoptic.ca
SUMMARY:Liturgy
DESCRIPTION:
URL:https://stpaulcoptic.ca/events/liturgy/2026-03-22/
ATTACH;FMTTYPE=image/jpeg:https://stpaulcoptic.ca/wp-content/uploads/2023/12/liturgy-391x260-1.jpg
END:VEVENT
BEGIN:VEVENT
DTSTART;TZID=America/Toronto:20260322T120000
DTEND;TZID=America/Toronto:20260322T133000
DTSTAMP:20260425T114415
CREATED:20231218T204223Z
LAST-MODIFIED:20231220T192941Z
UID:10000138-1774180800-1774186200@stpaulcoptic.ca
SUMMARY:Bible Study
DESCRIPTION:
URL:https://stpaulcoptic.ca/events/bible-study/2026-03-22/
ATTACH;FMTTYPE=image/jpeg:https://stpaulcoptic.ca/wp-content/uploads/2023/12/Bible-sudy.jpg
END:VEVENT
BEGIN:VEVENT
DTSTART;TZID=America/Toronto:20260324T190000
DTEND;TZID=America/Toronto:20260324T210000
DTSTAMP:20260425T114415
CREATED:20231218T210306Z
LAST-MODIFIED:20231220T193457Z
UID:10001699-1774378800-1774386000@stpaulcoptic.ca
SUMMARY:COCA
DESCRIPTION:Christian Orthodox Campus-Ministry Association
URL:https://stpaulcoptic.ca/events/coca/2026-03-24/
ATTACH;FMTTYPE=image/jpeg:https://stpaulcoptic.ca/wp-content/uploads/2023/12/coca.jpg
END:VEVENT
BEGIN:VEVENT
DTSTART;TZID=America/Toronto:20260325T083000
DTEND;TZID=America/Toronto:20260325T110000
DTSTAMP:20260425T114415
CREATED:20240227T022930Z
LAST-MODIFIED:20240227T022932Z
UID:10002092-1774427400-1774436400@stpaulcoptic.ca
SUMMARY:Liturgy
DESCRIPTION:
URL:https://stpaulcoptic.ca/events/liturgy-15/2026-03-25/
CATEGORIES:Holy Liturgy
ATTACH;FMTTYPE=image/jpeg:https://stpaulcoptic.ca/wp-content/uploads/2023/12/liturgy-391x260-1.jpg
END:VEVENT
BEGIN:VEVENT
DTSTART;TZID=America/Toronto:20260325T193000
DTEND;TZID=America/Toronto:20260325T213000
DTSTAMP:20260425T114415
CREATED:20250224T172506Z
LAST-MODIFIED:20251219T202445Z
UID:10006246-1774467000-1774474200@stpaulcoptic.ca
SUMMARY:Choir Practice
DESCRIPTION:High School\, University\, Adult
URL:https://stpaulcoptic.ca/events/choir-11/2026-03-25/
ATTACH;FMTTYPE=image/png:https://stpaulcoptic.ca/wp-content/uploads/2023/12/Choir.png
END:VEVENT
END:VCALENDAR