BEGIN:VCALENDAR
VERSION:2.0
PRODID:-//ST PAUL COPTIC - ECPv6.15.12.2//NONSGML v1.0//EN
CALSCALE:GREGORIAN
METHOD:PUBLISH
X-WR-CALNAME:ST PAUL COPTIC
X-ORIGINAL-URL:https://stpaulcoptic.ca
X-WR-CALDESC:Events for ST PAUL COPTIC
REFRESH-INTERVAL;VALUE=DURATION:PT1H
X-Robots-Tag:noindex
X-PUBLISHED-TTL:PT1H
BEGIN:VTIMEZONE
TZID:America/Toronto
BEGIN:DAYLIGHT
TZOFFSETFROM:-0500
TZOFFSETTO:-0400
TZNAME:EDT
DTSTART:20250309T070000
END:DAYLIGHT
BEGIN:STANDARD
TZOFFSETFROM:-0400
TZOFFSETTO:-0500
TZNAME:EST
DTSTART:20251102T060000
END:STANDARD
BEGIN:DAYLIGHT
TZOFFSETFROM:-0500
TZOFFSETTO:-0400
TZNAME:EDT
DTSTART:20260308T070000
END:DAYLIGHT
BEGIN:STANDARD
TZOFFSETFROM:-0400
TZOFFSETTO:-0500
TZNAME:EST
DTSTART:20261101T060000
END:STANDARD
BEGIN:DAYLIGHT
TZOFFSETFROM:-0500
TZOFFSETTO:-0400
TZNAME:EDT
DTSTART:20270314T070000
END:DAYLIGHT
BEGIN:STANDARD
TZOFFSETFROM:-0400
TZOFFSETTO:-0500
TZNAME:EST
DTSTART:20271107T060000
END:STANDARD
END:VTIMEZONE
BEGIN:VEVENT
DTSTART;TZID=America/Toronto:20260426T120000
DTEND;TZID=America/Toronto:20260426T133000
DTSTAMP:20260421T031744
CREATED:20231218T204223Z
LAST-MODIFIED:20231220T192941Z
UID:10000143-1777204800-1777210200@stpaulcoptic.ca
SUMMARY:Bible Study
DESCRIPTION:
URL:https://stpaulcoptic.ca/events/bible-study/2026-04-26/
ATTACH;FMTTYPE=image/jpeg:https://stpaulcoptic.ca/wp-content/uploads/2023/12/Bible-sudy.jpg
END:VEVENT
BEGIN:VEVENT
DTSTART;TZID=America/Toronto:20260503T120000
DTEND;TZID=America/Toronto:20260503T133000
DTSTAMP:20260421T031744
CREATED:20231218T204223Z
LAST-MODIFIED:20231220T192941Z
UID:10000144-1777809600-1777815000@stpaulcoptic.ca
SUMMARY:Bible Study
DESCRIPTION:
URL:https://stpaulcoptic.ca/events/bible-study/2026-05-03/
ATTACH;FMTTYPE=image/jpeg:https://stpaulcoptic.ca/wp-content/uploads/2023/12/Bible-sudy.jpg
END:VEVENT
BEGIN:VEVENT
DTSTART;TZID=America/Toronto:20260510T120000
DTEND;TZID=America/Toronto:20260510T133000
DTSTAMP:20260421T031744
CREATED:20231218T204223Z
LAST-MODIFIED:20231220T192941Z
UID:10000145-1778414400-1778419800@stpaulcoptic.ca
SUMMARY:Bible Study
DESCRIPTION:
URL:https://stpaulcoptic.ca/events/bible-study/2026-05-10/
ATTACH;FMTTYPE=image/jpeg:https://stpaulcoptic.ca/wp-content/uploads/2023/12/Bible-sudy.jpg
END:VEVENT
BEGIN:VEVENT
DTSTART;TZID=America/Toronto:20260517T120000
DTEND;TZID=America/Toronto:20260517T133000
DTSTAMP:20260421T031744
CREATED:20231218T204223Z
LAST-MODIFIED:20231220T192941Z
UID:10000146-1779019200-1779024600@stpaulcoptic.ca
SUMMARY:Bible Study
DESCRIPTION:
URL:https://stpaulcoptic.ca/events/bible-study/2026-05-17/
ATTACH;FMTTYPE=image/jpeg:https://stpaulcoptic.ca/wp-content/uploads/2023/12/Bible-sudy.jpg
END:VEVENT
BEGIN:VEVENT
DTSTART;TZID=America/Toronto:20260524T120000
DTEND;TZID=America/Toronto:20260524T133000
DTSTAMP:20260421T031744
CREATED:20231218T204223Z
LAST-MODIFIED:20231220T192941Z
UID:10000147-1779624000-1779629400@stpaulcoptic.ca
SUMMARY:Bible Study
DESCRIPTION:
URL:https://stpaulcoptic.ca/events/bible-study/2026-05-24/
ATTACH;FMTTYPE=image/jpeg:https://stpaulcoptic.ca/wp-content/uploads/2023/12/Bible-sudy.jpg
END:VEVENT
BEGIN:VEVENT
DTSTART;TZID=America/Toronto:20260531T120000
DTEND;TZID=America/Toronto:20260531T133000
DTSTAMP:20260421T031744
CREATED:20231218T204223Z
LAST-MODIFIED:20231220T192941Z
UID:10000148-1780228800-1780234200@stpaulcoptic.ca
SUMMARY:Bible Study
DESCRIPTION:
URL:https://stpaulcoptic.ca/events/bible-study/2026-05-31/
ATTACH;FMTTYPE=image/jpeg:https://stpaulcoptic.ca/wp-content/uploads/2023/12/Bible-sudy.jpg
END:VEVENT
BEGIN:VEVENT
DTSTART;TZID=America/Toronto:20260607T120000
DTEND;TZID=America/Toronto:20260607T133000
DTSTAMP:20260421T031744
CREATED:20231218T204223Z
LAST-MODIFIED:20231220T192941Z
UID:10000149-1780833600-1780839000@stpaulcoptic.ca
SUMMARY:Bible Study
DESCRIPTION:
URL:https://stpaulcoptic.ca/events/bible-study/2026-06-07/
ATTACH;FMTTYPE=image/jpeg:https://stpaulcoptic.ca/wp-content/uploads/2023/12/Bible-sudy.jpg
END:VEVENT
BEGIN:VEVENT
DTSTART;TZID=America/Toronto:20260614T120000
DTEND;TZID=America/Toronto:20260614T133000
DTSTAMP:20260421T031744
CREATED:20231218T204223Z
LAST-MODIFIED:20231220T192941Z
UID:10000150-1781438400-1781443800@stpaulcoptic.ca
SUMMARY:Bible Study
DESCRIPTION:
URL:https://stpaulcoptic.ca/events/bible-study/2026-06-14/
ATTACH;FMTTYPE=image/jpeg:https://stpaulcoptic.ca/wp-content/uploads/2023/12/Bible-sudy.jpg
END:VEVENT
BEGIN:VEVENT
DTSTART;TZID=America/Toronto:20260621T120000
DTEND;TZID=America/Toronto:20260621T133000
DTSTAMP:20260421T031744
CREATED:20231218T204223Z
LAST-MODIFIED:20231220T192941Z
UID:10000151-1782043200-1782048600@stpaulcoptic.ca
SUMMARY:Bible Study
DESCRIPTION:
URL:https://stpaulcoptic.ca/events/bible-study/2026-06-21/
ATTACH;FMTTYPE=image/jpeg:https://stpaulcoptic.ca/wp-content/uploads/2023/12/Bible-sudy.jpg
END:VEVENT
BEGIN:VEVENT
DTSTART;TZID=America/Toronto:20260628T120000
DTEND;TZID=America/Toronto:20260628T133000
DTSTAMP:20260421T031744
CREATED:20231218T204223Z
LAST-MODIFIED:20231220T192941Z
UID:10000152-1782648000-1782653400@stpaulcoptic.ca
SUMMARY:Bible Study
DESCRIPTION:
URL:https://stpaulcoptic.ca/events/bible-study/2026-06-28/
ATTACH;FMTTYPE=image/jpeg:https://stpaulcoptic.ca/wp-content/uploads/2023/12/Bible-sudy.jpg
END:VEVENT
BEGIN:VEVENT
DTSTART;TZID=America/Toronto:20260705T120000
DTEND;TZID=America/Toronto:20260705T133000
DTSTAMP:20260421T031744
CREATED:20231218T204223Z
LAST-MODIFIED:20231220T192941Z
UID:10000153-1783252800-1783258200@stpaulcoptic.ca
SUMMARY:Bible Study
DESCRIPTION:
URL:https://stpaulcoptic.ca/events/bible-study/2026-07-05/
ATTACH;FMTTYPE=image/jpeg:https://stpaulcoptic.ca/wp-content/uploads/2023/12/Bible-sudy.jpg
END:VEVENT
BEGIN:VEVENT
DTSTART;TZID=America/Toronto:20260712T120000
DTEND;TZID=America/Toronto:20260712T133000
DTSTAMP:20260421T031744
CREATED:20231218T204223Z
LAST-MODIFIED:20231220T192941Z
UID:10000154-1783857600-1783863000@stpaulcoptic.ca
SUMMARY:Bible Study
DESCRIPTION:
URL:https://stpaulcoptic.ca/events/bible-study/2026-07-12/
ATTACH;FMTTYPE=image/jpeg:https://stpaulcoptic.ca/wp-content/uploads/2023/12/Bible-sudy.jpg
END:VEVENT
BEGIN:VEVENT
DTSTART;TZID=America/Toronto:20260719T120000
DTEND;TZID=America/Toronto:20260719T133000
DTSTAMP:20260421T031744
CREATED:20231218T204223Z
LAST-MODIFIED:20231220T192941Z
UID:10000155-1784462400-1784467800@stpaulcoptic.ca
SUMMARY:Bible Study
DESCRIPTION:
URL:https://stpaulcoptic.ca/events/bible-study/2026-07-19/
ATTACH;FMTTYPE=image/jpeg:https://stpaulcoptic.ca/wp-content/uploads/2023/12/Bible-sudy.jpg
END:VEVENT
BEGIN:VEVENT
DTSTART;TZID=America/Toronto:20260726T120000
DTEND;TZID=America/Toronto:20260726T133000
DTSTAMP:20260421T031744
CREATED:20231218T204223Z
LAST-MODIFIED:20231220T192941Z
UID:10000156-1785067200-1785072600@stpaulcoptic.ca
SUMMARY:Bible Study
DESCRIPTION:
URL:https://stpaulcoptic.ca/events/bible-study/2026-07-26/
ATTACH;FMTTYPE=image/jpeg:https://stpaulcoptic.ca/wp-content/uploads/2023/12/Bible-sudy.jpg
END:VEVENT
BEGIN:VEVENT
DTSTART;TZID=America/Toronto:20260802T120000
DTEND;TZID=America/Toronto:20260802T133000
DTSTAMP:20260421T031744
CREATED:20231218T204223Z
LAST-MODIFIED:20231220T192941Z
UID:10000157-1785672000-1785677400@stpaulcoptic.ca
SUMMARY:Bible Study
DESCRIPTION:
URL:https://stpaulcoptic.ca/events/bible-study/2026-08-02/
ATTACH;FMTTYPE=image/jpeg:https://stpaulcoptic.ca/wp-content/uploads/2023/12/Bible-sudy.jpg
END:VEVENT
BEGIN:VEVENT
DTSTART;TZID=America/Toronto:20260809T120000
DTEND;TZID=America/Toronto:20260809T133000
DTSTAMP:20260421T031744
CREATED:20231218T204223Z
LAST-MODIFIED:20231220T192941Z
UID:10000158-1786276800-1786282200@stpaulcoptic.ca
SUMMARY:Bible Study
DESCRIPTION:
URL:https://stpaulcoptic.ca/events/bible-study/2026-08-09/
ATTACH;FMTTYPE=image/jpeg:https://stpaulcoptic.ca/wp-content/uploads/2023/12/Bible-sudy.jpg
END:VEVENT
BEGIN:VEVENT
DTSTART;TZID=America/Toronto:20260816T120000
DTEND;TZID=America/Toronto:20260816T133000
DTSTAMP:20260421T031744
CREATED:20231218T204223Z
LAST-MODIFIED:20231220T192941Z
UID:10000159-1786881600-1786887000@stpaulcoptic.ca
SUMMARY:Bible Study
DESCRIPTION:
URL:https://stpaulcoptic.ca/events/bible-study/2026-08-16/
ATTACH;FMTTYPE=image/jpeg:https://stpaulcoptic.ca/wp-content/uploads/2023/12/Bible-sudy.jpg
END:VEVENT
BEGIN:VEVENT
DTSTART;TZID=America/Toronto:20260823T120000
DTEND;TZID=America/Toronto:20260823T133000
DTSTAMP:20260421T031744
CREATED:20231218T204223Z
LAST-MODIFIED:20231220T192941Z
UID:10000160-1787486400-1787491800@stpaulcoptic.ca
SUMMARY:Bible Study
DESCRIPTION:
URL:https://stpaulcoptic.ca/events/bible-study/2026-08-23/
ATTACH;FMTTYPE=image/jpeg:https://stpaulcoptic.ca/wp-content/uploads/2023/12/Bible-sudy.jpg
END:VEVENT
BEGIN:VEVENT
DTSTART;TZID=America/Toronto:20260830T120000
DTEND;TZID=America/Toronto:20260830T133000
DTSTAMP:20260421T031744
CREATED:20231218T204223Z
LAST-MODIFIED:20231220T192941Z
UID:10000161-1788091200-1788096600@stpaulcoptic.ca
SUMMARY:Bible Study
DESCRIPTION:
URL:https://stpaulcoptic.ca/events/bible-study/2026-08-30/
ATTACH;FMTTYPE=image/jpeg:https://stpaulcoptic.ca/wp-content/uploads/2023/12/Bible-sudy.jpg
END:VEVENT
BEGIN:VEVENT
DTSTART;TZID=America/Toronto:20260906T120000
DTEND;TZID=America/Toronto:20260906T133000
DTSTAMP:20260421T031744
CREATED:20231218T204223Z
LAST-MODIFIED:20231220T192941Z
UID:10000162-1788696000-1788701400@stpaulcoptic.ca
SUMMARY:Bible Study
DESCRIPTION:
URL:https://stpaulcoptic.ca/events/bible-study/2026-09-06/
ATTACH;FMTTYPE=image/jpeg:https://stpaulcoptic.ca/wp-content/uploads/2023/12/Bible-sudy.jpg
END:VEVENT
BEGIN:VEVENT
DTSTART;TZID=America/Toronto:20260913T120000
DTEND;TZID=America/Toronto:20260913T133000
DTSTAMP:20260421T031744
CREATED:20231218T204223Z
LAST-MODIFIED:20231220T192941Z
UID:10000163-1789300800-1789306200@stpaulcoptic.ca
SUMMARY:Bible Study
DESCRIPTION:
URL:https://stpaulcoptic.ca/events/bible-study/2026-09-13/
ATTACH;FMTTYPE=image/jpeg:https://stpaulcoptic.ca/wp-content/uploads/2023/12/Bible-sudy.jpg
END:VEVENT
BEGIN:VEVENT
DTSTART;TZID=America/Toronto:20260920T120000
DTEND;TZID=America/Toronto:20260920T133000
DTSTAMP:20260421T031744
CREATED:20231218T204223Z
LAST-MODIFIED:20231220T192941Z
UID:10000164-1789905600-1789911000@stpaulcoptic.ca
SUMMARY:Bible Study
DESCRIPTION:
URL:https://stpaulcoptic.ca/events/bible-study/2026-09-20/
ATTACH;FMTTYPE=image/jpeg:https://stpaulcoptic.ca/wp-content/uploads/2023/12/Bible-sudy.jpg
END:VEVENT
BEGIN:VEVENT
DTSTART;TZID=America/Toronto:20260927T120000
DTEND;TZID=America/Toronto:20260927T133000
DTSTAMP:20260421T031744
CREATED:20231218T204223Z
LAST-MODIFIED:20231220T192941Z
UID:10000165-1790510400-1790515800@stpaulcoptic.ca
SUMMARY:Bible Study
DESCRIPTION:
URL:https://stpaulcoptic.ca/events/bible-study/2026-09-27/
ATTACH;FMTTYPE=image/jpeg:https://stpaulcoptic.ca/wp-content/uploads/2023/12/Bible-sudy.jpg
END:VEVENT
BEGIN:VEVENT
DTSTART;TZID=America/Toronto:20261004T120000
DTEND;TZID=America/Toronto:20261004T133000
DTSTAMP:20260421T031744
CREATED:20231218T204223Z
LAST-MODIFIED:20231220T192941Z
UID:10000166-1791115200-1791120600@stpaulcoptic.ca
SUMMARY:Bible Study
DESCRIPTION:
URL:https://stpaulcoptic.ca/events/bible-study/2026-10-04/
ATTACH;FMTTYPE=image/jpeg:https://stpaulcoptic.ca/wp-content/uploads/2023/12/Bible-sudy.jpg
END:VEVENT
BEGIN:VEVENT
DTSTART;TZID=America/Toronto:20261011T120000
DTEND;TZID=America/Toronto:20261011T133000
DTSTAMP:20260421T031744
CREATED:20231218T204223Z
LAST-MODIFIED:20231220T192941Z
UID:10000167-1791720000-1791725400@stpaulcoptic.ca
SUMMARY:Bible Study
DESCRIPTION:
URL:https://stpaulcoptic.ca/events/bible-study/2026-10-11/
ATTACH;FMTTYPE=image/jpeg:https://stpaulcoptic.ca/wp-content/uploads/2023/12/Bible-sudy.jpg
END:VEVENT
BEGIN:VEVENT
DTSTART;TZID=America/Toronto:20261018T120000
DTEND;TZID=America/Toronto:20261018T133000
DTSTAMP:20260421T031744
CREATED:20231218T204223Z
LAST-MODIFIED:20231220T192941Z
UID:10000168-1792324800-1792330200@stpaulcoptic.ca
SUMMARY:Bible Study
DESCRIPTION:
URL:https://stpaulcoptic.ca/events/bible-study/2026-10-18/
ATTACH;FMTTYPE=image/jpeg:https://stpaulcoptic.ca/wp-content/uploads/2023/12/Bible-sudy.jpg
END:VEVENT
BEGIN:VEVENT
DTSTART;TZID=America/Toronto:20261025T120000
DTEND;TZID=America/Toronto:20261025T133000
DTSTAMP:20260421T031744
CREATED:20231218T204223Z
LAST-MODIFIED:20231220T192941Z
UID:10000169-1792929600-1792935000@stpaulcoptic.ca
SUMMARY:Bible Study
DESCRIPTION:
URL:https://stpaulcoptic.ca/events/bible-study/2026-10-25/
ATTACH;FMTTYPE=image/jpeg:https://stpaulcoptic.ca/wp-content/uploads/2023/12/Bible-sudy.jpg
END:VEVENT
BEGIN:VEVENT
DTSTART;TZID=America/Toronto:20261101T120000
DTEND;TZID=America/Toronto:20261101T133000
DTSTAMP:20260421T031744
CREATED:20231218T204223Z
LAST-MODIFIED:20231220T192941Z
UID:10000170-1793534400-1793539800@stpaulcoptic.ca
SUMMARY:Bible Study
DESCRIPTION:
URL:https://stpaulcoptic.ca/events/bible-study/2026-11-01/
ATTACH;FMTTYPE=image/jpeg:https://stpaulcoptic.ca/wp-content/uploads/2023/12/Bible-sudy.jpg
END:VEVENT
BEGIN:VEVENT
DTSTART;TZID=America/Toronto:20261108T120000
DTEND;TZID=America/Toronto:20261108T133000
DTSTAMP:20260421T031744
CREATED:20231218T204223Z
LAST-MODIFIED:20231220T192941Z
UID:10000171-1794139200-1794144600@stpaulcoptic.ca
SUMMARY:Bible Study
DESCRIPTION:
URL:https://stpaulcoptic.ca/events/bible-study/2026-11-08/
ATTACH;FMTTYPE=image/jpeg:https://stpaulcoptic.ca/wp-content/uploads/2023/12/Bible-sudy.jpg
END:VEVENT
BEGIN:VEVENT
DTSTART;TZID=America/Toronto:20261115T120000
DTEND;TZID=America/Toronto:20261115T133000
DTSTAMP:20260421T031744
CREATED:20231218T204223Z
LAST-MODIFIED:20231220T192941Z
UID:10000172-1794744000-1794749400@stpaulcoptic.ca
SUMMARY:Bible Study
DESCRIPTION:
URL:https://stpaulcoptic.ca/events/bible-study/2026-11-15/
ATTACH;FMTTYPE=image/jpeg:https://stpaulcoptic.ca/wp-content/uploads/2023/12/Bible-sudy.jpg
END:VEVENT
END:VCALENDAR