BEGIN:VCALENDAR
VERSION:2.0
PRODID:-//ST PAUL COPTIC - ECPv6.15.12.2//NONSGML v1.0//EN
CALSCALE:GREGORIAN
METHOD:PUBLISH
X-WR-CALNAME:ST PAUL COPTIC
X-ORIGINAL-URL:https://stpaulcoptic.ca
X-WR-CALDESC:Events for ST PAUL COPTIC
REFRESH-INTERVAL;VALUE=DURATION:PT1H
X-Robots-Tag:noindex
X-PUBLISHED-TTL:PT1H
BEGIN:VTIMEZONE
TZID:America/Toronto
BEGIN:DAYLIGHT
TZOFFSETFROM:-0500
TZOFFSETTO:-0400
TZNAME:EDT
DTSTART:20250309T070000
END:DAYLIGHT
BEGIN:STANDARD
TZOFFSETFROM:-0400
TZOFFSETTO:-0500
TZNAME:EST
DTSTART:20251102T060000
END:STANDARD
BEGIN:DAYLIGHT
TZOFFSETFROM:-0500
TZOFFSETTO:-0400
TZNAME:EDT
DTSTART:20260308T070000
END:DAYLIGHT
BEGIN:STANDARD
TZOFFSETFROM:-0400
TZOFFSETTO:-0500
TZNAME:EST
DTSTART:20261101T060000
END:STANDARD
BEGIN:DAYLIGHT
TZOFFSETFROM:-0500
TZOFFSETTO:-0400
TZNAME:EDT
DTSTART:20270314T070000
END:DAYLIGHT
BEGIN:STANDARD
TZOFFSETFROM:-0400
TZOFFSETTO:-0500
TZNAME:EST
DTSTART:20271107T060000
END:STANDARD
END:VTIMEZONE
BEGIN:VEVENT
DTSTART;TZID=America/Toronto:20260424T053000
DTEND;TZID=America/Toronto:20260424T073000
DTSTAMP:20260423T095719
CREATED:20250212T214123Z
LAST-MODIFIED:20250212T214123Z
UID:10005981-1777008600-1777015800@stpaulcoptic.ca
SUMMARY:Liturgy
DESCRIPTION:
URL:https://stpaulcoptic.ca/events/liturgy-148/2026-04-24/
ATTACH;FMTTYPE=image/png:https://stpaulcoptic.ca/wp-content/uploads/2023/12/image.png
END:VEVENT
BEGIN:VEVENT
DTSTART;TZID=America/Toronto:20260501T053000
DTEND;TZID=America/Toronto:20260501T073000
DTSTAMP:20260423T095719
CREATED:20250212T214123Z
LAST-MODIFIED:20250212T214123Z
UID:10005982-1777613400-1777620600@stpaulcoptic.ca
SUMMARY:Liturgy
DESCRIPTION:
URL:https://stpaulcoptic.ca/events/liturgy-148/2026-05-01/
ATTACH;FMTTYPE=image/png:https://stpaulcoptic.ca/wp-content/uploads/2023/12/image.png
END:VEVENT
BEGIN:VEVENT
DTSTART;TZID=America/Toronto:20260508T053000
DTEND;TZID=America/Toronto:20260508T073000
DTSTAMP:20260423T095719
CREATED:20250212T214123Z
LAST-MODIFIED:20250212T214123Z
UID:10005983-1778218200-1778225400@stpaulcoptic.ca
SUMMARY:Liturgy
DESCRIPTION:
URL:https://stpaulcoptic.ca/events/liturgy-148/2026-05-08/
ATTACH;FMTTYPE=image/png:https://stpaulcoptic.ca/wp-content/uploads/2023/12/image.png
END:VEVENT
BEGIN:VEVENT
DTSTART;TZID=America/Toronto:20260515T053000
DTEND;TZID=America/Toronto:20260515T073000
DTSTAMP:20260423T095719
CREATED:20250212T214123Z
LAST-MODIFIED:20250212T214123Z
UID:10005984-1778823000-1778830200@stpaulcoptic.ca
SUMMARY:Liturgy
DESCRIPTION:
URL:https://stpaulcoptic.ca/events/liturgy-148/2026-05-15/
ATTACH;FMTTYPE=image/png:https://stpaulcoptic.ca/wp-content/uploads/2023/12/image.png
END:VEVENT
BEGIN:VEVENT
DTSTART;TZID=America/Toronto:20260522T053000
DTEND;TZID=America/Toronto:20260522T073000
DTSTAMP:20260423T095719
CREATED:20250212T214123Z
LAST-MODIFIED:20250212T214123Z
UID:10005985-1779427800-1779435000@stpaulcoptic.ca
SUMMARY:Liturgy
DESCRIPTION:
URL:https://stpaulcoptic.ca/events/liturgy-148/2026-05-22/
ATTACH;FMTTYPE=image/png:https://stpaulcoptic.ca/wp-content/uploads/2023/12/image.png
END:VEVENT
BEGIN:VEVENT
DTSTART;TZID=America/Toronto:20260529T053000
DTEND;TZID=America/Toronto:20260529T073000
DTSTAMP:20260423T095719
CREATED:20250212T214123Z
LAST-MODIFIED:20250212T214123Z
UID:10005986-1780032600-1780039800@stpaulcoptic.ca
SUMMARY:Liturgy
DESCRIPTION:
URL:https://stpaulcoptic.ca/events/liturgy-148/2026-05-29/
ATTACH;FMTTYPE=image/png:https://stpaulcoptic.ca/wp-content/uploads/2023/12/image.png
END:VEVENT
BEGIN:VEVENT
DTSTART;TZID=America/Toronto:20260605T053000
DTEND;TZID=America/Toronto:20260605T073000
DTSTAMP:20260423T095719
CREATED:20250212T214123Z
LAST-MODIFIED:20250212T214123Z
UID:10005987-1780637400-1780644600@stpaulcoptic.ca
SUMMARY:Liturgy
DESCRIPTION:
URL:https://stpaulcoptic.ca/events/liturgy-148/2026-06-05/
ATTACH;FMTTYPE=image/png:https://stpaulcoptic.ca/wp-content/uploads/2023/12/image.png
END:VEVENT
BEGIN:VEVENT
DTSTART;TZID=America/Toronto:20260612T053000
DTEND;TZID=America/Toronto:20260612T073000
DTSTAMP:20260423T095719
CREATED:20250212T214123Z
LAST-MODIFIED:20250212T214123Z
UID:10005988-1781242200-1781249400@stpaulcoptic.ca
SUMMARY:Liturgy
DESCRIPTION:
URL:https://stpaulcoptic.ca/events/liturgy-148/2026-06-12/
ATTACH;FMTTYPE=image/png:https://stpaulcoptic.ca/wp-content/uploads/2023/12/image.png
END:VEVENT
BEGIN:VEVENT
DTSTART;TZID=America/Toronto:20260619T053000
DTEND;TZID=America/Toronto:20260619T073000
DTSTAMP:20260423T095719
CREATED:20250212T214123Z
LAST-MODIFIED:20250212T214123Z
UID:10005989-1781847000-1781854200@stpaulcoptic.ca
SUMMARY:Liturgy
DESCRIPTION:
URL:https://stpaulcoptic.ca/events/liturgy-148/2026-06-19/
ATTACH;FMTTYPE=image/png:https://stpaulcoptic.ca/wp-content/uploads/2023/12/image.png
END:VEVENT
BEGIN:VEVENT
DTSTART;TZID=America/Toronto:20260626T053000
DTEND;TZID=America/Toronto:20260626T073000
DTSTAMP:20260423T095719
CREATED:20250212T214123Z
LAST-MODIFIED:20250212T214123Z
UID:10005990-1782451800-1782459000@stpaulcoptic.ca
SUMMARY:Liturgy
DESCRIPTION:
URL:https://stpaulcoptic.ca/events/liturgy-148/2026-06-26/
ATTACH;FMTTYPE=image/png:https://stpaulcoptic.ca/wp-content/uploads/2023/12/image.png
END:VEVENT
BEGIN:VEVENT
DTSTART;TZID=America/Toronto:20260703T053000
DTEND;TZID=America/Toronto:20260703T073000
DTSTAMP:20260423T095719
CREATED:20250212T214123Z
LAST-MODIFIED:20250212T214123Z
UID:10005991-1783056600-1783063800@stpaulcoptic.ca
SUMMARY:Liturgy
DESCRIPTION:
URL:https://stpaulcoptic.ca/events/liturgy-148/2026-07-03/
ATTACH;FMTTYPE=image/png:https://stpaulcoptic.ca/wp-content/uploads/2023/12/image.png
END:VEVENT
BEGIN:VEVENT
DTSTART;TZID=America/Toronto:20260710T053000
DTEND;TZID=America/Toronto:20260710T073000
DTSTAMP:20260423T095719
CREATED:20250212T214123Z
LAST-MODIFIED:20250212T214123Z
UID:10005992-1783661400-1783668600@stpaulcoptic.ca
SUMMARY:Liturgy
DESCRIPTION:
URL:https://stpaulcoptic.ca/events/liturgy-148/2026-07-10/
ATTACH;FMTTYPE=image/png:https://stpaulcoptic.ca/wp-content/uploads/2023/12/image.png
END:VEVENT
BEGIN:VEVENT
DTSTART;TZID=America/Toronto:20260717T053000
DTEND;TZID=America/Toronto:20260717T073000
DTSTAMP:20260423T095719
CREATED:20250212T214123Z
LAST-MODIFIED:20250212T214123Z
UID:10005993-1784266200-1784273400@stpaulcoptic.ca
SUMMARY:Liturgy
DESCRIPTION:
URL:https://stpaulcoptic.ca/events/liturgy-148/2026-07-17/
ATTACH;FMTTYPE=image/png:https://stpaulcoptic.ca/wp-content/uploads/2023/12/image.png
END:VEVENT
BEGIN:VEVENT
DTSTART;TZID=America/Toronto:20260724T053000
DTEND;TZID=America/Toronto:20260724T073000
DTSTAMP:20260423T095719
CREATED:20250212T214123Z
LAST-MODIFIED:20250212T214123Z
UID:10005994-1784871000-1784878200@stpaulcoptic.ca
SUMMARY:Liturgy
DESCRIPTION:
URL:https://stpaulcoptic.ca/events/liturgy-148/2026-07-24/
ATTACH;FMTTYPE=image/png:https://stpaulcoptic.ca/wp-content/uploads/2023/12/image.png
END:VEVENT
BEGIN:VEVENT
DTSTART;TZID=America/Toronto:20260731T053000
DTEND;TZID=America/Toronto:20260731T073000
DTSTAMP:20260423T095719
CREATED:20250212T214123Z
LAST-MODIFIED:20250212T214123Z
UID:10005995-1785475800-1785483000@stpaulcoptic.ca
SUMMARY:Liturgy
DESCRIPTION:
URL:https://stpaulcoptic.ca/events/liturgy-148/2026-07-31/
ATTACH;FMTTYPE=image/png:https://stpaulcoptic.ca/wp-content/uploads/2023/12/image.png
END:VEVENT
BEGIN:VEVENT
DTSTART;TZID=America/Toronto:20260807T053000
DTEND;TZID=America/Toronto:20260807T073000
DTSTAMP:20260423T095719
CREATED:20250212T214123Z
LAST-MODIFIED:20250212T214123Z
UID:10005996-1786080600-1786087800@stpaulcoptic.ca
SUMMARY:Liturgy
DESCRIPTION:
URL:https://stpaulcoptic.ca/events/liturgy-148/2026-08-07/
ATTACH;FMTTYPE=image/png:https://stpaulcoptic.ca/wp-content/uploads/2023/12/image.png
END:VEVENT
BEGIN:VEVENT
DTSTART;TZID=America/Toronto:20260814T053000
DTEND;TZID=America/Toronto:20260814T073000
DTSTAMP:20260423T095719
CREATED:20250212T214123Z
LAST-MODIFIED:20250212T214123Z
UID:10005997-1786685400-1786692600@stpaulcoptic.ca
SUMMARY:Liturgy
DESCRIPTION:
URL:https://stpaulcoptic.ca/events/liturgy-148/2026-08-14/
ATTACH;FMTTYPE=image/png:https://stpaulcoptic.ca/wp-content/uploads/2023/12/image.png
END:VEVENT
BEGIN:VEVENT
DTSTART;TZID=America/Toronto:20260821T053000
DTEND;TZID=America/Toronto:20260821T073000
DTSTAMP:20260423T095719
CREATED:20250212T214123Z
LAST-MODIFIED:20250212T214123Z
UID:10005998-1787290200-1787297400@stpaulcoptic.ca
SUMMARY:Liturgy
DESCRIPTION:
URL:https://stpaulcoptic.ca/events/liturgy-148/2026-08-21/
ATTACH;FMTTYPE=image/png:https://stpaulcoptic.ca/wp-content/uploads/2023/12/image.png
END:VEVENT
BEGIN:VEVENT
DTSTART;TZID=America/Toronto:20260828T053000
DTEND;TZID=America/Toronto:20260828T073000
DTSTAMP:20260423T095719
CREATED:20250212T214123Z
LAST-MODIFIED:20250212T214123Z
UID:10005999-1787895000-1787902200@stpaulcoptic.ca
SUMMARY:Liturgy
DESCRIPTION:
URL:https://stpaulcoptic.ca/events/liturgy-148/2026-08-28/
ATTACH;FMTTYPE=image/png:https://stpaulcoptic.ca/wp-content/uploads/2023/12/image.png
END:VEVENT
BEGIN:VEVENT
DTSTART;TZID=America/Toronto:20260904T053000
DTEND;TZID=America/Toronto:20260904T073000
DTSTAMP:20260423T095719
CREATED:20250212T214123Z
LAST-MODIFIED:20250212T214123Z
UID:10006000-1788499800-1788507000@stpaulcoptic.ca
SUMMARY:Liturgy
DESCRIPTION:
URL:https://stpaulcoptic.ca/events/liturgy-148/2026-09-04/
ATTACH;FMTTYPE=image/png:https://stpaulcoptic.ca/wp-content/uploads/2023/12/image.png
END:VEVENT
BEGIN:VEVENT
DTSTART;TZID=America/Toronto:20260911T053000
DTEND;TZID=America/Toronto:20260911T073000
DTSTAMP:20260423T095719
CREATED:20250212T214123Z
LAST-MODIFIED:20250212T214123Z
UID:10006001-1789104600-1789111800@stpaulcoptic.ca
SUMMARY:Liturgy
DESCRIPTION:
URL:https://stpaulcoptic.ca/events/liturgy-148/2026-09-11/
ATTACH;FMTTYPE=image/png:https://stpaulcoptic.ca/wp-content/uploads/2023/12/image.png
END:VEVENT
BEGIN:VEVENT
DTSTART;TZID=America/Toronto:20260918T053000
DTEND;TZID=America/Toronto:20260918T073000
DTSTAMP:20260423T095719
CREATED:20250212T214123Z
LAST-MODIFIED:20250212T214123Z
UID:10006002-1789709400-1789716600@stpaulcoptic.ca
SUMMARY:Liturgy
DESCRIPTION:
URL:https://stpaulcoptic.ca/events/liturgy-148/2026-09-18/
ATTACH;FMTTYPE=image/png:https://stpaulcoptic.ca/wp-content/uploads/2023/12/image.png
END:VEVENT
BEGIN:VEVENT
DTSTART;TZID=America/Toronto:20260925T053000
DTEND;TZID=America/Toronto:20260925T073000
DTSTAMP:20260423T095719
CREATED:20250212T214123Z
LAST-MODIFIED:20250212T214123Z
UID:10006003-1790314200-1790321400@stpaulcoptic.ca
SUMMARY:Liturgy
DESCRIPTION:
URL:https://stpaulcoptic.ca/events/liturgy-148/2026-09-25/
ATTACH;FMTTYPE=image/png:https://stpaulcoptic.ca/wp-content/uploads/2023/12/image.png
END:VEVENT
BEGIN:VEVENT
DTSTART;TZID=America/Toronto:20261002T053000
DTEND;TZID=America/Toronto:20261002T073000
DTSTAMP:20260423T095719
CREATED:20250212T214123Z
LAST-MODIFIED:20250212T214123Z
UID:10006004-1790919000-1790926200@stpaulcoptic.ca
SUMMARY:Liturgy
DESCRIPTION:
URL:https://stpaulcoptic.ca/events/liturgy-148/2026-10-02/
ATTACH;FMTTYPE=image/png:https://stpaulcoptic.ca/wp-content/uploads/2023/12/image.png
END:VEVENT
BEGIN:VEVENT
DTSTART;TZID=America/Toronto:20261009T053000
DTEND;TZID=America/Toronto:20261009T073000
DTSTAMP:20260423T095719
CREATED:20250212T214123Z
LAST-MODIFIED:20250212T214123Z
UID:10006005-1791523800-1791531000@stpaulcoptic.ca
SUMMARY:Liturgy
DESCRIPTION:
URL:https://stpaulcoptic.ca/events/liturgy-148/2026-10-09/
ATTACH;FMTTYPE=image/png:https://stpaulcoptic.ca/wp-content/uploads/2023/12/image.png
END:VEVENT
BEGIN:VEVENT
DTSTART;TZID=America/Toronto:20261016T053000
DTEND;TZID=America/Toronto:20261016T073000
DTSTAMP:20260423T095719
CREATED:20250212T214123Z
LAST-MODIFIED:20250212T214123Z
UID:10006006-1792128600-1792135800@stpaulcoptic.ca
SUMMARY:Liturgy
DESCRIPTION:
URL:https://stpaulcoptic.ca/events/liturgy-148/2026-10-16/
ATTACH;FMTTYPE=image/png:https://stpaulcoptic.ca/wp-content/uploads/2023/12/image.png
END:VEVENT
BEGIN:VEVENT
DTSTART;TZID=America/Toronto:20261023T053000
DTEND;TZID=America/Toronto:20261023T073000
DTSTAMP:20260423T095719
CREATED:20250212T214123Z
LAST-MODIFIED:20250212T214123Z
UID:10006007-1792733400-1792740600@stpaulcoptic.ca
SUMMARY:Liturgy
DESCRIPTION:
URL:https://stpaulcoptic.ca/events/liturgy-148/2026-10-23/
ATTACH;FMTTYPE=image/png:https://stpaulcoptic.ca/wp-content/uploads/2023/12/image.png
END:VEVENT
BEGIN:VEVENT
DTSTART;TZID=America/Toronto:20261030T053000
DTEND;TZID=America/Toronto:20261030T073000
DTSTAMP:20260423T095719
CREATED:20250212T214123Z
LAST-MODIFIED:20250212T214123Z
UID:10006008-1793338200-1793345400@stpaulcoptic.ca
SUMMARY:Liturgy
DESCRIPTION:
URL:https://stpaulcoptic.ca/events/liturgy-148/2026-10-30/
ATTACH;FMTTYPE=image/png:https://stpaulcoptic.ca/wp-content/uploads/2023/12/image.png
END:VEVENT
BEGIN:VEVENT
DTSTART;TZID=America/Toronto:20261106T053000
DTEND;TZID=America/Toronto:20261106T073000
DTSTAMP:20260423T095719
CREATED:20250212T214123Z
LAST-MODIFIED:20250212T214123Z
UID:10006009-1793943000-1793950200@stpaulcoptic.ca
SUMMARY:Liturgy
DESCRIPTION:
URL:https://stpaulcoptic.ca/events/liturgy-148/2026-11-06/
ATTACH;FMTTYPE=image/png:https://stpaulcoptic.ca/wp-content/uploads/2023/12/image.png
END:VEVENT
BEGIN:VEVENT
DTSTART;TZID=America/Toronto:20261113T053000
DTEND;TZID=America/Toronto:20261113T073000
DTSTAMP:20260423T095719
CREATED:20250212T214123Z
LAST-MODIFIED:20250212T214123Z
UID:10006010-1794547800-1794555000@stpaulcoptic.ca
SUMMARY:Liturgy
DESCRIPTION:
URL:https://stpaulcoptic.ca/events/liturgy-148/2026-11-13/
ATTACH;FMTTYPE=image/png:https://stpaulcoptic.ca/wp-content/uploads/2023/12/image.png
END:VEVENT
END:VCALENDAR