BEGIN:VCALENDAR
VERSION:2.0
PRODID:-//ST PAUL COPTIC - ECPv6.15.12.2//NONSGML v1.0//EN
CALSCALE:GREGORIAN
METHOD:PUBLISH
X-ORIGINAL-URL:https://stpaulcoptic.ca
X-WR-CALDESC:Events for ST PAUL COPTIC
REFRESH-INTERVAL;VALUE=DURATION:PT1H
X-Robots-Tag:noindex
X-PUBLISHED-TTL:PT1H
BEGIN:VTIMEZONE
TZID:America/Toronto
BEGIN:DAYLIGHT
TZOFFSETFROM:-0500
TZOFFSETTO:-0400
TZNAME:EDT
DTSTART:20230312T070000
END:DAYLIGHT
BEGIN:STANDARD
TZOFFSETFROM:-0400
TZOFFSETTO:-0500
TZNAME:EST
DTSTART:20231105T060000
END:STANDARD
BEGIN:DAYLIGHT
TZOFFSETFROM:-0500
TZOFFSETTO:-0400
TZNAME:EDT
DTSTART:20240310T070000
END:DAYLIGHT
BEGIN:STANDARD
TZOFFSETFROM:-0400
TZOFFSETTO:-0500
TZNAME:EST
DTSTART:20241103T060000
END:STANDARD
BEGIN:DAYLIGHT
TZOFFSETFROM:-0500
TZOFFSETTO:-0400
TZNAME:EDT
DTSTART:20250309T070000
END:DAYLIGHT
BEGIN:STANDARD
TZOFFSETFROM:-0400
TZOFFSETTO:-0500
TZNAME:EST
DTSTART:20251102T060000
END:STANDARD
END:VTIMEZONE
BEGIN:VEVENT
DTSTART;TZID=America/Toronto:20240123T190000
DTEND;TZID=America/Toronto:20240123T210000
DTSTAMP:20260421T182934
CREATED:20231218T210306Z
LAST-MODIFIED:20231220T193457Z
UID:10001586-1706036400-1706043600@stpaulcoptic.ca
SUMMARY:COCA
DESCRIPTION:Christian Orthodox Campus-Ministry Association
URL:https://stpaulcoptic.ca/events/coca/2024-01-23/
ATTACH;FMTTYPE=image/jpeg:https://stpaulcoptic.ca/wp-content/uploads/2023/12/coca.jpg
END:VEVENT
BEGIN:VEVENT
DTSTART;TZID=America/Toronto:20240124T083000
DTEND;TZID=America/Toronto:20240124T110000
DTSTAMP:20260421T182934
CREATED:20231220T051303Z
LAST-MODIFIED:20240227T022910Z
UID:10001979-1706085000-1706094000@stpaulcoptic.ca
SUMMARY:Liturgy
DESCRIPTION:
URL:https://stpaulcoptic.ca/events/liturgy-3/2024-01-24/
CATEGORIES:Holy Liturgy
ATTACH;FMTTYPE=image/jpeg:https://stpaulcoptic.ca/wp-content/uploads/2023/12/liturgy-391x260-1.jpg
END:VEVENT
BEGIN:VEVENT
DTSTART;TZID=America/Toronto:20240124T083000
DTEND;TZID=America/Toronto:20240124T110000
DTSTAMP:20260421T182934
CREATED:20240227T022930Z
LAST-MODIFIED:20240227T022932Z
UID:10002548-1706085000-1706094000@stpaulcoptic.ca
SUMMARY:Liturgy
DESCRIPTION:
URL:https://stpaulcoptic.ca/events/liturgy-15/2024-01-24/
CATEGORIES:Holy Liturgy
ATTACH;FMTTYPE=image/jpeg:https://stpaulcoptic.ca/wp-content/uploads/2023/12/liturgy-391x260-1.jpg
END:VEVENT
BEGIN:VEVENT
DTSTART;TZID=America/Toronto:20240125T193000
DTEND;TZID=America/Toronto:20240125T210000
DTSTAMP:20260421T182934
CREATED:20231218T210456Z
LAST-MODIFIED:20240227T040650Z
UID:10002974-1706211000-1706216400@stpaulcoptic.ca
SUMMARY:Choir
DESCRIPTION:High School\, University\, Adult
URL:https://stpaulcoptic.ca/events/choir/2024-01-25/
ATTACH;FMTTYPE=image/png:https://stpaulcoptic.ca/wp-content/uploads/2023/12/Choir.png
END:VEVENT
BEGIN:VEVENT
DTSTART;TZID=America/Toronto:20240125T193000
DTEND;TZID=America/Toronto:20240125T210000
DTSTAMP:20260421T182934
CREATED:20240227T032538Z
LAST-MODIFIED:20240227T032540Z
UID:10001326-1706211000-1706216400@stpaulcoptic.ca
SUMMARY:Choir (Canceled)
DESCRIPTION:High School\, University\, Adult
URL:https://stpaulcoptic.ca/events/choir-5/
END:VEVENT
BEGIN:VEVENT
DTSTART;TZID=America/Toronto:20240126T190000
DTEND;TZID=America/Toronto:20240126T203000
DTSTAMP:20260421T182934
CREATED:20231218T204117Z
LAST-MODIFIED:20240815T023605Z
UID:10000806-1706295600-1706301000@stpaulcoptic.ca
SUMMARY:Sunday School
DESCRIPTION:
URL:https://stpaulcoptic.ca/events/sunday-school/2024-01-26/
ATTACH;FMTTYPE=image/png:https://stpaulcoptic.ca/wp-content/uploads/2020/04/Sunday-School.png
END:VEVENT
BEGIN:VEVENT
DTSTART;TZID=America/Toronto:20240127T090000
DTEND;TZID=America/Toronto:20240127T110000
DTSTAMP:20260421T182934
CREATED:20240125T023422Z
LAST-MODIFIED:20240125T024257Z
UID:10002527-1706346000-1706353200@stpaulcoptic.ca
SUMMARY:Liturgy
DESCRIPTION:
URL:https://stpaulcoptic.ca/events/liturgy-9/
ATTACH;FMTTYPE=image/jpeg:https://stpaulcoptic.ca/wp-content/uploads/2023/12/liturgy-391x260-1.jpg
END:VEVENT
BEGIN:VEVENT
DTSTART;TZID=America/Toronto:20240127T193000
DTEND;TZID=America/Toronto:20240127T200000
DTSTAMP:20260421T182934
CREATED:20240117T002300Z
LAST-MODIFIED:20240117T002301Z
UID:10002266-1706383800-1706385600@stpaulcoptic.ca
SUMMARY:Vespers Prayers
DESCRIPTION:
URL:https://stpaulcoptic.ca/events/vespers-prayers-3/2024-01-27/
END:VEVENT
BEGIN:VEVENT
DTSTART;TZID=America/Toronto:20240127T193000
DTEND;TZID=America/Toronto:20240127T200000
DTSTAMP:20260421T182934
CREATED:20240125T024655Z
LAST-MODIFIED:20240125T024656Z
UID:10002528-1706383800-1706385600@stpaulcoptic.ca
SUMMARY:Vespers Prayers
DESCRIPTION:
URL:https://stpaulcoptic.ca/events/vespers-prayers-4/
END:VEVENT
BEGIN:VEVENT
DTSTART;TZID=America/Toronto:20240128T083000
DTEND;TZID=America/Toronto:20240128T113000
DTSTAMP:20260421T182934
CREATED:20231218T201920Z
LAST-MODIFIED:20231220T045034Z
UID:10000286-1706430600-1706441400@stpaulcoptic.ca
SUMMARY:Liturgy
DESCRIPTION:
URL:https://stpaulcoptic.ca/events/liturgy/2024-01-28/
ATTACH;FMTTYPE=image/jpeg:https://stpaulcoptic.ca/wp-content/uploads/2023/12/liturgy-391x260-1.jpg
END:VEVENT
BEGIN:VEVENT
DTSTART;TZID=America/Toronto:20240128T120000
DTEND;TZID=America/Toronto:20240128T133000
DTSTAMP:20260421T182934
CREATED:20231218T204223Z
LAST-MODIFIED:20231220T192941Z
UID:10000026-1706443200-1706448600@stpaulcoptic.ca
SUMMARY:Bible Study
DESCRIPTION:
URL:https://stpaulcoptic.ca/events/bible-study/2024-01-28/
ATTACH;FMTTYPE=image/jpeg:https://stpaulcoptic.ca/wp-content/uploads/2023/12/Bible-sudy.jpg
END:VEVENT
END:VCALENDAR