BEGIN:VCALENDAR
VERSION:2.0
PRODID:-//ST PAUL COPTIC - ECPv6.15.12.2//NONSGML v1.0//EN
CALSCALE:GREGORIAN
METHOD:PUBLISH
X-ORIGINAL-URL:https://stpaulcoptic.ca
X-WR-CALDESC:Events for ST PAUL COPTIC
REFRESH-INTERVAL;VALUE=DURATION:PT1H
X-Robots-Tag:noindex
X-PUBLISHED-TTL:PT1H
BEGIN:VTIMEZONE
TZID:America/Toronto
BEGIN:DAYLIGHT
TZOFFSETFROM:-0500
TZOFFSETTO:-0400
TZNAME:EDT
DTSTART:20230312T070000
END:DAYLIGHT
BEGIN:STANDARD
TZOFFSETFROM:-0400
TZOFFSETTO:-0500
TZNAME:EST
DTSTART:20231105T060000
END:STANDARD
BEGIN:DAYLIGHT
TZOFFSETFROM:-0500
TZOFFSETTO:-0400
TZNAME:EDT
DTSTART:20240310T070000
END:DAYLIGHT
BEGIN:STANDARD
TZOFFSETFROM:-0400
TZOFFSETTO:-0500
TZNAME:EST
DTSTART:20241103T060000
END:STANDARD
BEGIN:DAYLIGHT
TZOFFSETFROM:-0500
TZOFFSETTO:-0400
TZNAME:EDT
DTSTART:20250309T070000
END:DAYLIGHT
BEGIN:STANDARD
TZOFFSETFROM:-0400
TZOFFSETTO:-0500
TZNAME:EST
DTSTART:20251102T060000
END:STANDARD
END:VTIMEZONE
BEGIN:VEVENT
DTSTART;TZID=America/Toronto:20240130T190000
DTEND;TZID=America/Toronto:20240130T210000
DTSTAMP:20260421T181017
CREATED:20231218T210306Z
LAST-MODIFIED:20231220T193457Z
UID:10001587-1706641200-1706648400@stpaulcoptic.ca
SUMMARY:COCA
DESCRIPTION:Christian Orthodox Campus-Ministry Association
URL:https://stpaulcoptic.ca/events/coca/2024-01-30/
ATTACH;FMTTYPE=image/jpeg:https://stpaulcoptic.ca/wp-content/uploads/2023/12/coca.jpg
END:VEVENT
BEGIN:VEVENT
DTSTART;TZID=America/Toronto:20240131T083000
DTEND;TZID=America/Toronto:20240131T110000
DTSTAMP:20260421T181017
CREATED:20231220T051303Z
LAST-MODIFIED:20240227T022910Z
UID:10001980-1706689800-1706698800@stpaulcoptic.ca
SUMMARY:Liturgy
DESCRIPTION:
URL:https://stpaulcoptic.ca/events/liturgy-3/2024-01-31/
CATEGORIES:Holy Liturgy
ATTACH;FMTTYPE=image/jpeg:https://stpaulcoptic.ca/wp-content/uploads/2023/12/liturgy-391x260-1.jpg
END:VEVENT
BEGIN:VEVENT
DTSTART;TZID=America/Toronto:20240131T083000
DTEND;TZID=America/Toronto:20240131T110000
DTSTAMP:20260421T181017
CREATED:20240227T022930Z
LAST-MODIFIED:20240227T022932Z
UID:10002549-1706689800-1706698800@stpaulcoptic.ca
SUMMARY:Liturgy
DESCRIPTION:
URL:https://stpaulcoptic.ca/events/liturgy-15/2024-01-31/
CATEGORIES:Holy Liturgy
ATTACH;FMTTYPE=image/jpeg:https://stpaulcoptic.ca/wp-content/uploads/2023/12/liturgy-391x260-1.jpg
END:VEVENT
BEGIN:VEVENT
DTSTART;TZID=America/Toronto:20240201T193000
DTEND;TZID=America/Toronto:20240201T210000
DTSTAMP:20260421T181017
CREATED:20231218T210456Z
LAST-MODIFIED:20240227T040650Z
UID:10002975-1706815800-1706821200@stpaulcoptic.ca
SUMMARY:Choir
DESCRIPTION:High School\, University\, Adult
URL:https://stpaulcoptic.ca/events/choir/2024-02-01/
ATTACH;FMTTYPE=image/png:https://stpaulcoptic.ca/wp-content/uploads/2023/12/Choir.png
END:VEVENT
BEGIN:VEVENT
DTSTART;TZID=America/Toronto:20240201T193000
DTEND;TZID=America/Toronto:20240201T210000
DTSTAMP:20260421T181017
CREATED:20240227T033004Z
LAST-MODIFIED:20240227T033006Z
UID:10001327-1706815800-1706821200@stpaulcoptic.ca
SUMMARY:Choir (Canceled)
DESCRIPTION:High School\, University\, Adult
URL:https://stpaulcoptic.ca/events/choir-8/
END:VEVENT
BEGIN:VEVENT
DTSTART;TZID=America/Toronto:20240202T190000
DTEND;TZID=America/Toronto:20240202T203000
DTSTAMP:20260421T181017
CREATED:20231218T204117Z
LAST-MODIFIED:20240815T023605Z
UID:10000807-1706900400-1706905800@stpaulcoptic.ca
SUMMARY:Sunday School
DESCRIPTION:
URL:https://stpaulcoptic.ca/events/sunday-school/2024-02-02/
ATTACH;FMTTYPE=image/png:https://stpaulcoptic.ca/wp-content/uploads/2020/04/Sunday-School.png
END:VEVENT
BEGIN:VEVENT
DTSTART;TZID=America/Toronto:20240203T090000
DTEND;TZID=America/Toronto:20240203T110000
DTSTAMP:20260421T181017
CREATED:20231220T050251Z
LAST-MODIFIED:20240227T022810Z
UID:10001846-1706950800-1706958000@stpaulcoptic.ca
SUMMARY:Liturgy
DESCRIPTION:
URL:https://stpaulcoptic.ca/events/24571/2024-02-03/
ATTACH;FMTTYPE=image/jpeg:https://stpaulcoptic.ca/wp-content/uploads/2023/12/liturgy-391x260-1.jpg
END:VEVENT
BEGIN:VEVENT
DTSTART;TZID=America/Toronto:20240203T193000
DTEND;TZID=America/Toronto:20240203T200000
DTSTAMP:20260421T181017
CREATED:20240117T002300Z
LAST-MODIFIED:20240117T002301Z
UID:10002267-1706988600-1706990400@stpaulcoptic.ca
SUMMARY:Vespers Prayers
DESCRIPTION:
URL:https://stpaulcoptic.ca/events/vespers-prayers-3/2024-02-03/
END:VEVENT
BEGIN:VEVENT
DTSTART;TZID=America/Toronto:20240204T083000
DTEND;TZID=America/Toronto:20240204T113000
DTSTAMP:20260421T181017
CREATED:20231218T201920Z
LAST-MODIFIED:20231220T045034Z
UID:10000287-1707035400-1707046200@stpaulcoptic.ca
SUMMARY:Liturgy
DESCRIPTION:
URL:https://stpaulcoptic.ca/events/liturgy/2024-02-04/
ATTACH;FMTTYPE=image/jpeg:https://stpaulcoptic.ca/wp-content/uploads/2023/12/liturgy-391x260-1.jpg
END:VEVENT
BEGIN:VEVENT
DTSTART;TZID=America/Toronto:20240204T083000
DTEND;TZID=America/Toronto:20240204T113000
DTSTAMP:20260421T181017
CREATED:20240207T050409Z
LAST-MODIFIED:20240207T050410Z
UID:10002532-1707035400-1707046200@stpaulcoptic.ca
SUMMARY:Liturgy
DESCRIPTION:
URL:https://stpaulcoptic.ca/events/liturgy-12/
ATTACH;FMTTYPE=image/jpeg:https://stpaulcoptic.ca/wp-content/uploads/2023/12/liturgy-391x260-1.jpg
END:VEVENT
BEGIN:VEVENT
DTSTART;TZID=America/Toronto:20240204T120000
DTEND;TZID=America/Toronto:20240204T133000
DTSTAMP:20260421T181017
CREATED:20231218T204223Z
LAST-MODIFIED:20231220T192941Z
UID:10000027-1707048000-1707053400@stpaulcoptic.ca
SUMMARY:Bible Study
DESCRIPTION:
URL:https://stpaulcoptic.ca/events/bible-study/2024-02-04/
ATTACH;FMTTYPE=image/jpeg:https://stpaulcoptic.ca/wp-content/uploads/2023/12/Bible-sudy.jpg
END:VEVENT
END:VCALENDAR