BEGIN:VCALENDAR
VERSION:2.0
PRODID:-//ST PAUL COPTIC - ECPv6.15.12.2//NONSGML v1.0//EN
CALSCALE:GREGORIAN
METHOD:PUBLISH
X-WR-CALNAME:ST PAUL COPTIC
X-ORIGINAL-URL:https://stpaulcoptic.ca
X-WR-CALDESC:Events for ST PAUL COPTIC
REFRESH-INTERVAL;VALUE=DURATION:PT1H
X-Robots-Tag:noindex
X-PUBLISHED-TTL:PT1H
BEGIN:VTIMEZONE
TZID:America/Toronto
BEGIN:DAYLIGHT
TZOFFSETFROM:-0500
TZOFFSETTO:-0400
TZNAME:EDT
DTSTART:20230312T070000
END:DAYLIGHT
BEGIN:STANDARD
TZOFFSETFROM:-0400
TZOFFSETTO:-0500
TZNAME:EST
DTSTART:20231105T060000
END:STANDARD
BEGIN:DAYLIGHT
TZOFFSETFROM:-0500
TZOFFSETTO:-0400
TZNAME:EDT
DTSTART:20240310T070000
END:DAYLIGHT
BEGIN:STANDARD
TZOFFSETFROM:-0400
TZOFFSETTO:-0500
TZNAME:EST
DTSTART:20241103T060000
END:STANDARD
BEGIN:DAYLIGHT
TZOFFSETFROM:-0500
TZOFFSETTO:-0400
TZNAME:EDT
DTSTART:20250309T070000
END:DAYLIGHT
BEGIN:STANDARD
TZOFFSETFROM:-0400
TZOFFSETTO:-0500
TZNAME:EST
DTSTART:20251102T060000
END:STANDARD
END:VTIMEZONE
BEGIN:VEVENT
DTSTART;TZID=America/Toronto:20240206T190000
DTEND;TZID=America/Toronto:20240206T210000
DTSTAMP:20260421T193349
CREATED:20231218T210306Z
LAST-MODIFIED:20231220T193457Z
UID:10001588-1707246000-1707253200@stpaulcoptic.ca
SUMMARY:COCA
DESCRIPTION:Christian Orthodox Campus-Ministry Association
URL:https://stpaulcoptic.ca/events/coca/2024-02-06/
ATTACH;FMTTYPE=image/jpeg:https://stpaulcoptic.ca/wp-content/uploads/2023/12/coca.jpg
END:VEVENT
BEGIN:VEVENT
DTSTART;TZID=America/Toronto:20240207T083000
DTEND;TZID=America/Toronto:20240207T110000
DTSTAMP:20260421T193349
CREATED:20231220T051303Z
LAST-MODIFIED:20240227T022910Z
UID:10001981-1707294600-1707303600@stpaulcoptic.ca
SUMMARY:Liturgy
DESCRIPTION:
URL:https://stpaulcoptic.ca/events/liturgy-3/2024-02-07/
CATEGORIES:Holy Liturgy
ATTACH;FMTTYPE=image/jpeg:https://stpaulcoptic.ca/wp-content/uploads/2023/12/liturgy-391x260-1.jpg
END:VEVENT
BEGIN:VEVENT
DTSTART;TZID=America/Toronto:20240207T083000
DTEND;TZID=America/Toronto:20240207T110000
DTSTAMP:20260421T193349
CREATED:20240227T022930Z
LAST-MODIFIED:20240227T022932Z
UID:10002550-1707294600-1707303600@stpaulcoptic.ca
SUMMARY:Liturgy
DESCRIPTION:
URL:https://stpaulcoptic.ca/events/liturgy-15/2024-02-07/
CATEGORIES:Holy Liturgy
ATTACH;FMTTYPE=image/jpeg:https://stpaulcoptic.ca/wp-content/uploads/2023/12/liturgy-391x260-1.jpg
END:VEVENT
BEGIN:VEVENT
DTSTART;TZID=America/Toronto:20240208T193000
DTEND;TZID=America/Toronto:20240208T210000
DTSTAMP:20260421T193349
CREATED:20231218T210456Z
LAST-MODIFIED:20240227T040650Z
UID:10001328-1707420600-1707426000@stpaulcoptic.ca
SUMMARY:Choir
DESCRIPTION:High School\, University\, Adult
URL:https://stpaulcoptic.ca/events/choir/2024-02-08/
ATTACH;FMTTYPE=image/png:https://stpaulcoptic.ca/wp-content/uploads/2023/12/Choir.png
END:VEVENT
BEGIN:VEVENT
DTSTART;TZID=America/Toronto:20240209T053000
DTEND;TZID=America/Toronto:20240209T083000
DTSTAMP:20260421T193349
CREATED:20240207T050714Z
LAST-MODIFIED:20240207T052325Z
UID:10002533-1707456600-1707467400@stpaulcoptic.ca
SUMMARY:Liturgy
DESCRIPTION:
URL:https://stpaulcoptic.ca/events/liturgy-13/
CATEGORIES:Holy Liturgy
ATTACH;FMTTYPE=image/jpeg:https://stpaulcoptic.ca/wp-content/uploads/2023/12/liturgy-391x260-1.jpg
END:VEVENT
BEGIN:VEVENT
DTSTART;TZID=America/Toronto:20240209T190000
DTEND;TZID=America/Toronto:20240209T203000
DTSTAMP:20260421T193349
CREATED:20231218T204117Z
LAST-MODIFIED:20240815T023605Z
UID:10000808-1707505200-1707510600@stpaulcoptic.ca
SUMMARY:Sunday School
DESCRIPTION:
URL:https://stpaulcoptic.ca/events/sunday-school/2024-02-09/
ATTACH;FMTTYPE=image/png:https://stpaulcoptic.ca/wp-content/uploads/2020/04/Sunday-School.png
END:VEVENT
BEGIN:VEVENT
DTSTART;TZID=America/Toronto:20240209T190000
DTEND;TZID=America/Toronto:20240209T203000
DTSTAMP:20260421T193349
CREATED:20240207T052224Z
LAST-MODIFIED:20240207T052630Z
UID:10002535-1707505200-1707510600@stpaulcoptic.ca
SUMMARY:Saint Paul's Feast Vespers Prayers عشية قداس عيد الأنبا بولا
DESCRIPTION:Speech by our beloved Bishop Mina\n\n\n\n\n\nFollowed by our little Angles Choir\n\n\n\n\n\nThen Aghaby gathering downstairs
URL:https://stpaulcoptic.ca/events/saint-pauls-feast-vespers-prayers-%d8%b9%d8%b4%d9%8a%d8%a9-%d9%82%d8%af%d8%a7%d8%b3-%d8%b9%d9%8a%d8%af-%d8%a7%d9%84%d8%a3%d9%86%d8%a8%d8%a7-%d8%a8%d9%88%d9%84%d8%a7/
ATTACH;FMTTYPE=image/jpeg:https://stpaulcoptic.ca/wp-content/uploads/2024/02/11cee594-3e27-415d-8b91-2a67f2d0951c.jpg
END:VEVENT
BEGIN:VEVENT
DTSTART;TZID=America/Toronto:20240210T083000
DTEND;TZID=America/Toronto:20240210T110000
DTSTAMP:20260421T193349
CREATED:20240207T051236Z
LAST-MODIFIED:20240207T051454Z
UID:10002534-1707553800-1707562800@stpaulcoptic.ca
SUMMARY:Liturgy
DESCRIPTION:
URL:https://stpaulcoptic.ca/events/liturgy-14/
ATTACH;FMTTYPE=image/jpeg:https://stpaulcoptic.ca/wp-content/uploads/2023/12/liturgy-391x260-1.jpg
END:VEVENT
BEGIN:VEVENT
DTSTART;TZID=America/Toronto:20240210T193000
DTEND;TZID=America/Toronto:20240210T200000
DTSTAMP:20260421T193349
CREATED:20240117T002300Z
LAST-MODIFIED:20240117T002301Z
UID:10002268-1707593400-1707595200@stpaulcoptic.ca
SUMMARY:Vespers Prayers
DESCRIPTION:
URL:https://stpaulcoptic.ca/events/vespers-prayers-3/2024-02-10/
END:VEVENT
BEGIN:VEVENT
DTSTART;TZID=America/Toronto:20240211T083000
DTEND;TZID=America/Toronto:20240211T113000
DTSTAMP:20260421T193349
CREATED:20231218T201920Z
LAST-MODIFIED:20231220T045034Z
UID:10000288-1707640200-1707651000@stpaulcoptic.ca
SUMMARY:Liturgy
DESCRIPTION:
URL:https://stpaulcoptic.ca/events/liturgy/2024-02-11/
ATTACH;FMTTYPE=image/jpeg:https://stpaulcoptic.ca/wp-content/uploads/2023/12/liturgy-391x260-1.jpg
END:VEVENT
BEGIN:VEVENT
DTSTART;TZID=America/Toronto:20240211T083000
DTEND;TZID=America/Toronto:20240211T113000
DTSTAMP:20260421T193349
CREATED:20240125T024108Z
LAST-MODIFIED:20240207T045538Z
UID:10002529-1707640200-1707651000@stpaulcoptic.ca
SUMMARY:Liturgy
DESCRIPTION:
URL:https://stpaulcoptic.ca/events/liturgy-10/
ATTACH;FMTTYPE=image/jpeg:https://stpaulcoptic.ca/wp-content/uploads/2023/12/liturgy-391x260-1.jpg
END:VEVENT
BEGIN:VEVENT
DTSTART;TZID=America/Toronto:20240211T120000
DTEND;TZID=America/Toronto:20240211T133000
DTSTAMP:20260421T193349
CREATED:20231218T204223Z
LAST-MODIFIED:20231220T192941Z
UID:10000028-1707652800-1707658200@stpaulcoptic.ca
SUMMARY:Bible Study
DESCRIPTION:
URL:https://stpaulcoptic.ca/events/bible-study/2024-02-11/
ATTACH;FMTTYPE=image/jpeg:https://stpaulcoptic.ca/wp-content/uploads/2023/12/Bible-sudy.jpg
END:VEVENT
END:VCALENDAR