BEGIN:VCALENDAR
VERSION:2.0
PRODID:-//ST PAUL COPTIC - ECPv6.15.12.2//NONSGML v1.0//EN
CALSCALE:GREGORIAN
METHOD:PUBLISH
X-ORIGINAL-URL:https://stpaulcoptic.ca
X-WR-CALDESC:Events for ST PAUL COPTIC
REFRESH-INTERVAL;VALUE=DURATION:PT1H
X-Robots-Tag:noindex
X-PUBLISHED-TTL:PT1H
BEGIN:VTIMEZONE
TZID:America/Toronto
BEGIN:DAYLIGHT
TZOFFSETFROM:-0500
TZOFFSETTO:-0400
TZNAME:EDT
DTSTART:20230312T070000
END:DAYLIGHT
BEGIN:STANDARD
TZOFFSETFROM:-0400
TZOFFSETTO:-0500
TZNAME:EST
DTSTART:20231105T060000
END:STANDARD
BEGIN:DAYLIGHT
TZOFFSETFROM:-0500
TZOFFSETTO:-0400
TZNAME:EDT
DTSTART:20240310T070000
END:DAYLIGHT
BEGIN:STANDARD
TZOFFSETFROM:-0400
TZOFFSETTO:-0500
TZNAME:EST
DTSTART:20241103T060000
END:STANDARD
BEGIN:DAYLIGHT
TZOFFSETFROM:-0500
TZOFFSETTO:-0400
TZNAME:EDT
DTSTART:20250309T070000
END:DAYLIGHT
BEGIN:STANDARD
TZOFFSETFROM:-0400
TZOFFSETTO:-0500
TZNAME:EST
DTSTART:20251102T060000
END:STANDARD
END:VTIMEZONE
BEGIN:VEVENT
DTSTART;TZID=America/Toronto:20240213T190000
DTEND;TZID=America/Toronto:20240213T210000
DTSTAMP:20260421T210215
CREATED:20231218T210306Z
LAST-MODIFIED:20231220T193457Z
UID:10001589-1707850800-1707858000@stpaulcoptic.ca
SUMMARY:COCA
DESCRIPTION:Christian Orthodox Campus-Ministry Association
URL:https://stpaulcoptic.ca/events/coca/2024-02-13/
ATTACH;FMTTYPE=image/jpeg:https://stpaulcoptic.ca/wp-content/uploads/2023/12/coca.jpg
END:VEVENT
BEGIN:VEVENT
DTSTART;TZID=America/Toronto:20240214T083000
DTEND;TZID=America/Toronto:20240214T110000
DTSTAMP:20260421T210215
CREATED:20231220T051303Z
LAST-MODIFIED:20240227T022910Z
UID:10001982-1707899400-1707908400@stpaulcoptic.ca
SUMMARY:Liturgy
DESCRIPTION:
URL:https://stpaulcoptic.ca/events/liturgy-3/2024-02-14/
CATEGORIES:Holy Liturgy
ATTACH;FMTTYPE=image/jpeg:https://stpaulcoptic.ca/wp-content/uploads/2023/12/liturgy-391x260-1.jpg
END:VEVENT
BEGIN:VEVENT
DTSTART;TZID=America/Toronto:20240214T083000
DTEND;TZID=America/Toronto:20240214T110000
DTSTAMP:20260421T210215
CREATED:20240227T022930Z
LAST-MODIFIED:20240227T022932Z
UID:10002551-1707899400-1707908400@stpaulcoptic.ca
SUMMARY:Liturgy
DESCRIPTION:
URL:https://stpaulcoptic.ca/events/liturgy-15/2024-02-14/
CATEGORIES:Holy Liturgy
ATTACH;FMTTYPE=image/jpeg:https://stpaulcoptic.ca/wp-content/uploads/2023/12/liturgy-391x260-1.jpg
END:VEVENT
BEGIN:VEVENT
DTSTART;TZID=America/Toronto:20240215T193000
DTEND;TZID=America/Toronto:20240215T210000
DTSTAMP:20260421T210215
CREATED:20231218T210456Z
LAST-MODIFIED:20240227T040650Z
UID:10002976-1708025400-1708030800@stpaulcoptic.ca
SUMMARY:Choir
DESCRIPTION:High School\, University\, Adult
URL:https://stpaulcoptic.ca/events/choir/2024-02-15/
ATTACH;FMTTYPE=image/png:https://stpaulcoptic.ca/wp-content/uploads/2023/12/Choir.png
END:VEVENT
BEGIN:VEVENT
DTSTART;TZID=America/Toronto:20240215T193000
DTEND;TZID=America/Toronto:20240215T210000
DTSTAMP:20260421T210215
CREATED:20240227T032828Z
LAST-MODIFIED:20240227T032830Z
UID:10001329-1708025400-1708030800@stpaulcoptic.ca
SUMMARY:Choir (Canceled)
DESCRIPTION:High School\, University\, Adult
URL:https://stpaulcoptic.ca/events/choir-7/
END:VEVENT
BEGIN:VEVENT
DTSTART;TZID=America/Toronto:20240216T190000
DTEND;TZID=America/Toronto:20240216T203000
DTSTAMP:20260421T210215
CREATED:20231218T204117Z
LAST-MODIFIED:20240815T023605Z
UID:10000809-1708110000-1708115400@stpaulcoptic.ca
SUMMARY:Sunday School
DESCRIPTION:
URL:https://stpaulcoptic.ca/events/sunday-school/2024-02-16/
ATTACH;FMTTYPE=image/png:https://stpaulcoptic.ca/wp-content/uploads/2020/04/Sunday-School.png
END:VEVENT
BEGIN:VEVENT
DTSTART;TZID=America/Toronto:20240217T090000
DTEND;TZID=America/Toronto:20240217T110000
DTSTAMP:20260421T210215
CREATED:20231220T050251Z
LAST-MODIFIED:20240227T022810Z
UID:10001847-1708160400-1708167600@stpaulcoptic.ca
SUMMARY:Liturgy
DESCRIPTION:
URL:https://stpaulcoptic.ca/events/24571/2024-02-17/
ATTACH;FMTTYPE=image/jpeg:https://stpaulcoptic.ca/wp-content/uploads/2023/12/liturgy-391x260-1.jpg
END:VEVENT
BEGIN:VEVENT
DTSTART;TZID=America/Toronto:20240217T193000
DTEND;TZID=America/Toronto:20240217T200000
DTSTAMP:20260421T210215
CREATED:20240117T002300Z
LAST-MODIFIED:20240117T002301Z
UID:10002269-1708198200-1708200000@stpaulcoptic.ca
SUMMARY:Vespers Prayers
DESCRIPTION:
URL:https://stpaulcoptic.ca/events/vespers-prayers-3/2024-02-17/
END:VEVENT
BEGIN:VEVENT
DTSTART;TZID=America/Toronto:20240218T083000
DTEND;TZID=America/Toronto:20240218T113000
DTSTAMP:20260421T210215
CREATED:20231218T201920Z
LAST-MODIFIED:20231220T045034Z
UID:10000289-1708245000-1708255800@stpaulcoptic.ca
SUMMARY:Liturgy
DESCRIPTION:
URL:https://stpaulcoptic.ca/events/liturgy/2024-02-18/
ATTACH;FMTTYPE=image/jpeg:https://stpaulcoptic.ca/wp-content/uploads/2023/12/liturgy-391x260-1.jpg
END:VEVENT
BEGIN:VEVENT
DTSTART;TZID=America/Toronto:20240218T120000
DTEND;TZID=America/Toronto:20240218T133000
DTSTAMP:20260421T210215
CREATED:20231218T204223Z
LAST-MODIFIED:20231220T192941Z
UID:10000029-1708257600-1708263000@stpaulcoptic.ca
SUMMARY:Bible Study
DESCRIPTION:
URL:https://stpaulcoptic.ca/events/bible-study/2024-02-18/
ATTACH;FMTTYPE=image/jpeg:https://stpaulcoptic.ca/wp-content/uploads/2023/12/Bible-sudy.jpg
END:VEVENT
END:VCALENDAR