BEGIN:VCALENDAR
VERSION:2.0
PRODID:-//ST PAUL COPTIC - ECPv6.15.12.2//NONSGML v1.0//EN
CALSCALE:GREGORIAN
METHOD:PUBLISH
X-WR-CALNAME:ST PAUL COPTIC
X-ORIGINAL-URL:https://stpaulcoptic.ca
X-WR-CALDESC:Events for ST PAUL COPTIC
REFRESH-INTERVAL;VALUE=DURATION:PT1H
X-Robots-Tag:noindex
X-PUBLISHED-TTL:PT1H
BEGIN:VTIMEZONE
TZID:America/Toronto
BEGIN:DAYLIGHT
TZOFFSETFROM:-0500
TZOFFSETTO:-0400
TZNAME:EDT
DTSTART:20230312T070000
END:DAYLIGHT
BEGIN:STANDARD
TZOFFSETFROM:-0400
TZOFFSETTO:-0500
TZNAME:EST
DTSTART:20231105T060000
END:STANDARD
BEGIN:DAYLIGHT
TZOFFSETFROM:-0500
TZOFFSETTO:-0400
TZNAME:EDT
DTSTART:20240310T070000
END:DAYLIGHT
BEGIN:STANDARD
TZOFFSETFROM:-0400
TZOFFSETTO:-0500
TZNAME:EST
DTSTART:20241103T060000
END:STANDARD
BEGIN:DAYLIGHT
TZOFFSETFROM:-0500
TZOFFSETTO:-0400
TZNAME:EDT
DTSTART:20250309T070000
END:DAYLIGHT
BEGIN:STANDARD
TZOFFSETFROM:-0400
TZOFFSETTO:-0500
TZNAME:EST
DTSTART:20251102T060000
END:STANDARD
END:VTIMEZONE
BEGIN:VEVENT
DTSTART;TZID=America/Toronto:20240514T190000
DTEND;TZID=America/Toronto:20240514T210000
DTSTAMP:20260424T185400
CREATED:20231218T210306Z
LAST-MODIFIED:20231220T193457Z
UID:10001602-1715713200-1715720400@stpaulcoptic.ca
SUMMARY:COCA
DESCRIPTION:Christian Orthodox Campus-Ministry Association
URL:https://stpaulcoptic.ca/events/coca/2024-05-14/
ATTACH;FMTTYPE=image/jpeg:https://stpaulcoptic.ca/wp-content/uploads/2023/12/coca.jpg
END:VEVENT
BEGIN:VEVENT
DTSTART;TZID=America/Toronto:20240515T083000
DTEND;TZID=America/Toronto:20240515T110000
DTSTAMP:20260424T185400
CREATED:20240510T194917Z
LAST-MODIFIED:20240510T194926Z
UID:10001995-1715761800-1715770800@stpaulcoptic.ca
SUMMARY:Liturgy (CANCELED)
DESCRIPTION:
URL:https://stpaulcoptic.ca/events/liturgy-31/
CATEGORIES:Holy Liturgy
ATTACH;FMTTYPE=image/jpeg:https://stpaulcoptic.ca/wp-content/uploads/2023/12/liturgy-391x260-1.jpg
END:VEVENT
BEGIN:VEVENT
DTSTART;TZID=America/Toronto:20240515T193000
DTEND;TZID=America/Toronto:20240515T210000
DTSTAMP:20260424T185400
CREATED:20240312T022133Z
LAST-MODIFIED:20240320T222815Z
UID:10002997-1715801400-1715806800@stpaulcoptic.ca
SUMMARY:Choir
DESCRIPTION:High School\, University\, Adult
URL:https://stpaulcoptic.ca/events/choir-9/2024-05-15/
ATTACH;FMTTYPE=image/png:https://stpaulcoptic.ca/wp-content/uploads/2023/12/Choir.png
END:VEVENT
BEGIN:VEVENT
DTSTART;TZID=America/Toronto:20240517T053000
DTEND;TZID=America/Toronto:20240517T073000
DTSTAMP:20260424T185400
CREATED:20240510T195036Z
LAST-MODIFIED:20240510T195048Z
UID:10001082-1715923800-1715931000@stpaulcoptic.ca
SUMMARY:Liturgy (CANCELED)
DESCRIPTION:
URL:https://stpaulcoptic.ca/events/liturgy-32/
ATTACH;FMTTYPE=image/jpeg:https://stpaulcoptic.ca/wp-content/uploads/2023/12/liturgy-391x260-1.jpg
END:VEVENT
BEGIN:VEVENT
DTSTART;TZID=America/Toronto:20240517T190000
DTEND;TZID=America/Toronto:20240517T203000
DTSTAMP:20260424T185400
CREATED:20231218T204117Z
LAST-MODIFIED:20240815T023605Z
UID:10000822-1715972400-1715977800@stpaulcoptic.ca
SUMMARY:Sunday School
DESCRIPTION:
URL:https://stpaulcoptic.ca/events/sunday-school/2024-05-17/
ATTACH;FMTTYPE=image/png:https://stpaulcoptic.ca/wp-content/uploads/2020/04/Sunday-School.png
END:VEVENT
BEGIN:VEVENT
DTSTART;TZID=America/Toronto:20240518T193000
DTEND;TZID=America/Toronto:20240518T200000
DTSTAMP:20260424T185400
CREATED:20240117T002300Z
LAST-MODIFIED:20240117T002301Z
UID:10002282-1716060600-1716062400@stpaulcoptic.ca
SUMMARY:Vespers Prayers
DESCRIPTION:
URL:https://stpaulcoptic.ca/events/vespers-prayers-3/2024-05-18/
END:VEVENT
BEGIN:VEVENT
DTSTART;TZID=America/Toronto:20240519T083000
DTEND;TZID=America/Toronto:20240519T113000
DTSTAMP:20260424T185400
CREATED:20231218T201920Z
LAST-MODIFIED:20231220T045034Z
UID:10000302-1716107400-1716118200@stpaulcoptic.ca
SUMMARY:Liturgy
DESCRIPTION:
URL:https://stpaulcoptic.ca/events/liturgy/2024-05-19/
ATTACH;FMTTYPE=image/jpeg:https://stpaulcoptic.ca/wp-content/uploads/2023/12/liturgy-391x260-1.jpg
END:VEVENT
BEGIN:VEVENT
DTSTART;TZID=America/Toronto:20240519T120000
DTEND;TZID=America/Toronto:20240519T133000
DTSTAMP:20260424T185400
CREATED:20231218T204223Z
LAST-MODIFIED:20231220T192941Z
UID:10000042-1716120000-1716125400@stpaulcoptic.ca
SUMMARY:Bible Study
DESCRIPTION:
URL:https://stpaulcoptic.ca/events/bible-study/2024-05-19/
ATTACH;FMTTYPE=image/jpeg:https://stpaulcoptic.ca/wp-content/uploads/2023/12/Bible-sudy.jpg
END:VEVENT
END:VCALENDAR