BEGIN:VCALENDAR
VERSION:2.0
PRODID:-//ST PAUL COPTIC - ECPv6.15.12.2//NONSGML v1.0//EN
CALSCALE:GREGORIAN
METHOD:PUBLISH
X-WR-CALNAME:ST PAUL COPTIC
X-ORIGINAL-URL:https://stpaulcoptic.ca
X-WR-CALDESC:Events for ST PAUL COPTIC
REFRESH-INTERVAL;VALUE=DURATION:PT1H
X-Robots-Tag:noindex
X-PUBLISHED-TTL:PT1H
BEGIN:VTIMEZONE
TZID:America/Toronto
BEGIN:DAYLIGHT
TZOFFSETFROM:-0500
TZOFFSETTO:-0400
TZNAME:EDT
DTSTART:20230312T070000
END:DAYLIGHT
BEGIN:STANDARD
TZOFFSETFROM:-0400
TZOFFSETTO:-0500
TZNAME:EST
DTSTART:20231105T060000
END:STANDARD
BEGIN:DAYLIGHT
TZOFFSETFROM:-0500
TZOFFSETTO:-0400
TZNAME:EDT
DTSTART:20240310T070000
END:DAYLIGHT
BEGIN:STANDARD
TZOFFSETFROM:-0400
TZOFFSETTO:-0500
TZNAME:EST
DTSTART:20241103T060000
END:STANDARD
BEGIN:DAYLIGHT
TZOFFSETFROM:-0500
TZOFFSETTO:-0400
TZNAME:EDT
DTSTART:20250309T070000
END:DAYLIGHT
BEGIN:STANDARD
TZOFFSETFROM:-0400
TZOFFSETTO:-0500
TZNAME:EST
DTSTART:20251102T060000
END:STANDARD
END:VTIMEZONE
BEGIN:VEVENT
DTSTART;TZID=America/Toronto:20240729T083000
DTEND;TZID=America/Toronto:20240729T163000
DTSTAMP:20260424T224855
CREATED:20240227T035042Z
LAST-MODIFIED:20240227T035919Z
UID:10002967-1722241800-1722270600@stpaulcoptic.ca
SUMMARY:Kids Summer Camp
DESCRIPTION:
URL:https://stpaulcoptic.ca/events/kids-summer-camp/2024-07-29/
ATTACH;FMTTYPE=image/jpeg:https://stpaulcoptic.ca/wp-content/uploads/2024/02/PHOTO-2024-02-17-16-35-24.jpg
END:VEVENT
BEGIN:VEVENT
DTSTART;TZID=America/Toronto:20240730T083000
DTEND;TZID=America/Toronto:20240730T163000
DTSTAMP:20260424T224855
CREATED:20240227T035042Z
LAST-MODIFIED:20240227T035919Z
UID:10002968-1722328200-1722357000@stpaulcoptic.ca
SUMMARY:Kids Summer Camp
DESCRIPTION:
URL:https://stpaulcoptic.ca/events/kids-summer-camp/2024-07-30/
ATTACH;FMTTYPE=image/jpeg:https://stpaulcoptic.ca/wp-content/uploads/2024/02/PHOTO-2024-02-17-16-35-24.jpg
END:VEVENT
BEGIN:VEVENT
DTSTART;TZID=America/Toronto:20240730T190000
DTEND;TZID=America/Toronto:20240730T210000
DTSTAMP:20260424T224855
CREATED:20231218T210306Z
LAST-MODIFIED:20231220T193457Z
UID:10001613-1722366000-1722373200@stpaulcoptic.ca
SUMMARY:COCA
DESCRIPTION:Christian Orthodox Campus-Ministry Association
URL:https://stpaulcoptic.ca/events/coca/2024-07-30/
ATTACH;FMTTYPE=image/jpeg:https://stpaulcoptic.ca/wp-content/uploads/2023/12/coca.jpg
END:VEVENT
BEGIN:VEVENT
DTSTART;TZID=America/Toronto:20240731T083000
DTEND;TZID=America/Toronto:20240731T110000
DTSTAMP:20260424T224855
CREATED:20240227T022930Z
LAST-MODIFIED:20240227T022932Z
UID:10002006-1722414600-1722423600@stpaulcoptic.ca
SUMMARY:Liturgy
DESCRIPTION:
URL:https://stpaulcoptic.ca/events/liturgy-15/2024-07-31/
CATEGORIES:Holy Liturgy
ATTACH;FMTTYPE=image/jpeg:https://stpaulcoptic.ca/wp-content/uploads/2023/12/liturgy-391x260-1.jpg
END:VEVENT
BEGIN:VEVENT
DTSTART;TZID=America/Toronto:20240802T190000
DTEND;TZID=America/Toronto:20240802T203000
DTSTAMP:20260424T224855
CREATED:20231218T204117Z
LAST-MODIFIED:20240815T023605Z
UID:10000833-1722625200-1722630600@stpaulcoptic.ca
SUMMARY:Sunday School
DESCRIPTION:
URL:https://stpaulcoptic.ca/events/sunday-school/2024-08-02/
ATTACH;FMTTYPE=image/png:https://stpaulcoptic.ca/wp-content/uploads/2020/04/Sunday-School.png
END:VEVENT
BEGIN:VEVENT
DTSTART;TZID=America/Toronto:20240803T090000
DTEND;TZID=America/Toronto:20240803T110000
DTSTAMP:20260424T224855
CREATED:20240510T195932Z
LAST-MODIFIED:20240510T195944Z
UID:10003656-1722675600-1722682800@stpaulcoptic.ca
SUMMARY:Liturgy
DESCRIPTION:
URL:https://stpaulcoptic.ca/events/liturgy-37/2024-08-03/
ATTACH;FMTTYPE=image/jpeg:https://stpaulcoptic.ca/wp-content/uploads/2023/12/liturgy-391x260-1.jpg
END:VEVENT
BEGIN:VEVENT
DTSTART;TZID=America/Toronto:20240803T193000
DTEND;TZID=America/Toronto:20240803T200000
DTSTAMP:20260424T224855
CREATED:20240117T002300Z
LAST-MODIFIED:20240117T002301Z
UID:10002293-1722713400-1722715200@stpaulcoptic.ca
SUMMARY:Vespers Prayers
DESCRIPTION:
URL:https://stpaulcoptic.ca/events/vespers-prayers-3/2024-08-03/
END:VEVENT
BEGIN:VEVENT
DTSTART;TZID=America/Toronto:20240804T083000
DTEND;TZID=America/Toronto:20240804T113000
DTSTAMP:20260424T224855
CREATED:20231218T201920Z
LAST-MODIFIED:20231220T045034Z
UID:10000313-1722760200-1722771000@stpaulcoptic.ca
SUMMARY:Liturgy
DESCRIPTION:
URL:https://stpaulcoptic.ca/events/liturgy/2024-08-04/
ATTACH;FMTTYPE=image/jpeg:https://stpaulcoptic.ca/wp-content/uploads/2023/12/liturgy-391x260-1.jpg
END:VEVENT
BEGIN:VEVENT
DTSTART;TZID=America/Toronto:20240804T120000
DTEND;TZID=America/Toronto:20240804T133000
DTSTAMP:20260424T224855
CREATED:20231218T204223Z
LAST-MODIFIED:20231220T192941Z
UID:10000053-1722772800-1722778200@stpaulcoptic.ca
SUMMARY:Bible Study
DESCRIPTION:
URL:https://stpaulcoptic.ca/events/bible-study/2024-08-04/
ATTACH;FMTTYPE=image/jpeg:https://stpaulcoptic.ca/wp-content/uploads/2023/12/Bible-sudy.jpg
END:VEVENT
END:VCALENDAR