BEGIN:VCALENDAR
VERSION:2.0
PRODID:-//ST PAUL COPTIC - ECPv6.15.12.2//NONSGML v1.0//EN
CALSCALE:GREGORIAN
METHOD:PUBLISH
X-WR-CALNAME:ST PAUL COPTIC
X-ORIGINAL-URL:https://stpaulcoptic.ca
X-WR-CALDESC:Events for ST PAUL COPTIC
REFRESH-INTERVAL;VALUE=DURATION:PT1H
X-Robots-Tag:noindex
X-PUBLISHED-TTL:PT1H
BEGIN:VTIMEZONE
TZID:America/Toronto
BEGIN:DAYLIGHT
TZOFFSETFROM:-0500
TZOFFSETTO:-0400
TZNAME:EDT
DTSTART:20240310T070000
END:DAYLIGHT
BEGIN:STANDARD
TZOFFSETFROM:-0400
TZOFFSETTO:-0500
TZNAME:EST
DTSTART:20241103T060000
END:STANDARD
BEGIN:DAYLIGHT
TZOFFSETFROM:-0500
TZOFFSETTO:-0400
TZNAME:EDT
DTSTART:20250309T070000
END:DAYLIGHT
BEGIN:STANDARD
TZOFFSETFROM:-0400
TZOFFSETTO:-0500
TZNAME:EST
DTSTART:20251102T060000
END:STANDARD
BEGIN:DAYLIGHT
TZOFFSETFROM:-0500
TZOFFSETTO:-0400
TZNAME:EDT
DTSTART:20260308T070000
END:DAYLIGHT
BEGIN:STANDARD
TZOFFSETFROM:-0400
TZOFFSETTO:-0500
TZNAME:EST
DTSTART:20261101T060000
END:STANDARD
END:VTIMEZONE
BEGIN:VEVENT
DTSTART;TZID=America/Toronto:20250902T190000
DTEND;TZID=America/Toronto:20250902T210000
DTSTAMP:20260423T025904
CREATED:20231218T210306Z
LAST-MODIFIED:20231220T193457Z
UID:10001670-1756839600-1756846800@stpaulcoptic.ca
SUMMARY:COCA
DESCRIPTION:Christian Orthodox Campus-Ministry Association
URL:https://stpaulcoptic.ca/events/coca/2025-09-02/
ATTACH;FMTTYPE=image/jpeg:https://stpaulcoptic.ca/wp-content/uploads/2023/12/coca.jpg
END:VEVENT
BEGIN:VEVENT
DTSTART;TZID=America/Toronto:20250903T083000
DTEND;TZID=America/Toronto:20250903T110000
DTSTAMP:20260423T025904
CREATED:20240227T022930Z
LAST-MODIFIED:20240227T022932Z
UID:10002063-1756888200-1756897200@stpaulcoptic.ca
SUMMARY:Liturgy
DESCRIPTION:
URL:https://stpaulcoptic.ca/events/liturgy-15/2025-09-03/
CATEGORIES:Holy Liturgy
ATTACH;FMTTYPE=image/jpeg:https://stpaulcoptic.ca/wp-content/uploads/2023/12/liturgy-391x260-1.jpg
END:VEVENT
BEGIN:VEVENT
DTSTART;TZID=America/Toronto:20250903T193000
DTEND;TZID=America/Toronto:20250903T213000
DTSTAMP:20260423T025904
CREATED:20250224T172506Z
LAST-MODIFIED:20251219T202445Z
UID:10006217-1756927800-1756935000@stpaulcoptic.ca
SUMMARY:Choir Practice
DESCRIPTION:High School\, University\, Adult
URL:https://stpaulcoptic.ca/events/choir-11/2025-09-03/
ATTACH;FMTTYPE=image/png:https://stpaulcoptic.ca/wp-content/uploads/2023/12/Choir.png
END:VEVENT
BEGIN:VEVENT
DTSTART;TZID=America/Toronto:20250905T053000
DTEND;TZID=America/Toronto:20250905T073000
DTSTAMP:20260423T025904
CREATED:20250212T214123Z
LAST-MODIFIED:20250212T214123Z
UID:10005948-1757050200-1757057400@stpaulcoptic.ca
SUMMARY:Liturgy
DESCRIPTION:
URL:https://stpaulcoptic.ca/events/liturgy-148/2025-09-05/
ATTACH;FMTTYPE=image/png:https://stpaulcoptic.ca/wp-content/uploads/2023/12/image.png
END:VEVENT
BEGIN:VEVENT
DTSTART;TZID=America/Toronto:20250905T190000
DTEND;TZID=America/Toronto:20250905T203000
DTSTAMP:20260423T025904
CREATED:20231218T204117Z
LAST-MODIFIED:20240815T023605Z
UID:10004164-1757098800-1757104200@stpaulcoptic.ca
SUMMARY:Sunday School
DESCRIPTION:
URL:https://stpaulcoptic.ca/events/sunday-school/2025-09-05/
ATTACH;FMTTYPE=image/png:https://stpaulcoptic.ca/wp-content/uploads/2020/04/Sunday-School.png
END:VEVENT
BEGIN:VEVENT
DTSTART;TZID=America/Toronto:20250906T193000
DTEND;TZID=America/Toronto:20250906T200000
DTSTAMP:20260423T025904
CREATED:20240117T002300Z
LAST-MODIFIED:20240117T002301Z
UID:10002350-1757187000-1757188800@stpaulcoptic.ca
SUMMARY:Vespers Prayers
DESCRIPTION:
URL:https://stpaulcoptic.ca/events/vespers-prayers-3/2025-09-06/
END:VEVENT
BEGIN:VEVENT
DTSTART;TZID=America/Toronto:20250907T083000
DTEND;TZID=America/Toronto:20250907T113000
DTSTAMP:20260423T025904
CREATED:20231218T201920Z
LAST-MODIFIED:20231220T045034Z
UID:10000370-1757233800-1757244600@stpaulcoptic.ca
SUMMARY:Liturgy
DESCRIPTION:
URL:https://stpaulcoptic.ca/events/liturgy/2025-09-07/
ATTACH;FMTTYPE=image/jpeg:https://stpaulcoptic.ca/wp-content/uploads/2023/12/liturgy-391x260-1.jpg
END:VEVENT
BEGIN:VEVENT
DTSTART;TZID=America/Toronto:20250907T120000
DTEND;TZID=America/Toronto:20250907T133000
DTSTAMP:20260423T025904
CREATED:20231218T204223Z
LAST-MODIFIED:20231220T192941Z
UID:10000110-1757246400-1757251800@stpaulcoptic.ca
SUMMARY:Bible Study
DESCRIPTION:
URL:https://stpaulcoptic.ca/events/bible-study/2025-09-07/
ATTACH;FMTTYPE=image/jpeg:https://stpaulcoptic.ca/wp-content/uploads/2023/12/Bible-sudy.jpg
END:VEVENT
END:VCALENDAR